![]() | Name | Last modified | Size | Description |
---|---|---|---|---|
![]() | Parent Directory | - | ||
![]() | buildsrc-out.txt | 14-Apr-2022 01:05 | 1.1K | |
![]() | buildsrc-summary.dcf | 14-Apr-2022 01:05 | 333 | |
![]() | checksrc-out.txt | 12-Apr-2022 01:04 | 3.6K | |
![]() | checksrc-summary.dcf | 12-Apr-2022 01:04 | 422 | |
![]() | install-out.txt | 14-Apr-2022 01:05 | 947 | |
![]() | install-summary.dcf | 14-Apr-2022 01:05 | 258 | |