Back to Multiple platform build/check report for BioC 3.14
AB[C]DEFGHIJKLMNOPQRSTUVWXYZ

This page was generated on 2021-11-26 15:05:45 -0500 (Fri, 26 Nov 2021).

CHECK results for conclus on machv2

To the developers/maintainers of the conclus package:
- Please allow up to 24 hours (and sometimes 48 hours) for your latest push to git@git.bioconductor.org:packages/conclus.git to
reflect on this report. See How and When does the builder pull? When will my changes propagate? here for more information.
- Make sure to use the following settings in order to reproduce any error or warning you see on this page.

raw results

Package 382/2083HostnameOS / ArchINSTALLBUILDCHECKBUILD BIN
conclus 1.2.0  (landing page)
Ilyess Rachedi
Snapshot Date: 2021-11-25 04:15:05 -0500 (Thu, 25 Nov 2021)
git_url: https://git.bioconductor.org/packages/conclus
git_branch: RELEASE_3_14
git_last_commit: 6bc832f
git_last_commit_date: 2021-10-26 13:08:31 -0500 (Tue, 26 Oct 2021)
nebbiolo2Linux (Ubuntu 20.04.3 LTS) / x86_64  OK    OK    OK  UNNEEDED, same version is already published
tokay2Windows Server 2012 R2 Standard / x64  OK    OK    OK    OK  UNNEEDED, same version is already published
machv2macOS 10.14.6 Mojave / x86_64  OK    OK    OK    OK  UNNEEDED, same version is already published

Summary

Package: conclus
Version: 1.2.0
Command: /Library/Frameworks/R.framework/Resources/bin/R CMD check --install=check:conclus.install-out.txt --library=/Library/Frameworks/R.framework/Resources/library --no-vignettes --timings conclus_1.2.0.tar.gz
StartedAt: 2021-11-25 15:16:54 -0500 (Thu, 25 Nov 2021)
EndedAt: 2021-11-25 15:29:31 -0500 (Thu, 25 Nov 2021)
EllapsedTime: 757.6 seconds
RetCode: 0
Status:   OK  
CheckDir: conclus.Rcheck
Warnings: 0

Command output

##############################################################################
##############################################################################
###
### Running command:
###
###   /Library/Frameworks/R.framework/Resources/bin/R CMD check --install=check:conclus.install-out.txt --library=/Library/Frameworks/R.framework/Resources/library --no-vignettes --timings conclus_1.2.0.tar.gz
###
##############################################################################
##############################################################################


* using log directory ‘/Users/biocbuild/bbs-3.14-bioc/meat/conclus.Rcheck’
* using R version 4.1.2 (2021-11-01)
* using platform: x86_64-apple-darwin17.0 (64-bit)
* using session charset: UTF-8
* using option ‘--no-vignettes’
* checking for file ‘conclus/DESCRIPTION’ ... OK
* this is package ‘conclus’ version ‘1.2.0’
* package encoding: UTF-8
* checking package namespace information ... OK
* checking package dependencies ... OK
* checking if this is a source package ... OK
* checking if there is a namespace ... OK
* checking for hidden files and directories ... OK
* checking for portable file names ... OK
* checking for sufficient/correct file permissions ... OK
* checking whether package ‘conclus’ can be installed ... OK
* checking installed package size ... OK
* checking package directory ... OK
* checking ‘build’ directory ... OK
* checking DESCRIPTION meta-information ... OK
* checking top-level files ... OK
* checking for left-over files ... OK
* checking index information ... OK
* checking package subdirectories ... OK
* checking R files for non-ASCII characters ... OK
* checking R files for syntax errors ... OK
* checking whether the package can be loaded ... OK
* checking whether the package can be loaded with stated dependencies ... OK
* checking whether the package can be unloaded cleanly ... OK
* checking whether the namespace can be loaded with stated dependencies ... OK
* checking whether the namespace can be unloaded cleanly ... OK
* checking dependencies in R code ... OK
* checking S3 generic/method consistency ... OK
* checking replacement functions ... OK
* checking foreign function calls ... OK
* checking R code for possible problems ... NOTE
.retrieveClustersNumberK: no visible global function definition for
  ‘median’
Undefined global functions or variables:
  median
Consider adding
  importFrom("stats", "median")
to your NAMESPACE file.
* checking Rd files ... OK
* checking Rd metadata ... OK
* checking Rd cross-references ... OK
* checking for missing documentation entries ... OK
* checking for code/documentation mismatches ... OK
* checking Rd \usage sections ... OK
* checking Rd contents ... OK
* checking for unstated dependencies in examples ... OK
* checking sizes of PDF files under ‘inst/doc’ ... OK
* checking files in ‘vignettes’ ... OK
* checking examples ... OK
Examples with CPU (user + system) or elapsed time > 5s
                                   user system elapsed
runCONCLUS                       16.731  0.242  94.523
retrieveFromGEO                  12.507  0.280  12.800
addClustering-scRNAseq            7.169  0.167  10.864
retrieveGenesInfo-scRNAseq        6.329  0.105  10.029
normaliseCountMatrix-scRNAseq     5.295  0.103   8.285
testClustering-scRNAseq           1.289  0.027  23.288
clusterCellsInternal-scRNAseq     1.224  0.016  22.234
runDBSCAN-scRNAseq                0.449  0.012  21.806
generateTSNECoordinates-scRNAseq  0.244  0.020  27.539
* checking for unstated dependencies in ‘tests’ ... OK
* checking tests ...
  Running ‘test-all.R’
 OK
* checking for unstated dependencies in vignettes ... OK
* checking package vignettes in ‘inst/doc’ ... OK
* checking running R code from vignettes ... SKIPPED
* checking re-building of vignette outputs ... SKIPPED
* checking PDF version of manual ... OK
* DONE

Status: 1 NOTE
See
  ‘/Users/biocbuild/bbs-3.14-bioc/meat/conclus.Rcheck/00check.log’
for details.



Installation output

conclus.Rcheck/00install.out

##############################################################################
##############################################################################
###
### Running command:
###
###   /Library/Frameworks/R.framework/Resources/bin/R CMD INSTALL conclus
###
##############################################################################
##############################################################################


* installing to library ‘/Library/Frameworks/R.framework/Versions/4.1/Resources/library’
* installing *source* package ‘conclus’ ...
** using staged installation
** R
** inst
** byte-compile and prepare package for lazy loading
** help
*** installing help indices
** building package indices
** installing vignettes
** testing if installed package can be loaded from temporary location
** testing if installed package can be loaded from final location
** testing if installed package keeps a record of temporary installation path
* DONE (conclus)

Tests output

conclus.Rcheck/tests/test-all.Rout


R version 4.1.2 (2021-11-01) -- "Bird Hippie"
Copyright (C) 2021 The R Foundation for Statistical Computing
Platform: x86_64-apple-darwin17.0 (64-bit)

R is free software and comes with ABSOLUTELY NO WARRANTY.
You are welcome to redistribute it under certain conditions.
Type 'license()' or 'licence()' for distribution details.

R is a collaborative project with many contributors.
Type 'contributors()' for more information and
'citation()' on how to cite R or R packages in publications.

Type 'demo()' for some demos, 'help()' for on-line help, or
'help.start()' for an HTML browser interface to help.
Type 'q()' to quit R.

> library("testthat")
> library("conclus")
Setting options('download.file.method.GEOquery'='auto')
Setting options('GEOquery.inmemory.gpl'=FALSE)

> test_check("conclus")
   Min. 1st Qu.  Median    Mean 3rd Qu.    Max. 
      1       1       1       1       1       1 
The following matrix shows how many times a number of clusters 'k' has been found among the dbscan solutions :
                        1  2  3 4 5
Number of clusters k :  1  2  4 5 3
Count :                50 12 12 6 4

Statistics about number of clusters 'k' among dbscan solutions:
   Min. 1st Qu.  Median    Mean 3rd Qu.    Max. 
  1.000   1.000   1.000   1.952   3.000   5.000 

Suggested clusters number to use in clusterCellsInternal() : clusterNumber=1.[ FAIL 0 | WARN 0 | SKIP 0 | PASS 279 ]
> 
> proc.time()
   user  system elapsed 
 50.901   1.490 145.927 

Example timings

conclus.Rcheck/conclus-Ex.timings

nameusersystemelapsed
addClustering-scRNAseq 7.169 0.16710.864
calculateClustersSimilarity-scRNAseq0.0630.0010.064
clusterCellsInternal-scRNAseq 1.224 0.01622.234
conclusCacheClear000
constructors0.0170.0030.021
exportResults-scRNAseq0.1860.0320.219
generateTSNECoordinates-scRNAseq 0.244 0.02027.539
getters0.0140.0030.015
loadDataOrMatrix0.0130.0040.017
normaliseCountMatrix-scRNAseq5.2950.1038.285
plotCellHeatmap0.1480.0040.152
plotCellSimilarity-scRNAseq0.1360.0020.139
plotClusteredTSNE-scRNAseq0.5550.0300.586
plotClustersSimilarity0.0940.0090.104
plotGeneExpression-scRNAseq0.2560.0270.284
rankGenes-scRNAseq0.2630.0060.268
retrieveFromGEO12.507 0.28012.800
retrieveGenesInfo-scRNAseq 6.329 0.10510.029
retrieveTableClustersCells-scRNAseq0.0300.0010.031
retrieveTopClustersMarkers-scRNAseq0.0480.0010.049
runCONCLUS16.731 0.24294.523
runDBSCAN-scRNAseq 0.449 0.01221.806
setters0.0280.0020.030
testClustering-scRNAseq 1.289 0.02723.288