Back to Multiple platform build/check report for BioC 3.14
AB[C]DEFGHIJKLMNOPQRSTUVWXYZ

This page was generated on 2021-12-06 13:05:53 -0500 (Mon, 06 Dec 2021).

BUILD BIN results for combi on machv2

To the developers/maintainers of the combi package:
- Please allow up to 24 hours (and sometimes 48 hours) for your latest push to git@git.bioconductor.org:packages/combi.git to
reflect on this report. See How and When does the builder pull? When will my changes propagate? here for more information.
- Make sure to use the following settings in order to reproduce any error or warning you see on this page.

raw results

Package 374/2083HostnameOS / ArchINSTALLBUILDCHECKBUILD BIN
combi 1.6.0  (landing page)
Joris Meys
Snapshot Date: 2021-12-05 01:55:05 -0500 (Sun, 05 Dec 2021)
git_url: https://git.bioconductor.org/packages/combi
git_branch: RELEASE_3_14
git_last_commit: dcf1756
git_last_commit_date: 2021-10-26 12:58:09 -0500 (Tue, 26 Oct 2021)
nebbiolo2Linux (Ubuntu 20.04.3 LTS) / x86_64  OK    OK    OK  UNNEEDED, same version is already published
tokay2Windows Server 2012 R2 Standard / x64  OK    OK    OK    OK  UNNEEDED, same version is already published
machv2macOS 10.14.6 Mojave / x86_64  OK    OK    OK    OK  UNNEEDED, same version is already published

Summary

Package: combi
Version: 1.6.0
Command: rm -rf combi.buildbin-libdir && mkdir combi.buildbin-libdir && /Users/biocbuild/BBS/utils/build-universal.sh combi_1.6.0.tar.gz /Library/Frameworks/R.framework/Resources/bin/R combi.buildbin-libdir
StartedAt: 2021-12-05 21:46:05 -0500 (Sun, 05 Dec 2021)
EndedAt: 2021-12-05 21:47:16 -0500 (Sun, 05 Dec 2021)
EllapsedTime: 71.8 seconds
RetCode: 0
Status:   OK  
PackageFile: combi_1.6.0.tgz
PackageFileSize: 1.393 MiB

Command output

##############################################################################
##############################################################################
###
### Running command:
###
###   rm -rf combi.buildbin-libdir && mkdir combi.buildbin-libdir && /Users/biocbuild/BBS/utils/build-universal.sh combi_1.6.0.tar.gz /Library/Frameworks/R.framework/Resources/bin/R combi.buildbin-libdir
###
##############################################################################
##############################################################################


>>>>>>> 
>>>>>>> INSTALLATION WITH 'R CMD INSTALL --preclean --no-multiarch --library=combi.buildbin-libdir combi_1.6.0.tar.gz'
>>>>>>> 

* installing *source* package ‘combi’ ...
** using staged installation
** R
** data
** inst
** byte-compile and prepare package for lazy loading
** help
*** installing help indices
** building package indices
** installing vignettes
** testing if installed package can be loaded from temporary location
** testing if installed package can be loaded from final location
** testing if installed package keeps a record of temporary installation path
* DONE (combi)