Back to Multiple platform build/check report for BioC 3.14
AB[C]DEFGHIJKLMNOPQRSTUVWXYZ

This page was generated on 2022-01-24 13:06:04 -0500 (Mon, 24 Jan 2022).

HostnameOSArch (*)R versionInstalled pkgs
nebbiolo2Linux (Ubuntu 20.04.4 LTS)x86_644.1.2 (2021-11-01) -- "Bird Hippie" 4329
tokay2Windows Server 2012 R2 Standardx644.1.2 (2021-11-01) -- "Bird Hippie" 4080
machv2macOS 10.14.6 Mojavex86_644.1.2 (2021-11-01) -- "Bird Hippie" 4141
Click on any hostname to see more info about the system (e.g. compilers)      (*) as reported by 'uname -p', except on Windows and Mac OS X

INSTALL results for cogena on tokay2


To the developers/maintainers of the cogena package:
- Please allow up to 24 hours (and sometimes 48 hours) for your latest push to git@git.bioconductor.org:packages/cogena.git to
reflect on this report. See How and When does the builder pull? When will my changes propagate? here for more information.
- Make sure to use the following settings in order to reproduce any error or warning you see on this page.

raw results

Package 369/2083HostnameOS / ArchINSTALLBUILDCHECKBUILD BIN
cogena 1.28.0  (landing page)
Zhilong Jia
Snapshot Date: 2022-01-23 01:55:04 -0500 (Sun, 23 Jan 2022)
git_url: https://git.bioconductor.org/packages/cogena
git_branch: RELEASE_3_14
git_last_commit: 639d8fb
git_last_commit_date: 2021-10-26 12:19:56 -0500 (Tue, 26 Oct 2021)
nebbiolo2Linux (Ubuntu 20.04.4 LTS) / x86_64  OK    OK    WARNINGS  UNNEEDED, same version is already published
tokay2Windows Server 2012 R2 Standard / x64  OK    OK    WARNINGS    OK  UNNEEDED, same version is already published
machv2macOS 10.14.6 Mojave / x86_64  OK    OK    WARNINGS    OK  UNNEEDED, same version is already published

Summary

Package: cogena
Version: 1.28.0
Command: C:\cygwin\bin\curl.exe -O http://155.52.207.166/BBS/3.14/bioc/src/contrib/cogena_1.28.0.tar.gz && rm -rf cogena.buildbin-libdir && mkdir cogena.buildbin-libdir && C:\Users\biocbuild\bbs-3.14-bioc\R\bin\R.exe CMD INSTALL --merge-multiarch --build --library=cogena.buildbin-libdir cogena_1.28.0.tar.gz && C:\Users\biocbuild\bbs-3.14-bioc\R\bin\R.exe CMD INSTALL cogena_1.28.0.zip && rm cogena_1.28.0.tar.gz cogena_1.28.0.zip
StartedAt: 2022-01-23 06:50:19 -0500 (Sun, 23 Jan 2022)
EndedAt: 2022-01-23 06:53:04 -0500 (Sun, 23 Jan 2022)
EllapsedTime: 164.4 seconds
RetCode: 0
Status:   OK  

Command output

##############################################################################
##############################################################################
###
### Running command:
###
###   C:\cygwin\bin\curl.exe -O http://155.52.207.166/BBS/3.14/bioc/src/contrib/cogena_1.28.0.tar.gz && rm -rf cogena.buildbin-libdir && mkdir cogena.buildbin-libdir && C:\Users\biocbuild\bbs-3.14-bioc\R\bin\R.exe CMD INSTALL --merge-multiarch --build --library=cogena.buildbin-libdir cogena_1.28.0.tar.gz && C:\Users\biocbuild\bbs-3.14-bioc\R\bin\R.exe CMD INSTALL cogena_1.28.0.zip && rm cogena_1.28.0.tar.gz cogena_1.28.0.zip
###
##############################################################################
##############################################################################


  % Total    % Received % Xferd  Average Speed   Time    Time     Time  Current
                                 Dload  Upload   Total   Spent    Left  Speed

  0     0    0     0    0     0      0      0 --:--:-- --:--:-- --:--:--     0
 65 4588k   65 3012k    0     0  3924k      0  0:00:01 --:--:--  0:00:01 3922k
100 4588k  100 4588k    0     0  4471k      0  0:00:01  0:00:01 --:--:-- 4476k

install for i386

* installing *source* package 'cogena' ...
** using staged installation
** R
** data
*** moving datasets to lazyload DB
** inst
** byte-compile and prepare package for lazy loading
Warning: replacing previous import 'class::somgrid' by 'kohonen::somgrid' when loading 'cogena'
** help
*** installing help indices
  converting help for package 'cogena'
    finding HTML links ... done
    AllGeneSymbols                          html  
    DEexprs                                 html  
    PEI                                     html  
    Psoriasis                               html  
    clEnrich                                html  
    clEnrich_one                            html  
    clusterMethods                          html  
    coExp                                   html  
    cogena_class                            html  
    cogena_package                          html  
    corInCluster                            html  
    enrichment                              html  
    gene2set                                html  
    geneExpInCluster                        html  
    geneInCluster                           html  
    genecl_class                            html  
    geneclusters                            html  
    gmt2list                                html  
    gmtlist2file                            html  
    heatmap.3                               html  
    heatmapCluster                          html  
    heatmapCmap                             html  
    heatmapPEI                              html  
    mat                                     html  
    nClusters                               html  
    pClusters                               html  
    sampleLabel                             html  
    show                                    html  
    sota                                    html  
    summary                                 html  
    upDownGene                              html  
** building package indices
** installing vignettes
** testing if installed package can be loaded from temporary location
Warning: replacing previous import 'class::somgrid' by 'kohonen::somgrid' when loading 'cogena'
** testing if installed package can be loaded from final location
Warning: replacing previous import 'class::somgrid' by 'kohonen::somgrid' when loading 'cogena'
** testing if installed package keeps a record of temporary installation path

install for x64

* installing *source* package 'cogena' ...
** testing if installed package can be loaded
Warning: replacing previous import 'class::somgrid' by 'kohonen::somgrid' when loading 'cogena'
* MD5 sums
packaged installation of 'cogena' as cogena_1.28.0.zip
* DONE (cogena)
* installing to library 'C:/Users/biocbuild/bbs-3.14-bioc/R/library'
package 'cogena' successfully unpacked and MD5 sums checked