Back to Multiple platform build/check report for BioC 3.14
AB[C]DEFGHIJKLMNOPQRSTUVWXYZ

This page was generated on 2021-11-29 15:04:52 -0500 (Mon, 29 Nov 2021).

CHECK results for coexnet on nebbiolo2

To the developers/maintainers of the coexnet package:
- Please allow up to 24 hours (and sometimes 48 hours) for your latest push to git@git.bioconductor.org:packages/coexnet.git to
reflect on this report. See How and When does the builder pull? When will my changes propagate? here for more information.
- Make sure to use the following settings in order to reproduce any error or warning you see on this page.

raw results

Package 367/2083HostnameOS / ArchINSTALLBUILDCHECKBUILD BIN
coexnet 1.16.0  (landing page)
Juan David Henao
Snapshot Date: 2021-11-28 04:15:06 -0500 (Sun, 28 Nov 2021)
git_url: https://git.bioconductor.org/packages/coexnet
git_branch: RELEASE_3_14
git_last_commit: 8ddee4f
git_last_commit_date: 2021-10-26 12:35:58 -0500 (Tue, 26 Oct 2021)
nebbiolo2Linux (Ubuntu 20.04.3 LTS) / x86_64  OK    OK    ERROR  
tokay2Windows Server 2012 R2 Standard / x64  OK    OK    ERROR    OK  
machv2macOS 10.14.6 Mojave / x86_64  OK    OK    ERROR    OK  

Summary

Package: coexnet
Version: 1.16.0
Command: /home/biocbuild/bbs-3.14-bioc/R/bin/R CMD check --install=check:coexnet.install-out.txt --library=/home/biocbuild/bbs-3.14-bioc/R/library --no-vignettes --timings coexnet_1.16.0.tar.gz
StartedAt: 2021-11-28 08:38:23 -0500 (Sun, 28 Nov 2021)
EndedAt: 2021-11-28 08:41:20 -0500 (Sun, 28 Nov 2021)
EllapsedTime: 177.4 seconds
RetCode: 1
Status:   ERROR  
CheckDir: coexnet.Rcheck
Warnings: NA

Command output

##############################################################################
##############################################################################
###
### Running command:
###
###   /home/biocbuild/bbs-3.14-bioc/R/bin/R CMD check --install=check:coexnet.install-out.txt --library=/home/biocbuild/bbs-3.14-bioc/R/library --no-vignettes --timings coexnet_1.16.0.tar.gz
###
##############################################################################
##############################################################################


* using log directory ‘/home/biocbuild/bbs-3.14-bioc/meat/coexnet.Rcheck’
* using R version 4.1.2 (2021-11-01)
* using platform: x86_64-pc-linux-gnu (64-bit)
* using session charset: UTF-8
* using option ‘--no-vignettes’
* checking for file ‘coexnet/DESCRIPTION’ ... OK
* checking extension type ... Package
* this is package ‘coexnet’ version ‘1.16.0’
* checking package namespace information ... OK
* checking package dependencies ... OK
* checking if this is a source package ... OK
* checking if there is a namespace ... OK
* checking for hidden files and directories ... OK
* checking for portable file names ... OK
* checking for sufficient/correct file permissions ... OK
* checking whether package ‘coexnet’ can be installed ... OK
* checking installed package size ... OK
* checking package directory ... OK
* checking ‘build’ directory ... OK
* checking DESCRIPTION meta-information ... OK
* checking top-level files ... OK
* checking for left-over files ... OK
* checking index information ... OK
* checking package subdirectories ... OK
* checking R files for non-ASCII characters ... OK
* checking R files for syntax errors ... OK
* checking whether the package can be loaded ... OK
* checking whether the package can be loaded with stated dependencies ... OK
* checking whether the package can be unloaded cleanly ... OK
* checking whether the namespace can be loaded with stated dependencies ... OK
* checking whether the namespace can be unloaded cleanly ... OK
* checking dependencies in R code ... OK
* checking S3 generic/method consistency ... OK
* checking replacement functions ... OK
* checking foreign function calls ... OK
* checking R code for possible problems ... OK
* checking Rd files ... OK
* checking Rd metadata ... OK
* checking Rd cross-references ... OK
* checking for missing documentation entries ... OK
* checking for code/documentation mismatches ... OK
* checking Rd \usage sections ... OK
* checking Rd contents ... OK
* checking for unstated dependencies in examples ... OK
* checking contents of ‘data’ directory ... OK
* checking data for non-ASCII characters ... OK
* checking LazyData ... OK
* checking data for ASCII and uncompressed saves ... OK
* checking files in ‘vignettes’ ... OK
* checking examples ... OK
Examples with CPU (user + system) or elapsed time > 5s
                user system elapsed
findThreshold 12.823  0.659  13.484
* checking for unstated dependencies in ‘tests’ ... OK
* checking tests ...
  Running ‘runTests.R’
 ERROR
Running the tests in ‘tests/runTests.R’ failed.
Last 13 lines of output:
  
  FAILURE in test_geneSymbol: Error in checkEquals(final_table$ID[1], "Os03g0669200") : 
    'is.NA' value mismatch: 0 in current 1 in target
  
  
  Test files with failing tests
  
     test_coexnet.R 
       test_findThreshold 
       test_geneSymbol 
  
  
  Error in BiocGenerics:::testPackage("coexnet") : 
    unit tests failed for package coexnet
  Execution halted
* checking for unstated dependencies in vignettes ... OK
* checking package vignettes in ‘inst/doc’ ... OK
* checking running R code from vignettes ... SKIPPED
* checking re-building of vignette outputs ... SKIPPED
* checking PDF version of manual ... OK
* DONE

Status: 1 ERROR
See
  ‘/home/biocbuild/bbs-3.14-bioc/meat/coexnet.Rcheck/00check.log’
for details.


Installation output

coexnet.Rcheck/00install.out

##############################################################################
##############################################################################
###
### Running command:
###
###   /home/biocbuild/bbs-3.14-bioc/R/bin/R CMD INSTALL coexnet
###
##############################################################################
##############################################################################


* installing to library ‘/home/biocbuild/bbs-3.14-bioc/R/library’
* installing *source* package ‘coexnet’ ...
** using staged installation
** R
** data
*** moving datasets to lazyload DB
** inst
** byte-compile and prepare package for lazy loading
** help
*** installing help indices
** building package indices
** installing vignettes
** testing if installed package can be loaded from temporary location
** testing if installed package can be loaded from final location
** testing if installed package keeps a record of temporary installation path
* DONE (coexnet)

Tests output

coexnet.Rcheck/tests/runTests.Rout.fail


R version 4.1.2 (2021-11-01) -- "Bird Hippie"
Copyright (C) 2021 The R Foundation for Statistical Computing
Platform: x86_64-pc-linux-gnu (64-bit)

R is free software and comes with ABSOLUTELY NO WARRANTY.
You are welcome to redistribute it under certain conditions.
Type 'license()' or 'licence()' for distribution details.

R is a collaborative project with many contributors.
Type 'contributors()' for more information and
'citation()' on how to cite R or R packages in publications.

Type 'demo()' for some demos, 'help()' for on-line help, or
'help.start()' for an HTML browser interface to help.
Type 'q()' to quit R.

> BiocGenerics:::testPackage("coexnet")
Setting options('download.file.method.GEOquery'='auto')
Setting options('GEOquery.inmemory.gpl'=FALSE)
Achieved FDR: 0.0979166666666667Achieved FDR: 0.0463636363636364Timing stopped at: 0.096 0.004 0.099
Error in checkEqualsNumeric(findThreshold(expData = data[1:5, ], method = "correlation"),  : 
  'is.NA' value mismatch: 0 in current 1 in target

Timing stopped at: 0.016 0 0.015
Error in checkEquals(final_table$ID[1], "Os03g0669200") : 
  'is.NA' value mismatch: 0 in current 1 in target



RUNIT TEST PROTOCOL -- Sun Nov 28 08:41:17 2021 
*********************************************** 
Number of test functions: 10 
Number of errors: 0 
Number of failures: 2 

 
1 Test Suite : 
coexnet RUnit Tests - 10 test functions, 0 errors, 2 failures
FAILURE in test_findThreshold: Error in checkEqualsNumeric(findThreshold(expData = data[1:5, ], method = "correlation"),  : 
  'is.NA' value mismatch: 0 in current 1 in target

FAILURE in test_geneSymbol: Error in checkEquals(final_table$ID[1], "Os03g0669200") : 
  'is.NA' value mismatch: 0 in current 1 in target


Test files with failing tests

   test_coexnet.R 
     test_findThreshold 
     test_geneSymbol 


Error in BiocGenerics:::testPackage("coexnet") : 
  unit tests failed for package coexnet
Execution halted

Example timings

coexnet.Rcheck/coexnet-Ex.timings

nameusersystemelapsed
CCP0.0140.0000.013
cofVar0.0220.0000.021
createNet1.1940.0111.207
difExprs0.6220.0170.637
exprMat000
findThreshold12.823 0.65913.484
geneSymbol0.0160.0000.016
getAffy0.3180.0040.322
getInfo000
ppiNet0.0040.0000.004
sharedComponents0.0040.0000.004