Back to Multiple platform build/check report for BioC 3.14
AB[C]DEFGHIJKLMNOPQRSTUVWXYZ

This page was generated on 2021-12-03 13:05:43 -0500 (Fri, 03 Dec 2021).

BUILD BIN results for coexnet on machv2

To the developers/maintainers of the coexnet package:
- Please allow up to 24 hours (and sometimes 48 hours) for your latest push to git@git.bioconductor.org:packages/coexnet.git to
reflect on this report. See How and When does the builder pull? When will my changes propagate? here for more information.
- Make sure to use the following settings in order to reproduce any error or warning you see on this page.

raw results

Package 367/2083HostnameOS / ArchINSTALLBUILDCHECKBUILD BIN
coexnet 1.16.0  (landing page)
Juan David Henao
Snapshot Date: 2021-12-02 01:55:06 -0500 (Thu, 02 Dec 2021)
git_url: https://git.bioconductor.org/packages/coexnet
git_branch: RELEASE_3_14
git_last_commit: 8ddee4f
git_last_commit_date: 2021-10-26 12:35:58 -0500 (Tue, 26 Oct 2021)
nebbiolo2Linux (Ubuntu 20.04.3 LTS) / x86_64  OK    OK    ERROR  
tokay2Windows Server 2012 R2 Standard / x64  OK    OK    ERROR    OK  
machv2macOS 10.14.6 Mojave / x86_64  OK    OK    ERROR    OK  

Summary

Package: coexnet
Version: 1.16.0
Command: rm -rf coexnet.buildbin-libdir && mkdir coexnet.buildbin-libdir && /Users/biocbuild/BBS/utils/build-universal.sh coexnet_1.16.0.tar.gz /Library/Frameworks/R.framework/Resources/bin/R coexnet.buildbin-libdir
StartedAt: 2021-12-02 21:36:54 -0500 (Thu, 02 Dec 2021)
EndedAt: 2021-12-02 21:38:08 -0500 (Thu, 02 Dec 2021)
EllapsedTime: 74.4 seconds
RetCode: 0
Status:   OK  
PackageFile: coexnet_1.16.0.tgz
PackageFileSize: 1.734 MiB

Command output

##############################################################################
##############################################################################
###
### Running command:
###
###   rm -rf coexnet.buildbin-libdir && mkdir coexnet.buildbin-libdir && /Users/biocbuild/BBS/utils/build-universal.sh coexnet_1.16.0.tar.gz /Library/Frameworks/R.framework/Resources/bin/R coexnet.buildbin-libdir
###
##############################################################################
##############################################################################


>>>>>>> 
>>>>>>> INSTALLATION WITH 'R CMD INSTALL --preclean --no-multiarch --library=coexnet.buildbin-libdir coexnet_1.16.0.tar.gz'
>>>>>>> 

* installing *source* package ‘coexnet’ ...
** using staged installation
** R
** data
*** moving datasets to lazyload DB
** inst
** byte-compile and prepare package for lazy loading
** help
*** installing help indices
** building package indices
** installing vignettes
** testing if installed package can be loaded from temporary location
** testing if installed package can be loaded from final location
** testing if installed package keeps a record of temporary installation path
* DONE (coexnet)