Back to Multiple platform build/check report for BioC 3.14
AB[C]DEFGHIJKLMNOPQRSTUVWXYZ

This page was generated on 2021-11-26 15:04:48 -0500 (Fri, 26 Nov 2021).

CHECK results for codelink on nebbiolo2

To the developers/maintainers of the codelink package:
- Please allow up to 24 hours (and sometimes 48 hours) for your latest push to git@git.bioconductor.org:packages/codelink.git to
reflect on this report. See How and When does the builder pull? When will my changes propagate? here for more information.
- Make sure to use the following settings in order to reproduce any error or warning you see on this page.

raw results

Package 365/2083HostnameOS / ArchINSTALLBUILDCHECKBUILD BIN
codelink 1.62.0  (landing page)
Diego Diez
Snapshot Date: 2021-11-25 04:15:05 -0500 (Thu, 25 Nov 2021)
git_url: https://git.bioconductor.org/packages/codelink
git_branch: RELEASE_3_14
git_last_commit: c6116c2
git_last_commit_date: 2021-10-26 11:49:04 -0500 (Tue, 26 Oct 2021)
nebbiolo2Linux (Ubuntu 20.04.3 LTS) / x86_64  OK    OK    OK  UNNEEDED, same version is already published
tokay2Windows Server 2012 R2 Standard / x64  OK    OK    OK    OK  UNNEEDED, same version is already published
machv2macOS 10.14.6 Mojave / x86_64  OK    OK    OK    OK  UNNEEDED, same version is already published

Summary

Package: codelink
Version: 1.62.0
Command: /home/biocbuild/bbs-3.14-bioc/R/bin/R CMD check --install=check:codelink.install-out.txt --library=/home/biocbuild/bbs-3.14-bioc/R/library --no-vignettes --timings codelink_1.62.0.tar.gz
StartedAt: 2021-11-25 08:53:39 -0500 (Thu, 25 Nov 2021)
EndedAt: 2021-11-25 08:55:38 -0500 (Thu, 25 Nov 2021)
EllapsedTime: 119.2 seconds
RetCode: 0
Status:   OK  
CheckDir: codelink.Rcheck
Warnings: 0

Command output

##############################################################################
##############################################################################
###
### Running command:
###
###   /home/biocbuild/bbs-3.14-bioc/R/bin/R CMD check --install=check:codelink.install-out.txt --library=/home/biocbuild/bbs-3.14-bioc/R/library --no-vignettes --timings codelink_1.62.0.tar.gz
###
##############################################################################
##############################################################################


* using log directory ‘/home/biocbuild/bbs-3.14-bioc/meat/codelink.Rcheck’
* using R version 4.1.2 (2021-11-01)
* using platform: x86_64-pc-linux-gnu (64-bit)
* using session charset: UTF-8
* using option ‘--no-vignettes’
* checking for file ‘codelink/DESCRIPTION’ ... OK
* this is package ‘codelink’ version ‘1.62.0’
* checking package namespace information ... OK
* checking package dependencies ... OK
* checking if this is a source package ... OK
* checking if there is a namespace ... OK
* checking for hidden files and directories ... OK
* checking for portable file names ... OK
* checking for sufficient/correct file permissions ... OK
* checking whether package ‘codelink’ can be installed ... OK
* checking installed package size ... OK
* checking package directory ... OK
* checking ‘build’ directory ... OK
* checking DESCRIPTION meta-information ... OK
* checking top-level files ... OK
* checking for left-over files ... OK
* checking index information ... OK
* checking package subdirectories ... OK
* checking R files for non-ASCII characters ... OK
* checking R files for syntax errors ... OK
* checking whether the package can be loaded ... OK
* checking whether the package can be loaded with stated dependencies ... OK
* checking whether the package can be unloaded cleanly ... OK
* checking whether the namespace can be loaded with stated dependencies ... OK
* checking whether the namespace can be unloaded cleanly ... OK
* checking dependencies in R code ... OK
* checking S3 generic/method consistency ... OK
* checking replacement functions ... OK
* checking foreign function calls ... OK
* checking R code for possible problems ... OK
* checking Rd files ... OK
* checking Rd metadata ... OK
* checking Rd cross-references ... OK
* checking for missing documentation entries ... OK
* checking for code/documentation mismatches ... OK
* checking Rd \usage sections ... OK
* checking Rd contents ... OK
* checking for unstated dependencies in examples ... OK
* checking contents of ‘data’ directory ... OK
* checking data for non-ASCII characters ... OK
* checking data for ASCII and uncompressed saves ... OK
* checking installed files from ‘inst/doc’ ... OK
* checking files in ‘vignettes’ ... OK
* checking examples ... OK
* checking for unstated dependencies in vignettes ... OK
* checking package vignettes in ‘inst/doc’ ... OK
* checking running R code from vignettes ... SKIPPED
* checking re-building of vignette outputs ... SKIPPED
* checking PDF version of manual ... OK
* DONE

Status: OK


Installation output

codelink.Rcheck/00install.out

##############################################################################
##############################################################################
###
### Running command:
###
###   /home/biocbuild/bbs-3.14-bioc/R/bin/R CMD INSTALL codelink
###
##############################################################################
##############################################################################


* installing to library ‘/home/biocbuild/bbs-3.14-bioc/R/library’
* installing *source* package ‘codelink’ ...
** using staged installation
** R
** data
** inst
** byte-compile and prepare package for lazy loading
** help
*** installing help indices
** building package indices
** installing vignettes
   ‘Codelink_Introduction.Rnw’ using ‘UTF-8’ 
   ‘Codelink_Legacy.Rnw’ using ‘UTF-8’ 
** testing if installed package can be loaded from temporary location
** testing if installed package can be loaded from final location
** testing if installed package keeps a record of temporary installation path
* DONE (codelink)

Tests output


Example timings

codelink.Rcheck/codelink-Ex.timings

nameusersystemelapsed
Codelink-class000
CodelinkSet-class000
CodelinkSetUnique-class000
arrayNew000
as.matrix.Codelink000
averageProbes000
bkgdCorrect0.3800.0080.388
createWeights0.9540.0200.974
cutCV000
dim.Codelink000
imageCodelink000
logCodelink000
mergeArray000
na2false0.0000.0000.001
normalize0.8840.0320.916
plotCorrelation000
plotDensities000
plotMA000
readCodelink000
readHeader000
readHeaderXLS000
writeCodelink0.0010.0000.000