Back to Multiple platform build/check report for BioC 3.14
AB[C]DEFGHIJKLMNOPQRSTUVWXYZ

This page was generated on 2021-12-03 13:04:45 -0500 (Fri, 03 Dec 2021).

BUILD results for coRdon on nebbiolo2

To the developers/maintainers of the coRdon package:
- Please allow up to 24 hours (and sometimes 48 hours) for your latest push to git@git.bioconductor.org:packages/coRdon.git to
reflect on this report. See How and When does the builder pull? When will my changes propagate? here for more information.
- Make sure to use the following settings in order to reproduce any error or warning you see on this page.

raw results

Package 398/2083HostnameOS / ArchINSTALLBUILDCHECKBUILD BIN
coRdon 1.12.0  (landing page)
Anamaria Elek
Snapshot Date: 2021-12-02 01:55:06 -0500 (Thu, 02 Dec 2021)
git_url: https://git.bioconductor.org/packages/coRdon
git_branch: RELEASE_3_14
git_last_commit: ba08f6b
git_last_commit_date: 2021-10-26 12:45:57 -0500 (Tue, 26 Oct 2021)
nebbiolo2Linux (Ubuntu 20.04.3 LTS) / x86_64  OK    OK    OK  UNNEEDED, same version is already published
tokay2Windows Server 2012 R2 Standard / x64  OK    OK    OK    OK  UNNEEDED, same version is already published
machv2macOS 10.14.6 Mojave / x86_64  OK    OK    OK    OK  UNNEEDED, same version is already published

Summary

Package: coRdon
Version: 1.12.0
Command: /home/biocbuild/bbs-3.14-bioc/R/bin/R CMD build --keep-empty-dirs --no-resave-data coRdon
StartedAt: 2021-12-02 04:09:11 -0500 (Thu, 02 Dec 2021)
EndedAt: 2021-12-02 04:10:02 -0500 (Thu, 02 Dec 2021)
EllapsedTime: 51.4 seconds
RetCode: 0
Status:   OK  
PackageFile: coRdon_1.12.0.tar.gz
PackageFileSize: 2.125 MiB

Command output

##############################################################################
##############################################################################
###
### Running command:
###
###   /home/biocbuild/bbs-3.14-bioc/R/bin/R CMD build --keep-empty-dirs --no-resave-data coRdon
###
##############################################################################
##############################################################################


* checking for file ‘coRdon/DESCRIPTION’ ... OK
* preparing ‘coRdon’:
* checking DESCRIPTION meta-information ... OK
* installing the package to build vignettes
* creating vignettes ... OK
* checking for LF line-endings in source and make files and shell scripts
* checking for empty or unneeded directories
* building ‘coRdon_1.12.0.tar.gz’