Back to Multiple platform build/check report for BioC 3.14
AB[C]DEFGHIJKLMNOPQRSTUVWXYZ

This page was generated on 2022-01-17 13:06:04 -0500 (Mon, 17 Jan 2022).

HostnameOSArch (*)R versionInstalled pkgs
nebbiolo2Linux (Ubuntu 20.04.4 LTS)x86_644.1.2 (2021-11-01) -- "Bird Hippie" 4328
tokay2Windows Server 2012 R2 Standardx644.1.2 (2021-11-01) -- "Bird Hippie" 4077
machv2macOS 10.14.6 Mojavex86_644.1.2 (2021-11-01) -- "Bird Hippie" 4138
Click on any hostname to see more info about the system (e.g. compilers)      (*) as reported by 'uname -p', except on Windows and Mac OS X

BUILD BIN results for clusterStab on tokay2


To the developers/maintainers of the clusterStab package:
- Please allow up to 24 hours (and sometimes 48 hours) for your latest push to git@git.bioconductor.org:packages/clusterStab.git to
reflect on this report. See How and When does the builder pull? When will my changes propagate? here for more information.
- Make sure to use the following settings in order to reproduce any error or warning you see on this page.

raw results

Package 343/2083HostnameOS / ArchINSTALLBUILDCHECKBUILD BIN
clusterStab 1.66.0  (landing page)
James W. MacDonald
Snapshot Date: 2022-01-16 01:55:05 -0500 (Sun, 16 Jan 2022)
git_url: https://git.bioconductor.org/packages/clusterStab
git_branch: RELEASE_3_14
git_last_commit: 85aab97
git_last_commit_date: 2021-10-26 11:48:19 -0500 (Tue, 26 Oct 2021)
nebbiolo2Linux (Ubuntu 20.04.4 LTS) / x86_64  OK    OK    OK  UNNEEDED, same version is already published
tokay2Windows Server 2012 R2 Standard / x64  OK    OK    OK    OK  UNNEEDED, same version is already published
machv2macOS 10.14.6 Mojave / x86_64  OK    OK    OK    OK  UNNEEDED, same version is already published

Summary

Package: clusterStab
Version: 1.66.0
Command: rm -rf clusterStab.buildbin-libdir && mkdir clusterStab.buildbin-libdir && C:\Users\biocbuild\bbs-3.14-bioc\R\bin\R.exe CMD INSTALL --merge-multiarch --build --library=clusterStab.buildbin-libdir clusterStab_1.66.0.tar.gz
StartedAt: 2022-01-17 06:47:30 -0500 (Mon, 17 Jan 2022)
EndedAt: 2022-01-17 06:47:46 -0500 (Mon, 17 Jan 2022)
EllapsedTime: 15.5 seconds
RetCode: 0
Status:   OK  
PackageFile: clusterStab_1.66.0.zip
PackageFileSize: 283.4 KiB

Command output

##############################################################################
##############################################################################
###
### Running command:
###
###   rm -rf clusterStab.buildbin-libdir && mkdir clusterStab.buildbin-libdir && C:\Users\biocbuild\bbs-3.14-bioc\R\bin\R.exe CMD INSTALL --merge-multiarch --build --library=clusterStab.buildbin-libdir clusterStab_1.66.0.tar.gz
###
##############################################################################
##############################################################################



install for i386

* installing *source* package 'clusterStab' ...
** using staged installation
** R
** inst
** byte-compile and prepare package for lazy loading
** help
*** installing help indices
  converting help for package 'clusterStab'
    finding HTML links ... done
    BenHur-class                            html  
    ClusterComp-class                       html  
    benhur                                  html  
    clusterComp                             html  
** building package indices
** installing vignettes
** testing if installed package can be loaded from temporary location
** testing if installed package can be loaded from final location
** testing if installed package keeps a record of temporary installation path

install for x64

* installing *source* package 'clusterStab' ...
** testing if installed package can be loaded
* MD5 sums
packaged installation of 'clusterStab' as clusterStab_1.66.0.zip
* DONE (clusterStab)