Back to Multiple platform build/check report for BioC 3.14
AB[C]DEFGHIJKLMNOPQRSTUVWXYZ

This page was generated on 2021-12-06 13:05:52 -0500 (Mon, 06 Dec 2021).

INSTALL results for clusterStab on machv2

To the developers/maintainers of the clusterStab package:
- Please allow up to 24 hours (and sometimes 48 hours) for your latest push to git@git.bioconductor.org:packages/clusterStab.git to
reflect on this report. See How and When does the builder pull? When will my changes propagate? here for more information.
- Make sure to use the following settings in order to reproduce any error or warning you see on this page.

raw results

Package 343/2083HostnameOS / ArchINSTALLBUILDCHECKBUILD BIN
clusterStab 1.66.0  (landing page)
James W. MacDonald
Snapshot Date: 2021-12-05 01:55:05 -0500 (Sun, 05 Dec 2021)
git_url: https://git.bioconductor.org/packages/clusterStab
git_branch: RELEASE_3_14
git_last_commit: 85aab97
git_last_commit_date: 2021-10-26 11:48:19 -0500 (Tue, 26 Oct 2021)
nebbiolo2Linux (Ubuntu 20.04.3 LTS) / x86_64  OK    OK    OK  UNNEEDED, same version is already published
tokay2Windows Server 2012 R2 Standard / x64  OK    OK    OK    OK  UNNEEDED, same version is already published
machv2macOS 10.14.6 Mojave / x86_64  OK    OK    OK    OK  UNNEEDED, same version is already published

Summary

Package: clusterStab
Version: 1.66.0
Command: /Library/Frameworks/R.framework/Resources/bin/R CMD INSTALL clusterStab
StartedAt: 2021-12-05 03:33:46 -0500 (Sun, 05 Dec 2021)
EndedAt: 2021-12-05 03:34:33 -0500 (Sun, 05 Dec 2021)
EllapsedTime: 47.0 seconds
RetCode: 0
Status:   OK  

Command output

##############################################################################
##############################################################################
###
### Running command:
###
###   /Library/Frameworks/R.framework/Resources/bin/R CMD INSTALL clusterStab
###
##############################################################################
##############################################################################


* installing to library ‘/Library/Frameworks/R.framework/Versions/4.1/Resources/library’
* installing *source* package ‘clusterStab’ ...
** using staged installation
** R
** byte-compile and prepare package for lazy loading
** help
*** installing help indices
** building package indices
** installing vignettes
** testing if installed package can be loaded from temporary location
** testing if installed package can be loaded from final location
** testing if installed package keeps a record of temporary installation path
* DONE (clusterStab)