Back to Multiple platform build/check report for BioC 3.14
AB[C]DEFGHIJKLMNOPQRSTUVWXYZ

This page was generated on 2022-01-21 13:06:06 -0500 (Fri, 21 Jan 2022).

HostnameOSArch (*)R versionInstalled pkgs
nebbiolo2Linux (Ubuntu 20.04.4 LTS)x86_644.1.2 (2021-11-01) -- "Bird Hippie" 4329
tokay2Windows Server 2012 R2 Standardx644.1.2 (2021-11-01) -- "Bird Hippie" 4079
machv2macOS 10.14.6 Mojavex86_644.1.2 (2021-11-01) -- "Bird Hippie" 4140
Click on any hostname to see more info about the system (e.g. compilers)      (*) as reported by 'uname -p', except on Windows and Mac OS X

CHECK results for chromswitch on tokay2


To the developers/maintainers of the chromswitch package:
- Please allow up to 24 hours (and sometimes 48 hours) for your latest push to git@git.bioconductor.org:packages/chromswitch.git to
reflect on this report. See How and When does the builder pull? When will my changes propagate? here for more information.
- Make sure to use the following settings in order to reproduce any error or warning you see on this page.

raw results

Package 315/2083HostnameOS / ArchINSTALLBUILDCHECKBUILD BIN
chromswitch 1.16.0  (landing page)
Selin Jessa
Snapshot Date: 2022-01-20 01:55:04 -0500 (Thu, 20 Jan 2022)
git_url: https://git.bioconductor.org/packages/chromswitch
git_branch: RELEASE_3_14
git_last_commit: 0d65abe
git_last_commit_date: 2021-10-26 12:39:46 -0500 (Tue, 26 Oct 2021)
nebbiolo2Linux (Ubuntu 20.04.4 LTS) / x86_64  OK    OK    OK  UNNEEDED, same version is already published
tokay2Windows Server 2012 R2 Standard / x64  OK    OK    OK    OK  UNNEEDED, same version is already published
machv2macOS 10.14.6 Mojave / x86_64  OK    OK    OK    OK  UNNEEDED, same version is already published

Summary

Package: chromswitch
Version: 1.16.0
Command: C:\Users\biocbuild\bbs-3.14-bioc\R\bin\R.exe CMD check --force-multiarch --install=check:chromswitch.install-out.txt --library=C:\Users\biocbuild\bbs-3.14-bioc\R\library --no-vignettes --timings chromswitch_1.16.0.tar.gz
StartedAt: 2022-01-20 17:30:28 -0500 (Thu, 20 Jan 2022)
EndedAt: 2022-01-20 17:35:42 -0500 (Thu, 20 Jan 2022)
EllapsedTime: 313.7 seconds
RetCode: 0
Status:   OK  
CheckDir: chromswitch.Rcheck
Warnings: 0

Command output

##############################################################################
##############################################################################
###
### Running command:
###
###   C:\Users\biocbuild\bbs-3.14-bioc\R\bin\R.exe CMD check --force-multiarch --install=check:chromswitch.install-out.txt --library=C:\Users\biocbuild\bbs-3.14-bioc\R\library --no-vignettes --timings chromswitch_1.16.0.tar.gz
###
##############################################################################
##############################################################################


* using log directory 'C:/Users/biocbuild/bbs-3.14-bioc/meat/chromswitch.Rcheck'
* using R version 4.1.2 (2021-11-01)
* using platform: x86_64-w64-mingw32 (64-bit)
* using session charset: ISO8859-1
* using option '--no-vignettes'
* checking for file 'chromswitch/DESCRIPTION' ... OK
* this is package 'chromswitch' version '1.16.0'
* package encoding: UTF-8
* checking package namespace information ... OK
* checking package dependencies ... OK
* checking if this is a source package ... OK
* checking if there is a namespace ... OK
* checking for hidden files and directories ... OK
* checking for portable file names ... OK
* checking whether package 'chromswitch' can be installed ... OK
* checking installed package size ... OK
* checking package directory ... OK
* checking 'build' directory ... OK
* checking DESCRIPTION meta-information ... OK
* checking top-level files ... OK
* checking for left-over files ... OK
* checking index information ... OK
* checking package subdirectories ... OK
* checking R files for non-ASCII characters ... OK
* checking R files for syntax errors ... OK
* loading checks for arch 'i386'
** checking whether the package can be loaded ... OK
** checking whether the package can be loaded with stated dependencies ... OK
** checking whether the package can be unloaded cleanly ... OK
** checking whether the namespace can be loaded with stated dependencies ... OK
** checking whether the namespace can be unloaded cleanly ... OK
* loading checks for arch 'x64'
** checking whether the package can be loaded ... OK
** checking whether the package can be loaded with stated dependencies ... OK
** checking whether the package can be unloaded cleanly ... OK
** checking whether the namespace can be loaded with stated dependencies ... OK
** checking whether the namespace can be unloaded cleanly ... OK
* checking dependencies in R code ... OK
* checking S3 generic/method consistency ... OK
* checking replacement functions ... OK
* checking foreign function calls ... OK
* checking R code for possible problems ... OK
* checking Rd files ... OK
* checking Rd metadata ... OK
* checking Rd cross-references ... OK
* checking for missing documentation entries ... OK
* checking for code/documentation mismatches ... OK
* checking Rd \usage sections ... OK
* checking Rd contents ... OK
* checking for unstated dependencies in examples ... OK
* checking contents of 'data' directory ... OK
* checking data for non-ASCII characters ... OK
* checking LazyData ... OK
* checking data for ASCII and uncompressed saves ... OK
* checking files in 'vignettes' ... OK
* checking examples ...
** running examples for arch 'i386' ... OK
** running examples for arch 'x64' ... OK
* checking for unstated dependencies in 'tests' ... OK
* checking tests ...
** running tests for arch 'i386' ...
  Running 'testthat.R'
 OK
** running tests for arch 'x64' ...
  Running 'testthat.R'
 OK
* checking for unstated dependencies in vignettes ... OK
* checking package vignettes in 'inst/doc' ... OK
* checking running R code from vignettes ... SKIPPED
* checking re-building of vignette outputs ... SKIPPED
* checking PDF version of manual ... OK
* DONE

Status: OK


Installation output

chromswitch.Rcheck/00install.out

##############################################################################
##############################################################################
###
### Running command:
###
###   C:\cygwin\bin\curl.exe -O http://155.52.207.166/BBS/3.14/bioc/src/contrib/chromswitch_1.16.0.tar.gz && rm -rf chromswitch.buildbin-libdir && mkdir chromswitch.buildbin-libdir && C:\Users\biocbuild\bbs-3.14-bioc\R\bin\R.exe CMD INSTALL --merge-multiarch --build --library=chromswitch.buildbin-libdir chromswitch_1.16.0.tar.gz && C:\Users\biocbuild\bbs-3.14-bioc\R\bin\R.exe CMD INSTALL chromswitch_1.16.0.zip && rm chromswitch_1.16.0.tar.gz chromswitch_1.16.0.zip
###
##############################################################################
##############################################################################


  % Total    % Received % Xferd  Average Speed   Time    Time     Time  Current
                                 Dload  Upload   Total   Spent    Left  Speed

  0     0    0     0    0     0      0      0 --:--:-- --:--:-- --:--:--     0
 39 1568k   39  615k    0     0  1850k      0 --:--:-- --:--:-- --:--:-- 1848k
100 1568k  100 1568k    0     0  3262k      0 --:--:-- --:--:-- --:--:-- 3261k

install for i386

* installing *source* package 'chromswitch' ...
** using staged installation
** R
** data
*** moving datasets to lazyload DB
** inst
** byte-compile and prepare package for lazy loading
** help
*** installing help indices
  converting help for package 'chromswitch'
    finding HTML links ... done
    GRangesToCoord                          html  
    H3K4me3                                 html  
    LocalPeaks-class                        html  
    NMI                                     html  
    binarizePeaks                           html  
    callBinary                              html  
    callSummary                             html  
    chromswitch                             html  
    classEntropy                            html  
    cluster                                 html  
    clusterEntropy                          html  
    completeness                            html  
    conditionalClassEntropy                 html  
    conditionalClusterEntropy               html  
    coordToGRanges                          html  
    filterPeaks                             html  
    homogeneity                             html  
    makeBrowserCoord                        html  
    normalizePeaks                          html  
    pReciprocalOverlap                      html  
    purity                                  html  
    readNarrowPeak                          html  
    reducePeaks                             html  
    retrievePeaks                           html  
    summarizePeaks                          html  
    vMeasure                                html  
    winsorNorm                              html  
** building package indices
** installing vignettes
** testing if installed package can be loaded from temporary location
** testing if installed package can be loaded from final location
** testing if installed package keeps a record of temporary installation path

install for x64

* installing *source* package 'chromswitch' ...
** testing if installed package can be loaded
* MD5 sums
packaged installation of 'chromswitch' as chromswitch_1.16.0.zip
* DONE (chromswitch)
* installing to library 'C:/Users/biocbuild/bbs-3.14-bioc/R/library'
package 'chromswitch' successfully unpacked and MD5 sums checked

Tests output

chromswitch.Rcheck/tests_i386/testthat.Rout


R version 4.1.2 (2021-11-01) -- "Bird Hippie"
Copyright (C) 2021 The R Foundation for Statistical Computing
Platform: i386-w64-mingw32/i386 (32-bit)

R is free software and comes with ABSOLUTELY NO WARRANTY.
You are welcome to redistribute it under certain conditions.
Type 'license()' or 'licence()' for distribution details.

R is a collaborative project with many contributors.
Type 'contributors()' for more information and
'citation()' on how to cite R or R packages in publications.

Type 'demo()' for some demos, 'help()' for on-line help, or
'help.start()' for an HTML browser interface to help.
Type 'q()' to quit R.

> library(testthat)
> library(chromswitch)
Loading required package: GenomicRanges
Loading required package: stats4
Loading required package: BiocGenerics

Attaching package: 'BiocGenerics'

The following objects are masked from 'package:stats':

    IQR, mad, sd, var, xtabs

The following objects are masked from 'package:base':

    Filter, Find, Map, Position, Reduce, anyDuplicated, append,
    as.data.frame, basename, cbind, colnames, dirname, do.call,
    duplicated, eval, evalq, get, grep, grepl, intersect, is.unsorted,
    lapply, mapply, match, mget, order, paste, pmax, pmax.int, pmin,
    pmin.int, rank, rbind, rownames, sapply, setdiff, sort, table,
    tapply, union, unique, unsplit, which.max, which.min

Loading required package: S4Vectors

Attaching package: 'S4Vectors'

The following objects are masked from 'package:base':

    I, expand.grid, unname

Loading required package: IRanges

Attaching package: 'IRanges'

The following object is masked from 'package:grDevices':

    windows

Loading required package: GenomeInfoDb
> 
> test_check("chromswitch")
== Skipped tests ===============================================================
* On Windows (10)

[ FAIL 0 | WARN 4 | SKIP 10 | PASS 55 ]
> 
> proc.time()
   user  system elapsed 
  12.40    1.28   13.65 

chromswitch.Rcheck/tests_x64/testthat.Rout


R version 4.1.2 (2021-11-01) -- "Bird Hippie"
Copyright (C) 2021 The R Foundation for Statistical Computing
Platform: x86_64-w64-mingw32/x64 (64-bit)

R is free software and comes with ABSOLUTELY NO WARRANTY.
You are welcome to redistribute it under certain conditions.
Type 'license()' or 'licence()' for distribution details.

R is a collaborative project with many contributors.
Type 'contributors()' for more information and
'citation()' on how to cite R or R packages in publications.

Type 'demo()' for some demos, 'help()' for on-line help, or
'help.start()' for an HTML browser interface to help.
Type 'q()' to quit R.

> library(testthat)
> library(chromswitch)
Loading required package: GenomicRanges
Loading required package: stats4
Loading required package: BiocGenerics

Attaching package: 'BiocGenerics'

The following objects are masked from 'package:stats':

    IQR, mad, sd, var, xtabs

The following objects are masked from 'package:base':

    Filter, Find, Map, Position, Reduce, anyDuplicated, append,
    as.data.frame, basename, cbind, colnames, dirname, do.call,
    duplicated, eval, evalq, get, grep, grepl, intersect, is.unsorted,
    lapply, mapply, match, mget, order, paste, pmax, pmax.int, pmin,
    pmin.int, rank, rbind, rownames, sapply, setdiff, sort, table,
    tapply, union, unique, unsplit, which.max, which.min

Loading required package: S4Vectors

Attaching package: 'S4Vectors'

The following objects are masked from 'package:base':

    I, expand.grid, unname

Loading required package: IRanges

Attaching package: 'IRanges'

The following object is masked from 'package:grDevices':

    windows

Loading required package: GenomeInfoDb
> 
> test_check("chromswitch")
== Skipped tests ===============================================================
* On Windows (10)

[ FAIL 0 | WARN 4 | SKIP 10 | PASS 55 ]
> 
> proc.time()
   user  system elapsed 
  13.85    0.64   14.48 

Example timings

chromswitch.Rcheck/examples_i386/chromswitch-Ex.timings

nameusersystemelapsed
GRangesToCoord0.030.030.06
LocalPeaks-class0.520.250.77
NMI000
binarizePeaks1.440.461.89
callBinary3.560.043.61
callSummary2.110.083.53
classEntropy000
cluster0.630.000.63
clusterEntropy000
completeness000
conditionalClassEntropy000
conditionalClusterEntropy000
coordToGRanges0.050.000.04
filterPeaks0.50.00.5
homogeneity0.000.020.02
makeBrowserCoord000
normalizePeaks0.320.000.33
pReciprocalOverlap0.070.000.06
purity000
readNarrowPeak0.670.000.74
reducePeaks0.420.000.42
retrievePeaks0.310.000.31
summarizePeaks0.580.000.58
vMeasure000
winsorNorm000

chromswitch.Rcheck/examples_x64/chromswitch-Ex.timings

nameusersystemelapsed
GRangesToCoord0.030.020.05
LocalPeaks-class0.440.030.47
NMI0.020.000.01
binarizePeaks1.700.091.80
callBinary4.590.084.67
callSummary2.970.053.02
classEntropy000
cluster0.780.000.78
clusterEntropy000
completeness000
conditionalClassEntropy000
conditionalClusterEntropy000
coordToGRanges0.030.000.03
filterPeaks0.380.000.37
homogeneity000
makeBrowserCoord000
normalizePeaks0.350.000.34
pReciprocalOverlap0.060.000.07
purity000
readNarrowPeak0.560.000.56
reducePeaks0.350.000.34
retrievePeaks0.310.000.32
summarizePeaks0.660.000.65
vMeasure000
winsorNorm000