![]() | Name | Last modified | Size | Description |
---|---|---|---|---|
![]() | Parent Directory | - | ||
![]() | buildsrc-out.txt | 14-Apr-2022 01:05 | 818 | |
![]() | buildsrc-summary.dcf | 14-Apr-2022 01:05 | 427 | |
![]() | checksrc-out.txt | 14-Apr-2022 01:05 | 3.1K | |
![]() | checksrc-summary.dcf | 14-Apr-2022 01:05 | 436 | |
![]() | install-out.txt | 14-Apr-2022 01:05 | 956 | |
![]() | install-summary.dcf | 14-Apr-2022 01:05 | 265 | |