Back to Multiple platform build/check report for BioC 3.14
AB[C]DEFGHIJKLMNOPQRSTUVWXYZ

This page was generated on 2022-01-14 13:06:09 -0500 (Fri, 14 Jan 2022).

HostnameOSArch (*)R versionInstalled pkgs
nebbiolo2Linux (Ubuntu 20.04.4 LTS)x86_644.1.2 (2021-11-01) -- "Bird Hippie" 4327
tokay2Windows Server 2012 R2 Standardx644.1.2 (2021-11-01) -- "Bird Hippie" 4076
machv2macOS 10.14.6 Mojavex86_644.1.2 (2021-11-01) -- "Bird Hippie" 4137
Click on any hostname to see more info about the system (e.g. compilers)      (*) as reported by 'uname -p', except on Windows and Mac OS X

CHECK results for chimeraviz on tokay2


To the developers/maintainers of the chimeraviz package:
- Please allow up to 24 hours (and sometimes 48 hours) for your latest push to git@git.bioconductor.org:packages/chimeraviz.git to
reflect on this report. See How and When does the builder pull? When will my changes propagate? here for more information.
- Make sure to use the following settings in order to reproduce any error or warning you see on this page.

raw results

Package 297/2083HostnameOS / ArchINSTALLBUILDCHECKBUILD BIN
chimeraviz 1.20.0  (landing page)
Stian Lågstad
Snapshot Date: 2022-01-13 01:55:04 -0500 (Thu, 13 Jan 2022)
git_url: https://git.bioconductor.org/packages/chimeraviz
git_branch: RELEASE_3_14
git_last_commit: 2e8573d
git_last_commit_date: 2021-10-26 12:31:52 -0500 (Tue, 26 Oct 2021)
nebbiolo2Linux (Ubuntu 20.04.4 LTS) / x86_64  OK    OK    OK  UNNEEDED, same version is already published
tokay2Windows Server 2012 R2 Standard / x64  OK    OK    OK    OK  UNNEEDED, same version is already published
machv2macOS 10.14.6 Mojave / x86_64  OK    OK    OK    OK  UNNEEDED, same version is already published

Summary

Package: chimeraviz
Version: 1.20.0
Command: C:\Users\biocbuild\bbs-3.14-bioc\R\bin\R.exe CMD check --force-multiarch --install=check:chimeraviz.install-out.txt --library=C:\Users\biocbuild\bbs-3.14-bioc\R\library --no-vignettes --timings chimeraviz_1.20.0.tar.gz
StartedAt: 2022-01-13 16:58:47 -0500 (Thu, 13 Jan 2022)
EndedAt: 2022-01-13 17:16:18 -0500 (Thu, 13 Jan 2022)
EllapsedTime: 1050.8 seconds
RetCode: 0
Status:   OK  
CheckDir: chimeraviz.Rcheck
Warnings: 0

Command output

##############################################################################
##############################################################################
###
### Running command:
###
###   C:\Users\biocbuild\bbs-3.14-bioc\R\bin\R.exe CMD check --force-multiarch --install=check:chimeraviz.install-out.txt --library=C:\Users\biocbuild\bbs-3.14-bioc\R\library --no-vignettes --timings chimeraviz_1.20.0.tar.gz
###
##############################################################################
##############################################################################


* using log directory 'C:/Users/biocbuild/bbs-3.14-bioc/meat/chimeraviz.Rcheck'
* using R version 4.1.2 (2021-11-01)
* using platform: x86_64-w64-mingw32 (64-bit)
* using session charset: ISO8859-1
* using option '--no-vignettes'
* checking for file 'chimeraviz/DESCRIPTION' ... OK
* checking extension type ... Package
* this is package 'chimeraviz' version '1.20.0'
* package encoding: UTF-8
* checking package namespace information ... OK
* checking package dependencies ... NOTE
Depends: includes the non-default packages:
  'Biostrings', 'GenomicRanges', 'IRanges', 'Gviz', 'S4Vectors',
  'ensembldb', 'AnnotationFilter', 'data.table'
Adding so many packages to the search path is excessive and importing
selectively is preferable.
* checking if this is a source package ... OK
* checking if there is a namespace ... OK
* checking for hidden files and directories ... OK
* checking for portable file names ... OK
* checking whether package 'chimeraviz' can be installed ... OK
* checking installed package size ... OK
* checking package directory ... OK
* checking 'build' directory ... OK
* checking DESCRIPTION meta-information ... OK
* checking top-level files ... OK
* checking for left-over files ... OK
* checking index information ... OK
* checking package subdirectories ... OK
* checking R files for non-ASCII characters ... OK
* checking R files for syntax errors ... OK
* loading checks for arch 'i386'
** checking whether the package can be loaded ... OK
** checking whether the package can be loaded with stated dependencies ... OK
** checking whether the package can be unloaded cleanly ... OK
** checking whether the namespace can be loaded with stated dependencies ... OK
** checking whether the namespace can be unloaded cleanly ... OK
* loading checks for arch 'x64'
** checking whether the package can be loaded ... OK
** checking whether the package can be loaded with stated dependencies ... OK
** checking whether the package can be unloaded cleanly ... OK
** checking whether the namespace can be loaded with stated dependencies ... OK
** checking whether the namespace can be unloaded cleanly ... OK
* checking dependencies in R code ... NOTE
Namespace in Imports field not imported from: 'magick'
  All declared Imports should be used.
* checking S3 generic/method consistency ... OK
* checking replacement functions ... OK
* checking foreign function calls ... OK
* checking R code for possible problems ... NOTE
plot_fusion_transcript_with_protein_domain: no visible binding for
  global variable 'protein_domain_location'
Undefined global functions or variables:
  protein_domain_location
* checking Rd files ... OK
* checking Rd metadata ... OK
* checking Rd cross-references ... OK
* checking for missing documentation entries ... OK
* checking for code/documentation mismatches ... OK
* checking Rd \usage sections ... OK
* checking Rd contents ... OK
* checking for unstated dependencies in examples ... OK
* checking files in 'vignettes' ... OK
* checking examples ...
** running examples for arch 'i386' ... OK
Examples with CPU (user + system) or elapsed time > 5s
                                            user system elapsed
plot_fusion                                33.72   0.80   36.30
plot_transcripts                           19.98   0.54   20.53
plot_fusion_transcript                     16.92   0.08   17.00
plot_fusion_transcripts_graph              10.65   0.04   10.67
plot_fusion_transcript_with_protein_domain 10.26   0.04   10.32
get_transcripts_ensembl_db                  6.39   0.99    7.38
select_transcript                           6.83   0.00    6.83
** running examples for arch 'x64' ... OK
Examples with CPU (user + system) or elapsed time > 5s
                                            user system elapsed
plot_fusion                                35.58   0.75   37.84
plot_transcripts                           22.11   0.42   22.53
plot_fusion_transcript                     19.45   0.07   19.54
plot_fusion_transcripts_graph              12.09   0.05   12.15
plot_fusion_transcript_with_protein_domain 11.24   0.05   11.28
get_transcripts_ensembl_db                  8.00   0.08    8.08
select_transcript                           7.11   0.00    7.11
* checking for unstated dependencies in 'tests' ... OK
* checking tests ...
** running tests for arch 'i386' ...
  Running 'testthat.R'
 OK
** running tests for arch 'x64' ...
  Running 'testthat.R'
 OK
* checking for unstated dependencies in vignettes ... OK
* checking package vignettes in 'inst/doc' ... OK
* checking running R code from vignettes ... SKIPPED
* checking re-building of vignette outputs ... SKIPPED
* checking PDF version of manual ... OK
* DONE

Status: 3 NOTEs
See
  'C:/Users/biocbuild/bbs-3.14-bioc/meat/chimeraviz.Rcheck/00check.log'
for details.



Installation output

chimeraviz.Rcheck/00install.out

##############################################################################
##############################################################################
###
### Running command:
###
###   C:\cygwin\bin\curl.exe -O http://155.52.207.166/BBS/3.14/bioc/src/contrib/chimeraviz_1.20.0.tar.gz && rm -rf chimeraviz.buildbin-libdir && mkdir chimeraviz.buildbin-libdir && C:\Users\biocbuild\bbs-3.14-bioc\R\bin\R.exe CMD INSTALL --merge-multiarch --build --library=chimeraviz.buildbin-libdir chimeraviz_1.20.0.tar.gz && C:\Users\biocbuild\bbs-3.14-bioc\R\bin\R.exe CMD INSTALL chimeraviz_1.20.0.zip && rm chimeraviz_1.20.0.tar.gz chimeraviz_1.20.0.zip
###
##############################################################################
##############################################################################


  % Total    % Received % Xferd  Average Speed   Time    Time     Time  Current
                                 Dload  Upload   Total   Spent    Left  Speed

  0     0    0     0    0     0      0      0 --:--:-- --:--:-- --:--:--     0
  1 2627k    1 44575    0     0   302k      0  0:00:08 --:--:--  0:00:08  302k
100 2627k  100 2627k    0     0  5239k      0 --:--:-- --:--:-- --:--:-- 5234k

install for i386

* installing *source* package 'chimeraviz' ...
** using staged installation
** R
** inst
** byte-compile and prepare package for lazy loading
** help
*** installing help indices
  converting help for package 'chimeraviz'
    finding HTML links ... done
    Fusion-class                            html  
    PartnerGene-class                       html  
    add_fusion_reads_alignment              html  
    chimeraviz-internals-fusions_to_gene_label_data
                                            html  
    chimeraviz-internals-fusions_to_link_data
                                            html  
    chimeraviz-internals-scaleListToInterval
                                            html  
    chimeraviz                              html  
    create_fusion_report                    html  
    decide_transcript_category              html  
    down_shift                              html  
    downstream_partner_gene                 html  
    fetch_reads_from_fastq                  html  
    fusion_spanning_reads_count             html  
    fusion_split_reads_count                html  
    fusion_to_data_frame                    html  
    get_ensembl_ids                         html  
    get_fusion_by_chromosome                html  
    get_fusion_by_gene_name                 html  
    get_fusion_by_id                        html  
    get_transcripts_ensembl_db              html  
    import_aeron                            html  
    import_chimpipe                         html  
    import_defuse                           html  
    import_ericscript                       html  
    import_function_non_ucsc                html  
    import_fusioncatcher                    html  
    import_fusionmap                        html  
    import_infusion                         html  
    import_jaffa                            html  
    import_oncofuse                         html  
    import_prada                            html  
    import_soapfuse                         html  
    import_squid                            html  
    import_starfusion                       html  
    partner_gene_ensembl_id                 html  
    partner_gene_junction_sequence          html  
    plot_circle                             html  
    plot_fusion                             html  
    plot_fusion_reads                       html  
    plot_fusion_transcript                  html  
    plot_fusion_transcript_with_protein_domain
                                            html  
    plot_fusion_transcripts_graph           html  
    plot_transcripts                        html  
    raw_Homo_sapiens.GRCh37.74              html  
    raw_chimpipe                            html  
    raw_cytobandhg19                        html  
    raw_cytobandhg38                        html  
    raw_defuse                              html  
    raw_ericscript                          html  
    raw_fusion5267proteindomains            html  
    raw_fusion5267reads                     html  
    raw_fusion5267readsBedGraph             html  
    raw_fusioncatcher                       html  
    raw_fusionmap                           html  
    raw_infusion                            html  
    raw_jaffa                               html  
    raw_oncofuse                            html  
    raw_prada                               html  
    raw_soapfuse                            html  
    raw_starfusion                          html  
    select_transcript                       html  
    show-Fusion-method                      html  
    show-PartnerGene-method                 html  
    split_on_utr_and_add_feature            html  
    upstream_partner_gene                   html  
    write_fusion_reference                  html  
** building package indices
** installing vignettes
** testing if installed package can be loaded from temporary location
** testing if installed package can be loaded from final location
** testing if installed package keeps a record of temporary installation path

install for x64

* installing *source* package 'chimeraviz' ...
** testing if installed package can be loaded
* MD5 sums
packaged installation of 'chimeraviz' as chimeraviz_1.20.0.zip
* DONE (chimeraviz)
* installing to library 'C:/Users/biocbuild/bbs-3.14-bioc/R/library'
package 'chimeraviz' successfully unpacked and MD5 sums checked

Tests output

chimeraviz.Rcheck/tests_i386/testthat.Rout


R version 4.1.2 (2021-11-01) -- "Bird Hippie"
Copyright (C) 2021 The R Foundation for Statistical Computing
Platform: i386-w64-mingw32/i386 (32-bit)

R is free software and comes with ABSOLUTELY NO WARRANTY.
You are welcome to redistribute it under certain conditions.
Type 'license()' or 'licence()' for distribution details.

R is a collaborative project with many contributors.
Type 'contributors()' for more information and
'citation()' on how to cite R or R packages in publications.

Type 'demo()' for some demos, 'help()' for on-line help, or
'help.start()' for an HTML browser interface to help.
Type 'q()' to quit R.

> library(testthat)
> library(chimeraviz)
Loading required package: Biostrings
Loading required package: BiocGenerics

Attaching package: 'BiocGenerics'

The following objects are masked from 'package:stats':

    IQR, mad, sd, var, xtabs

The following objects are masked from 'package:base':

    Filter, Find, Map, Position, Reduce, anyDuplicated, append,
    as.data.frame, basename, cbind, colnames, dirname, do.call,
    duplicated, eval, evalq, get, grep, grepl, intersect, is.unsorted,
    lapply, mapply, match, mget, order, paste, pmax, pmax.int, pmin,
    pmin.int, rank, rbind, rownames, sapply, setdiff, sort, table,
    tapply, union, unique, unsplit, which.max, which.min

Loading required package: S4Vectors
Loading required package: stats4

Attaching package: 'S4Vectors'

The following objects are masked from 'package:base':

    I, expand.grid, unname

Loading required package: IRanges

Attaching package: 'IRanges'

The following object is masked from 'package:grDevices':

    windows

Loading required package: XVector
Loading required package: GenomeInfoDb

Attaching package: 'Biostrings'

The following object is masked from 'package:base':

    strsplit

Loading required package: GenomicRanges
Loading required package: Gviz
Loading required package: grid

Attaching package: 'grid'

The following object is masked from 'package:Biostrings':

    pattern

Loading required package: ensembldb
Loading required package: GenomicFeatures
Loading required package: AnnotationDbi
Loading required package: Biobase
Welcome to Bioconductor

    Vignettes contain introductory material; view with
    'browseVignettes()'. To cite Bioconductor, see
    'citation("Biobase")', and for packages 'citation("pkgname")'.

Loading required package: AnnotationFilter

Attaching package: 'AnnotationFilter'

The following object is masked from 'package:Gviz':

    feature

The following object is masked from 'package:testthat':

    not


Attaching package: 'ensembldb'

The following object is masked from 'package:stats':

    filter

Loading required package: data.table

Attaching package: 'data.table'

The following object is masked from 'package:GenomicRanges':

    shift

The following object is masked from 'package:IRanges':

    shift

The following objects are masked from 'package:S4Vectors':

    first, second



> 
> test_check("chimeraviz")
== Skipped tests ===============================================================
* On Windows (2)

[ FAIL 0 | WARN 0 | SKIP 2 | PASS 219 ]
Warning message:
call dbDisconnect() when finished working with a connection 
> 
> proc.time()
   user  system elapsed 
 165.93    5.57  174.10 

chimeraviz.Rcheck/tests_x64/testthat.Rout


R version 4.1.2 (2021-11-01) -- "Bird Hippie"
Copyright (C) 2021 The R Foundation for Statistical Computing
Platform: x86_64-w64-mingw32/x64 (64-bit)

R is free software and comes with ABSOLUTELY NO WARRANTY.
You are welcome to redistribute it under certain conditions.
Type 'license()' or 'licence()' for distribution details.

R is a collaborative project with many contributors.
Type 'contributors()' for more information and
'citation()' on how to cite R or R packages in publications.

Type 'demo()' for some demos, 'help()' for on-line help, or
'help.start()' for an HTML browser interface to help.
Type 'q()' to quit R.

> library(testthat)
> library(chimeraviz)
Loading required package: Biostrings
Loading required package: BiocGenerics

Attaching package: 'BiocGenerics'

The following objects are masked from 'package:stats':

    IQR, mad, sd, var, xtabs

The following objects are masked from 'package:base':

    Filter, Find, Map, Position, Reduce, anyDuplicated, append,
    as.data.frame, basename, cbind, colnames, dirname, do.call,
    duplicated, eval, evalq, get, grep, grepl, intersect, is.unsorted,
    lapply, mapply, match, mget, order, paste, pmax, pmax.int, pmin,
    pmin.int, rank, rbind, rownames, sapply, setdiff, sort, table,
    tapply, union, unique, unsplit, which.max, which.min

Loading required package: S4Vectors
Loading required package: stats4

Attaching package: 'S4Vectors'

The following objects are masked from 'package:base':

    I, expand.grid, unname

Loading required package: IRanges

Attaching package: 'IRanges'

The following object is masked from 'package:grDevices':

    windows

Loading required package: XVector
Loading required package: GenomeInfoDb

Attaching package: 'Biostrings'

The following object is masked from 'package:base':

    strsplit

Loading required package: GenomicRanges
Loading required package: Gviz
Loading required package: grid

Attaching package: 'grid'

The following object is masked from 'package:Biostrings':

    pattern

Loading required package: ensembldb
Loading required package: GenomicFeatures
Loading required package: AnnotationDbi
Loading required package: Biobase
Welcome to Bioconductor

    Vignettes contain introductory material; view with
    'browseVignettes()'. To cite Bioconductor, see
    'citation("Biobase")', and for packages 'citation("pkgname")'.

Loading required package: AnnotationFilter

Attaching package: 'AnnotationFilter'

The following object is masked from 'package:Gviz':

    feature

The following object is masked from 'package:testthat':

    not


Attaching package: 'ensembldb'

The following object is masked from 'package:stats':

    filter

Loading required package: data.table

Attaching package: 'data.table'

The following object is masked from 'package:GenomicRanges':

    shift

The following object is masked from 'package:IRanges':

    shift

The following objects are masked from 'package:S4Vectors':

    first, second



> 
> test_check("chimeraviz")
== Skipped tests ===============================================================
* On Windows (2)

[ FAIL 0 | WARN 0 | SKIP 2 | PASS 219 ]
Warning message:
call dbDisconnect() when finished working with a connection 
> 
> proc.time()
   user  system elapsed 
 188.82    3.68  196.78 

Example timings

chimeraviz.Rcheck/examples_i386/chimeraviz-Ex.timings

nameusersystemelapsed
add_fusion_reads_alignment1.830.051.89
create_fusion_report2.610.844.15
decide_transcript_category0.270.000.27
down_shift0.080.030.11
downstream_partner_gene0.090.020.10
fetch_reads_from_fastq000
fusion_spanning_reads_count0.030.030.07
fusion_split_reads_count0.030.050.08
fusion_to_data_frame0.050.030.07
get_ensembl_ids0.610.340.96
get_fusion_by_chromosome0.000.090.09
get_fusion_by_gene_name0.060.020.08
get_fusion_by_id0.030.060.09
get_transcripts_ensembl_db6.390.997.38
import_aeron0.690.012.87
import_chimpipe0.120.000.12
import_defuse0.130.000.13
import_ericscript0.200.000.23
import_fusioncatcher0.170.000.19
import_fusionmap0.160.000.16
import_infusion0.140.000.14
import_jaffa0.130.020.14
import_oncofuse0.150.000.16
import_prada0.130.000.12
import_soapfuse0.110.000.11
import_squid0.120.000.13
import_starfusion0.110.000.11
partner_gene_ensembl_id0.080.010.09
partner_gene_junction_sequence0.050.000.05
plot_circle0.590.411.00
plot_fusion33.72 0.8036.30
plot_fusion_reads2.300.062.35
plot_fusion_transcript16.92 0.0817.00
plot_fusion_transcript_with_protein_domain10.26 0.0410.32
plot_fusion_transcripts_graph10.65 0.0410.67
plot_transcripts19.98 0.5420.53
select_transcript6.830.006.83
split_on_utr_and_add_feature0.420.030.45
upstream_partner_gene0.110.020.13
write_fusion_reference0.050.000.04

chimeraviz.Rcheck/examples_x64/chimeraviz-Ex.timings

nameusersystemelapsed
add_fusion_reads_alignment2.080.032.11
create_fusion_report1.480.722.89
decide_transcript_category0.360.000.36
down_shift0.110.000.11
downstream_partner_gene0.130.000.12
fetch_reads_from_fastq000
fusion_spanning_reads_count0.030.020.05
fusion_split_reads_count0.050.000.05
fusion_to_data_frame0.060.000.06
get_ensembl_ids1.690.011.70
get_fusion_by_chromosome0.030.020.05
get_fusion_by_gene_name0.040.000.04
get_fusion_by_id0.050.000.05
get_transcripts_ensembl_db8.000.088.08
import_aeron0.530.000.53
import_chimpipe0.140.000.14
import_defuse0.140.010.16
import_ericscript0.160.000.15
import_fusioncatcher0.140.000.14
import_fusionmap0.160.000.16
import_infusion0.140.000.14
import_jaffa0.140.000.14
import_oncofuse0.150.000.16
import_prada0.160.000.15
import_soapfuse0.160.000.16
import_squid0.140.000.14
import_starfusion0.140.000.14
partner_gene_ensembl_id0.090.000.10
partner_gene_junction_sequence0.050.000.04
plot_circle0.740.240.97
plot_fusion35.58 0.7537.84
plot_fusion_reads2.590.112.70
plot_fusion_transcript19.45 0.0719.54
plot_fusion_transcript_with_protein_domain11.24 0.0511.28
plot_fusion_transcripts_graph12.09 0.0512.15
plot_transcripts22.11 0.4222.53
select_transcript7.110.007.11
split_on_utr_and_add_feature0.480.000.49
upstream_partner_gene0.080.000.08
write_fusion_reference0.050.000.04