Back to Multiple platform build/check report for BioC 3.14
AB[C]DEFGHIJKLMNOPQRSTUVWXYZ

This page was generated on 2022-01-14 13:06:09 -0500 (Fri, 14 Jan 2022).

HostnameOSArch (*)R versionInstalled pkgs
nebbiolo2Linux (Ubuntu 20.04.4 LTS)x86_644.1.2 (2021-11-01) -- "Bird Hippie" 4327
tokay2Windows Server 2012 R2 Standardx644.1.2 (2021-11-01) -- "Bird Hippie" 4076
machv2macOS 10.14.6 Mojavex86_644.1.2 (2021-11-01) -- "Bird Hippie" 4137
Click on any hostname to see more info about the system (e.g. compilers)      (*) as reported by 'uname -p', except on Windows and Mac OS X

BUILD BIN results for chimeraviz on tokay2


To the developers/maintainers of the chimeraviz package:
- Please allow up to 24 hours (and sometimes 48 hours) for your latest push to git@git.bioconductor.org:packages/chimeraviz.git to
reflect on this report. See How and When does the builder pull? When will my changes propagate? here for more information.
- Make sure to use the following settings in order to reproduce any error or warning you see on this page.

raw results

Package 297/2083HostnameOS / ArchINSTALLBUILDCHECKBUILD BIN
chimeraviz 1.20.0  (landing page)
Stian Lågstad
Snapshot Date: 2022-01-13 01:55:04 -0500 (Thu, 13 Jan 2022)
git_url: https://git.bioconductor.org/packages/chimeraviz
git_branch: RELEASE_3_14
git_last_commit: 2e8573d
git_last_commit_date: 2021-10-26 12:31:52 -0500 (Tue, 26 Oct 2021)
nebbiolo2Linux (Ubuntu 20.04.4 LTS) / x86_64  OK    OK    OK  UNNEEDED, same version is already published
tokay2Windows Server 2012 R2 Standard / x64  OK    OK    OK    OK  UNNEEDED, same version is already published
machv2macOS 10.14.6 Mojave / x86_64  OK    OK    OK    OK  UNNEEDED, same version is already published

Summary

Package: chimeraviz
Version: 1.20.0
Command: rm -rf chimeraviz.buildbin-libdir && mkdir chimeraviz.buildbin-libdir && C:\Users\biocbuild\bbs-3.14-bioc\R\bin\R.exe CMD INSTALL --merge-multiarch --build --library=chimeraviz.buildbin-libdir chimeraviz_1.20.0.tar.gz
StartedAt: 2022-01-14 05:14:09 -0500 (Fri, 14 Jan 2022)
EndedAt: 2022-01-14 05:15:53 -0500 (Fri, 14 Jan 2022)
EllapsedTime: 103.3 seconds
RetCode: 0
Status:   OK  
PackageFile: chimeraviz_1.20.0.zip
PackageFileSize: 3.51 MiB

Command output

##############################################################################
##############################################################################
###
### Running command:
###
###   rm -rf chimeraviz.buildbin-libdir && mkdir chimeraviz.buildbin-libdir && C:\Users\biocbuild\bbs-3.14-bioc\R\bin\R.exe CMD INSTALL --merge-multiarch --build --library=chimeraviz.buildbin-libdir chimeraviz_1.20.0.tar.gz
###
##############################################################################
##############################################################################



install for i386

* installing *source* package 'chimeraviz' ...
** using staged installation
** R
** inst
** byte-compile and prepare package for lazy loading
** help
*** installing help indices
  converting help for package 'chimeraviz'
    finding HTML links ... done
    Fusion-class                            html  
    PartnerGene-class                       html  
    add_fusion_reads_alignment              html  
    chimeraviz-internals-fusions_to_gene_label_data
                                            html  
    chimeraviz-internals-fusions_to_link_data
                                            html  
    chimeraviz-internals-scaleListToInterval
                                            html  
    chimeraviz                              html  
    create_fusion_report                    html  
    decide_transcript_category              html  
    down_shift                              html  
    downstream_partner_gene                 html  
    fetch_reads_from_fastq                  html  
    fusion_spanning_reads_count             html  
    fusion_split_reads_count                html  
    fusion_to_data_frame                    html  
    get_ensembl_ids                         html  
    get_fusion_by_chromosome                html  
    get_fusion_by_gene_name                 html  
    get_fusion_by_id                        html  
    get_transcripts_ensembl_db              html  
    import_aeron                            html  
    import_chimpipe                         html  
    import_defuse                           html  
    import_ericscript                       html  
    import_function_non_ucsc                html  
    import_fusioncatcher                    html  
    import_fusionmap                        html  
    import_infusion                         html  
    import_jaffa                            html  
    import_oncofuse                         html  
    import_prada                            html  
    import_soapfuse                         html  
    import_squid                            html  
    import_starfusion                       html  
    partner_gene_ensembl_id                 html  
    partner_gene_junction_sequence          html  
    plot_circle                             html  
    plot_fusion                             html  
    plot_fusion_reads                       html  
    plot_fusion_transcript                  html  
    plot_fusion_transcript_with_protein_domain
                                            html  
    plot_fusion_transcripts_graph           html  
    plot_transcripts                        html  
    raw_Homo_sapiens.GRCh37.74              html  
    raw_chimpipe                            html  
    raw_cytobandhg19                        html  
    raw_cytobandhg38                        html  
    raw_defuse                              html  
    raw_ericscript                          html  
    raw_fusion5267proteindomains            html  
    raw_fusion5267reads                     html  
    raw_fusion5267readsBedGraph             html  
    raw_fusioncatcher                       html  
    raw_fusionmap                           html  
    raw_infusion                            html  
    raw_jaffa                               html  
    raw_oncofuse                            html  
    raw_prada                               html  
    raw_soapfuse                            html  
    raw_starfusion                          html  
    select_transcript                       html  
    show-Fusion-method                      html  
    show-PartnerGene-method                 html  
    split_on_utr_and_add_feature            html  
    upstream_partner_gene                   html  
    write_fusion_reference                  html  
** building package indices
** installing vignettes
** testing if installed package can be loaded from temporary location
** testing if installed package can be loaded from final location
** testing if installed package keeps a record of temporary installation path

install for x64

* installing *source* package 'chimeraviz' ...
** testing if installed package can be loaded
* MD5 sums
packaged installation of 'chimeraviz' as chimeraviz_1.20.0.zip
* DONE (chimeraviz)