Back to Multiple platform build/check report for BioC 3.14
AB[C]DEFGHIJKLMNOPQRSTUVWXYZ

This page was generated on 2022-01-21 13:06:05 -0500 (Fri, 21 Jan 2022).

HostnameOSArch (*)R versionInstalled pkgs
nebbiolo2Linux (Ubuntu 20.04.4 LTS)x86_644.1.2 (2021-11-01) -- "Bird Hippie" 4329
tokay2Windows Server 2012 R2 Standardx644.1.2 (2021-11-01) -- "Bird Hippie" 4079
machv2macOS 10.14.6 Mojavex86_644.1.2 (2021-11-01) -- "Bird Hippie" 4140
Click on any hostname to see more info about the system (e.g. compilers)      (*) as reported by 'uname -p', except on Windows and Mac OS X

BUILD BIN results for censcyt on tokay2


To the developers/maintainers of the censcyt package:
- Please allow up to 24 hours (and sometimes 48 hours) for your latest push to git@git.bioconductor.org:packages/censcyt.git to
reflect on this report. See How and When does the builder pull? When will my changes propagate? here for more information.
- Make sure to use the following settings in order to reproduce any error or warning you see on this page.

raw results

Package 278/2083HostnameOS / ArchINSTALLBUILDCHECKBUILD BIN
censcyt 1.2.0  (landing page)
Reto Gerber
Snapshot Date: 2022-01-20 01:55:04 -0500 (Thu, 20 Jan 2022)
git_url: https://git.bioconductor.org/packages/censcyt
git_branch: RELEASE_3_14
git_last_commit: b70a2f8
git_last_commit_date: 2021-10-26 13:05:50 -0500 (Tue, 26 Oct 2021)
nebbiolo2Linux (Ubuntu 20.04.4 LTS) / x86_64  OK    OK    ERROR  
tokay2Windows Server 2012 R2 Standard / x64  OK    OK    OK    OK  UNNEEDED, same version is already published
machv2macOS 10.14.6 Mojave / x86_64  OK    OK    OK    OK  UNNEEDED, same version is already published

Summary

Package: censcyt
Version: 1.2.0
Command: rm -rf censcyt.buildbin-libdir && mkdir censcyt.buildbin-libdir && C:\Users\biocbuild\bbs-3.14-bioc\R\bin\R.exe CMD INSTALL --merge-multiarch --build --library=censcyt.buildbin-libdir censcyt_1.2.0.tar.gz
StartedAt: 2022-01-21 05:44:21 -0500 (Fri, 21 Jan 2022)
EndedAt: 2022-01-21 05:45:19 -0500 (Fri, 21 Jan 2022)
EllapsedTime: 58.4 seconds
RetCode: 0
Status:   OK  
PackageFile: censcyt_1.2.0.zip
PackageFileSize: 466.1 KiB

Command output

##############################################################################
##############################################################################
###
### Running command:
###
###   rm -rf censcyt.buildbin-libdir && mkdir censcyt.buildbin-libdir && C:\Users\biocbuild\bbs-3.14-bioc\R\bin\R.exe CMD INSTALL --merge-multiarch --build --library=censcyt.buildbin-libdir censcyt_1.2.0.tar.gz
###
##############################################################################
##############################################################################



install for i386

* installing *source* package 'censcyt' ...
** using staged installation
** R
** inst
** byte-compile and prepare package for lazy loading
** help
*** installing help indices
  converting help for package 'censcyt'
    finding HTML links ... done
    censcyt                                 html  
    finding level-2 HTML links ... done

    conditional_multiple_imputation         html  
    createFormula                           html  
    simulate_multicluster                   html  
    simulate_singlecluster                  html  
    testDA_censoredGLMM                     html  
** building package indices
** installing vignettes
** testing if installed package can be loaded from temporary location
** testing if installed package can be loaded from final location
** testing if installed package keeps a record of temporary installation path

install for x64

* installing *source* package 'censcyt' ...
** testing if installed package can be loaded
* MD5 sums
packaged installation of 'censcyt' as censcyt_1.2.0.zip
* DONE (censcyt)