Back to Multiple platform build/check report for BioC 3.14
AB[C]DEFGHIJKLMNOPQRSTUVWXYZ

This page was generated on 2022-01-17 13:06:01 -0500 (Mon, 17 Jan 2022).

HostnameOSArch (*)R versionInstalled pkgs
nebbiolo2Linux (Ubuntu 20.04.4 LTS)x86_644.1.2 (2021-11-01) -- "Bird Hippie" 4328
tokay2Windows Server 2012 R2 Standardx644.1.2 (2021-11-01) -- "Bird Hippie" 4077
machv2macOS 10.14.6 Mojavex86_644.1.2 (2021-11-01) -- "Bird Hippie" 4138
Click on any hostname to see more info about the system (e.g. compilers)      (*) as reported by 'uname -p', except on Windows and Mac OS X

BUILD BIN results for cellHTS2 on tokay2


To the developers/maintainers of the cellHTS2 package:
- Please allow up to 24 hours (and sometimes 48 hours) for your latest push to git@git.bioconductor.org:packages/cellHTS2.git to
reflect on this report. See How and When does the builder pull? When will my changes propagate? here for more information.
- Make sure to use the following settings in order to reproduce any error or warning you see on this page.

raw results

Package 266/2083HostnameOS / ArchINSTALLBUILDCHECKBUILD BIN
cellHTS2 2.58.0  (landing page)
Joseph Barry
Snapshot Date: 2022-01-16 01:55:05 -0500 (Sun, 16 Jan 2022)
git_url: https://git.bioconductor.org/packages/cellHTS2
git_branch: RELEASE_3_14
git_last_commit: 5e1ff80
git_last_commit_date: 2021-10-26 11:51:17 -0500 (Tue, 26 Oct 2021)
nebbiolo2Linux (Ubuntu 20.04.4 LTS) / x86_64  OK    OK    OK  UNNEEDED, same version is already published
tokay2Windows Server 2012 R2 Standard / x64  OK    OK    OK    OK  UNNEEDED, same version is already published
machv2macOS 10.14.6 Mojave / x86_64  OK    OK    OK    OK  UNNEEDED, same version is already published

Summary

Package: cellHTS2
Version: 2.58.0
Command: rm -rf cellHTS2.buildbin-libdir && mkdir cellHTS2.buildbin-libdir && C:\Users\biocbuild\bbs-3.14-bioc\R\bin\R.exe CMD INSTALL --merge-multiarch --build --library=cellHTS2.buildbin-libdir cellHTS2_2.58.0.tar.gz
StartedAt: 2022-01-17 06:42:11 -0500 (Mon, 17 Jan 2022)
EndedAt: 2022-01-17 06:43:59 -0500 (Mon, 17 Jan 2022)
EllapsedTime: 107.5 seconds
RetCode: 0
Status:   OK  
PackageFile: cellHTS2_2.58.0.zip
PackageFileSize: 4.124 MiB

Command output

##############################################################################
##############################################################################
###
### Running command:
###
###   rm -rf cellHTS2.buildbin-libdir && mkdir cellHTS2.buildbin-libdir && C:\Users\biocbuild\bbs-3.14-bioc\R\bin\R.exe CMD INSTALL --merge-multiarch --build --library=cellHTS2.buildbin-libdir cellHTS2_2.58.0.tar.gz
###
##############################################################################
##############################################################################



install for i386

* installing *source* package 'cellHTS2' ...
** using staged installation
** R
** data
** inst
** byte-compile and prepare package for lazy loading
** help
*** installing help indices
  converting help for package 'cellHTS2'
    finding HTML links ... done
    Bscore                                  html  
    Data                                    html  
    ROC-class                               html  
    ROC                                     html  
    annotate                                html  
    batch                                   html  
    bdgpbiomart                             html  
    buildCellHTS2                           html  
    cellHTS-class                           html  
    cellHTS2                                html  
    configurationAsScreenPlot               html  
    configure                               html  
    convertOldCellHTS                       html  
    convertWellCoordinates                  html  
    data-KcViab                             html  
    data-KcViabSmall                        html  
    data-dualCh                             html  
    data-oldKcViabSmall                     html  
    getDynamicRange                         html  
    getEnVisionRawData                      html  
    getMeasureRepAgreement                  html  
    getTopTable                             html  
    getZfactor                              html  
    gseaModule                              html  
    imageScreen                             html  
    intensityFiles                          html  
    normalizePlates                         html  
    oneRowPerId                             html  
    plate                                   html  
    plateEffects                            html  
    plotSpatialEffects                      html  
    readHTAnalystData                       html  
    readPlateList                           html  
    rsa                                     html  
    scoreReplicates                         html  
    scores2calls                            html  
    setSettings                             html  
    spatialNormalization                    html  
    state                                   html  
    summarizeChannels                       html  
    summarizeReplicates                     html  
    templateDescriptionFile                 html  
    updateCellHTS                           html  
    wellAnno                                html  
    write.tabdel                            html  
    writeReport                             html  
    writeTab                                html  
** building package indices
** installing vignettes
** testing if installed package can be loaded from temporary location
** testing if installed package can be loaded from final location
** testing if installed package keeps a record of temporary installation path

install for x64

* installing *source* package 'cellHTS2' ...
** testing if installed package can be loaded
* MD5 sums
packaged installation of 'cellHTS2' as cellHTS2_2.58.0.zip
* DONE (cellHTS2)