Back to Multiple platform build/check report for BioC 3.14
AB[C]DEFGHIJKLMNOPQRSTUVWXYZ

This page was generated on 2021-12-03 13:05:41 -0500 (Fri, 03 Dec 2021).

BUILD results for cellHTS2 on machv2

To the developers/maintainers of the cellHTS2 package:
- Please allow up to 24 hours (and sometimes 48 hours) for your latest push to git@git.bioconductor.org:packages/cellHTS2.git to
reflect on this report. See How and When does the builder pull? When will my changes propagate? here for more information.
- Make sure to use the following settings in order to reproduce any error or warning you see on this page.

raw results

Package 266/2083HostnameOS / ArchINSTALLBUILDCHECKBUILD BIN
cellHTS2 2.58.0  (landing page)
Joseph Barry
Snapshot Date: 2021-12-02 01:55:06 -0500 (Thu, 02 Dec 2021)
git_url: https://git.bioconductor.org/packages/cellHTS2
git_branch: RELEASE_3_14
git_last_commit: 5e1ff80
git_last_commit_date: 2021-10-26 11:51:17 -0500 (Tue, 26 Oct 2021)
nebbiolo2Linux (Ubuntu 20.04.3 LTS) / x86_64  OK    OK    OK  UNNEEDED, same version is already published
tokay2Windows Server 2012 R2 Standard / x64  OK    OK    OK    OK  UNNEEDED, same version is already published
machv2macOS 10.14.6 Mojave / x86_64  OK    OK    OK    OK  UNNEEDED, same version is already published

Summary

Package: cellHTS2
Version: 2.58.0
Command: /Library/Frameworks/R.framework/Resources/bin/R CMD build --keep-empty-dirs --no-resave-data cellHTS2
StartedAt: 2021-12-02 06:09:17 -0500 (Thu, 02 Dec 2021)
EndedAt: 2021-12-02 06:13:54 -0500 (Thu, 02 Dec 2021)
EllapsedTime: 277.4 seconds
RetCode: 0
Status:   OK  
PackageFile: cellHTS2_2.58.0.tar.gz
PackageFileSize: 3.085 MiB

Command output

##############################################################################
##############################################################################
###
### Running command:
###
###   /Library/Frameworks/R.framework/Resources/bin/R CMD build --keep-empty-dirs --no-resave-data cellHTS2
###
##############################################################################
##############################################################################


* checking for file ‘cellHTS2/DESCRIPTION’ ... OK
* preparing ‘cellHTS2’:
* checking DESCRIPTION meta-information ... OK
* installing the package to build vignettes
* creating vignettes ... OK
* checking for LF line-endings in source and make files and shell scripts
* checking for empty or unneeded directories
* looking to see if a ‘data/datalist’ file should be added
* building ‘cellHTS2_2.58.0.tar.gz’