Back to Multiple platform build/check report for BioC 3.14
AB[C]DEFGHIJKLMNOPQRSTUVWXYZ

This page was generated on 2022-01-26 13:06:18 -0500 (Wed, 26 Jan 2022).

HostnameOSArch (*)R versionInstalled pkgs
nebbiolo2Linux (Ubuntu 20.04.4 LTS)x86_644.1.2 (2021-11-01) -- "Bird Hippie" 4329
tokay2Windows Server 2012 R2 Standardx644.1.2 (2021-11-01) -- "Bird Hippie" 4080
machv2macOS 10.14.6 Mojavex86_644.1.2 (2021-11-01) -- "Bird Hippie" 4141
Click on any hostname to see more info about the system (e.g. compilers)      (*) as reported by 'uname -p', except on Windows and Mac OS X

BUILD BIN results for cbaf on tokay2


To the developers/maintainers of the cbaf package:
- Please allow up to 24 hours (and sometimes 48 hours) for your latest push to git@git.bioconductor.org:packages/cbaf.git to
reflect on this report. See How and When does the builder pull? When will my changes propagate? here for more information.
- Make sure to use the following settings in order to reproduce any error or warning you see on this page.

raw results

Package 253/2083HostnameOS / ArchINSTALLBUILDCHECKBUILD BIN
cbaf 1.16.0  (landing page)
Arman Shahrisa
Snapshot Date: 2022-01-25 01:55:07 -0500 (Tue, 25 Jan 2022)
git_url: https://git.bioconductor.org/packages/cbaf
git_branch: RELEASE_3_14
git_last_commit: 34f89cc
git_last_commit_date: 2021-10-26 12:38:29 -0500 (Tue, 26 Oct 2021)
nebbiolo2Linux (Ubuntu 20.04.4 LTS) / x86_64  OK    OK    OK  UNNEEDED, same version is already published
tokay2Windows Server 2012 R2 Standard / x64  OK    OK    OK    OK  UNNEEDED, same version is already published
machv2macOS 10.14.6 Mojave / x86_64  OK    OK    OK    OK  UNNEEDED, same version is already published

Summary

Package: cbaf
Version: 1.16.0
Command: rm -rf cbaf.buildbin-libdir && mkdir cbaf.buildbin-libdir && C:\Users\biocbuild\bbs-3.14-bioc\R\bin\R.exe CMD INSTALL --merge-multiarch --build --library=cbaf.buildbin-libdir cbaf_1.16.0.tar.gz
StartedAt: 2022-01-26 05:41:31 -0500 (Wed, 26 Jan 2022)
EndedAt: 2022-01-26 05:42:28 -0500 (Wed, 26 Jan 2022)
EllapsedTime: 57.0 seconds
RetCode: 0
Status:   OK  
PackageFile: cbaf_1.16.0.zip
PackageFileSize: 906.4 KiB

Command output

##############################################################################
##############################################################################
###
### Running command:
###
###   rm -rf cbaf.buildbin-libdir && mkdir cbaf.buildbin-libdir && C:\Users\biocbuild\bbs-3.14-bioc\R\bin\R.exe CMD INSTALL --merge-multiarch --build --library=cbaf.buildbin-libdir cbaf_1.16.0.tar.gz
###
##############################################################################
##############################################################################



install for i386

* installing *source* package 'cbaf' ...
** using staged installation
** R
** inst
** byte-compile and prepare package for lazy loading
** help
*** installing help indices
  converting help for package 'cbaf'
    finding HTML links ... done
    automatedStatistics                     html  
    availableData                           html  
    cleanDatabase                           html  
    heatmapOutput                           html  
    obtainMultipleStudies                   html  
    obtainOneStudy                          html  
    processMultipleStudies                  html  
    processOneStudy                         html  
    xlsxOutput                              html  
** building package indices
** installing vignettes
** testing if installed package can be loaded from temporary location
** testing if installed package can be loaded from final location
** testing if installed package keeps a record of temporary installation path

install for x64

* installing *source* package 'cbaf' ...
** testing if installed package can be loaded
* MD5 sums
packaged installation of 'cbaf' as cbaf_1.16.0.zip
* DONE (cbaf)