Back to Multiple platform build/check report for BioC 3.14
AB[C]DEFGHIJKLMNOPQRSTUVWXYZ

This page was generated on 2022-01-17 13:06:00 -0500 (Mon, 17 Jan 2022).

HostnameOSArch (*)R versionInstalled pkgs
nebbiolo2Linux (Ubuntu 20.04.4 LTS)x86_644.1.2 (2021-11-01) -- "Bird Hippie" 4328
tokay2Windows Server 2012 R2 Standardx644.1.2 (2021-11-01) -- "Bird Hippie" 4077
machv2macOS 10.14.6 Mojavex86_644.1.2 (2021-11-01) -- "Bird Hippie" 4138
Click on any hostname to see more info about the system (e.g. compilers)      (*) as reported by 'uname -p', except on Windows and Mac OS X

INSTALL results for categoryCompare on tokay2


To the developers/maintainers of the categoryCompare package:
- Please allow up to 24 hours (and sometimes 48 hours) for your latest push to git@git.bioconductor.org:packages/categoryCompare.git to
reflect on this report. See How and When does the builder pull? When will my changes propagate? here for more information.
- Make sure to use the following settings in order to reproduce any error or warning you see on this page.

raw results

Package 251/2083HostnameOS / ArchINSTALLBUILDCHECKBUILD BIN
categoryCompare 1.38.0  (landing page)
Robert M. Flight
Snapshot Date: 2022-01-16 01:55:05 -0500 (Sun, 16 Jan 2022)
git_url: https://git.bioconductor.org/packages/categoryCompare
git_branch: RELEASE_3_14
git_last_commit: 13d544a
git_last_commit_date: 2021-10-26 12:03:05 -0500 (Tue, 26 Oct 2021)
nebbiolo2Linux (Ubuntu 20.04.4 LTS) / x86_64  OK    OK    OK  UNNEEDED, same version is already published
tokay2Windows Server 2012 R2 Standard / x64  OK    OK    OK    OK  UNNEEDED, same version is already published
machv2macOS 10.14.6 Mojave / x86_64  OK    OK    OK    OK  UNNEEDED, same version is already published

Summary

Package: categoryCompare
Version: 1.38.0
Command: C:\cygwin\bin\curl.exe -O http://155.52.207.166/BBS/3.14/bioc/src/contrib/categoryCompare_1.38.0.tar.gz && rm -rf categoryCompare.buildbin-libdir && mkdir categoryCompare.buildbin-libdir && C:\Users\biocbuild\bbs-3.14-bioc\R\bin\R.exe CMD INSTALL --merge-multiarch --build --library=categoryCompare.buildbin-libdir categoryCompare_1.38.0.tar.gz && C:\Users\biocbuild\bbs-3.14-bioc\R\bin\R.exe CMD INSTALL categoryCompare_1.38.0.zip && rm categoryCompare_1.38.0.tar.gz categoryCompare_1.38.0.zip
StartedAt: 2022-01-16 05:59:49 -0500 (Sun, 16 Jan 2022)
EndedAt: 2022-01-16 06:02:01 -0500 (Sun, 16 Jan 2022)
EllapsedTime: 131.4 seconds
RetCode: 0
Status:   OK  

Command output

##############################################################################
##############################################################################
###
### Running command:
###
###   C:\cygwin\bin\curl.exe -O http://155.52.207.166/BBS/3.14/bioc/src/contrib/categoryCompare_1.38.0.tar.gz && rm -rf categoryCompare.buildbin-libdir && mkdir categoryCompare.buildbin-libdir && C:\Users\biocbuild\bbs-3.14-bioc\R\bin\R.exe CMD INSTALL --merge-multiarch --build --library=categoryCompare.buildbin-libdir categoryCompare_1.38.0.tar.gz && C:\Users\biocbuild\bbs-3.14-bioc\R\bin\R.exe CMD INSTALL categoryCompare_1.38.0.zip && rm categoryCompare_1.38.0.tar.gz categoryCompare_1.38.0.zip
###
##############################################################################
##############################################################################


  % Total    % Received % Xferd  Average Speed   Time    Time     Time  Current
                                 Dload  Upload   Total   Spent    Left  Speed

  0     0    0     0    0     0      0      0 --:--:-- --:--:-- --:--:--     0
 96 1767k   96 1712k    0     0  3902k      0 --:--:-- --:--:-- --:--:-- 3901k
100 1767k  100 1767k    0     0  4006k      0 --:--:-- --:--:-- --:--:-- 4007k

install for i386

* installing *source* package 'categoryCompare' ...
** using staged installation
** R
** data
** inst
** byte-compile and prepare package for lazy loading
Note: ... may be used in an incorrect context 
** help
*** installing help indices
  converting help for package 'categoryCompare'
    finding HTML links ... done
    GENccEnrichResult-class                 html  
    finding level-2 HTML links ... done

    HyperGParamsCC-class                    html  
    HyperGResultCC-class                    html  
    breakEdges-methods                      html  
    categoryCompare-package                 html  
    ccCompare                               html  
    ccCompareCollection-class               html  
    ccCompareGeneric-methods                html  
    ccCompareResult-class                   html  
    ccData                                  html  
    ccEnrich                                html  
    ccEnrichCollection-class                html  
    ccEnrichResult-class                    html  
    ccGeneList-class                        html  
    ccOptions-class                         html  
    ccOutCyt-methods                        html  
    ccSigList-class                         html  
    cwReload-methods                        html  
    cytOutData-methods                      html  
    cytOutNodes-methods                     html  
    fdr                                     html  
    getGeneSymbol                           html  
    graphType-methods                       html  
    hyperGTestCC                            html  
    listNames                               html  
    mergeLists-methods                      html  
    mergedData-class                        html  
    minCount                                html  
    minNodes                                html  
    pvalueType                              html  
    resetColors-methods                     html  
    show-methods                            html  
** building package indices
** installing vignettes
** testing if installed package can be loaded from temporary location
** testing if installed package can be loaded from final location
** testing if installed package keeps a record of temporary installation path

install for x64

* installing *source* package 'categoryCompare' ...
** testing if installed package can be loaded
* MD5 sums
packaged installation of 'categoryCompare' as categoryCompare_1.38.0.zip
* DONE (categoryCompare)
* installing to library 'C:/Users/biocbuild/bbs-3.14-bioc/R/library'
package 'categoryCompare' successfully unpacked and MD5 sums checked