Back to Multiple platform build/check report for BioC 3.14
AB[C]DEFGHIJKLMNOPQRSTUVWXYZ

This page was generated on 2021-12-03 13:04:44 -0500 (Fri, 03 Dec 2021).

BUILD results for cancerclass on nebbiolo2

To the developers/maintainers of the cancerclass package:
- Please allow up to 24 hours (and sometimes 48 hours) for your latest push to git@git.bioconductor.org:packages/cancerclass.git to
reflect on this report. See How and When does the builder pull? When will my changes propagate? here for more information.
- Make sure to use the following settings in order to reproduce any error or warning you see on this page.

raw results

Package 241/2083HostnameOS / ArchINSTALLBUILDCHECKBUILD BIN
cancerclass 1.38.0  (landing page)
Daniel Kosztyla
Snapshot Date: 2021-12-02 01:55:06 -0500 (Thu, 02 Dec 2021)
git_url: https://git.bioconductor.org/packages/cancerclass
git_branch: RELEASE_3_14
git_last_commit: 21a3549
git_last_commit_date: 2021-10-26 12:03:10 -0500 (Tue, 26 Oct 2021)
nebbiolo2Linux (Ubuntu 20.04.3 LTS) / x86_64  OK    OK    OK  UNNEEDED, same version is already published
tokay2Windows Server 2012 R2 Standard / x64  OK    OK    OK    OK  UNNEEDED, same version is already published
machv2macOS 10.14.6 Mojave / x86_64  OK    OK    WARNINGS    OK  UNNEEDED, same version is already published

Summary

Package: cancerclass
Version: 1.38.0
Command: /home/biocbuild/bbs-3.14-bioc/R/bin/R CMD build --keep-empty-dirs --no-resave-data cancerclass
StartedAt: 2021-12-02 03:59:08 -0500 (Thu, 02 Dec 2021)
EndedAt: 2021-12-02 03:59:30 -0500 (Thu, 02 Dec 2021)
EllapsedTime: 21.7 seconds
RetCode: 0
Status:   OK  
PackageFile: cancerclass_1.38.0.tar.gz
PackageFileSize: 1.465 MiB

Command output

##############################################################################
##############################################################################
###
### Running command:
###
###   /home/biocbuild/bbs-3.14-bioc/R/bin/R CMD build --keep-empty-dirs --no-resave-data cancerclass
###
##############################################################################
##############################################################################


* checking for file ‘cancerclass/DESCRIPTION’ ... OK
* preparing ‘cancerclass’:
* checking DESCRIPTION meta-information ... OK
* cleaning src
* installing the package to build vignettes
* creating vignettes ... OK
* cleaning src
* checking for LF line-endings in source and make files and shell scripts
* checking for empty or unneeded directories
* looking to see if a ‘data/datalist’ file should be added
* building ‘cancerclass_1.38.0.tar.gz’