![]() | Name | Last modified | Size | Description |
---|---|---|---|---|
![]() | Parent Directory | - | ||
![]() | buildbin-out.txt | 14-Apr-2022 01:06 | 1.8K | |
![]() | buildbin-summary.dcf | 14-Apr-2022 01:06 | 578 | |
![]() | buildsrc-out.txt | 14-Apr-2022 01:06 | 879 | |
![]() | buildsrc-summary.dcf | 14-Apr-2022 01:06 | 485 | |
![]() | checksrc-out.txt | 14-Apr-2022 01:06 | 5.4K | |
![]() | checksrc-summary.dcf | 14-Apr-2022 01:06 | 494 | |
![]() | install-out.txt | 14-Apr-2022 01:06 | 2.5K | |
![]() | install-summary.dcf | 14-Apr-2022 01:06 | 698 | |