Back to Multiple platform build/check report for BioC 3.14
A[B]CDEFGHIJKLMNOPQRSTUVWXYZ

This page was generated on 2022-01-17 13:05:59 -0500 (Mon, 17 Jan 2022).

HostnameOSArch (*)R versionInstalled pkgs
nebbiolo2Linux (Ubuntu 20.04.4 LTS)x86_644.1.2 (2021-11-01) -- "Bird Hippie" 4328
tokay2Windows Server 2012 R2 Standardx644.1.2 (2021-11-01) -- "Bird Hippie" 4077
machv2macOS 10.14.6 Mojavex86_644.1.2 (2021-11-01) -- "Bird Hippie" 4138
Click on any hostname to see more info about the system (e.g. compilers)      (*) as reported by 'uname -p', except on Windows and Mac OS X

INSTALL results for bumphunter on tokay2


To the developers/maintainers of the bumphunter package:
- Please allow up to 24 hours (and sometimes 48 hours) for your latest push to git@git.bioconductor.org:packages/bumphunter.git to
reflect on this report. See How and When does the builder pull? When will my changes propagate? here for more information.
- Make sure to use the following settings in order to reproduce any error or warning you see on this page.

raw results

Package 227/2083HostnameOS / ArchINSTALLBUILDCHECKBUILD BIN
bumphunter 1.36.0  (landing page)
Tamilselvi Guharaj
Snapshot Date: 2022-01-16 01:55:05 -0500 (Sun, 16 Jan 2022)
git_url: https://git.bioconductor.org/packages/bumphunter
git_branch: RELEASE_3_14
git_last_commit: db50fcf
git_last_commit_date: 2021-10-27 13:17:03 -0500 (Wed, 27 Oct 2021)
nebbiolo2Linux (Ubuntu 20.04.4 LTS) / x86_64  OK    OK    OK  UNNEEDED, same version is already published
tokay2Windows Server 2012 R2 Standard / x64  OK    OK    OK    OK  UNNEEDED, same version is already published
machv2macOS 10.14.6 Mojave / x86_64  OK    OK    OK    OK  UNNEEDED, same version is already published

Summary

Package: bumphunter
Version: 1.36.0
Command: C:\cygwin\bin\curl.exe -O http://155.52.207.166/BBS/3.14/bioc/src/contrib/bumphunter_1.36.0.tar.gz && rm -rf bumphunter.buildbin-libdir && mkdir bumphunter.buildbin-libdir && C:\Users\biocbuild\bbs-3.14-bioc\R\bin\R.exe CMD INSTALL --merge-multiarch --build --library=bumphunter.buildbin-libdir bumphunter_1.36.0.tar.gz && C:\Users\biocbuild\bbs-3.14-bioc\R\bin\R.exe CMD INSTALL bumphunter_1.36.0.zip && rm bumphunter_1.36.0.tar.gz bumphunter_1.36.0.zip
StartedAt: 2022-01-16 06:17:12 -0500 (Sun, 16 Jan 2022)
EndedAt: 2022-01-16 06:18:31 -0500 (Sun, 16 Jan 2022)
EllapsedTime: 79.3 seconds
RetCode: 0
Status:   OK  

Command output

##############################################################################
##############################################################################
###
### Running command:
###
###   C:\cygwin\bin\curl.exe -O http://155.52.207.166/BBS/3.14/bioc/src/contrib/bumphunter_1.36.0.tar.gz && rm -rf bumphunter.buildbin-libdir && mkdir bumphunter.buildbin-libdir && C:\Users\biocbuild\bbs-3.14-bioc\R\bin\R.exe CMD INSTALL --merge-multiarch --build --library=bumphunter.buildbin-libdir bumphunter_1.36.0.tar.gz && C:\Users\biocbuild\bbs-3.14-bioc\R\bin\R.exe CMD INSTALL bumphunter_1.36.0.zip && rm bumphunter_1.36.0.tar.gz bumphunter_1.36.0.zip
###
##############################################################################
##############################################################################


  % Total    % Received % Xferd  Average Speed   Time    Time     Time  Current
                                 Dload  Upload   Total   Spent    Left  Speed

  0     0    0     0    0     0      0      0 --:--:-- --:--:-- --:--:--     0
100 2275k  100 2275k    0     0  4646k      0 --:--:-- --:--:-- --:--:-- 4653k

install for i386

* installing *source* package 'bumphunter' ...
** using staged installation
** R
** data
*** moving datasets to lazyload DB
** inst
** byte-compile and prepare package for lazy loading
** help
*** installing help indices
  converting help for package 'bumphunter'
    finding HTML links ... done
    TT                                      html  
    annotateNearest                         html  
    annotateTranscripts                     html  
    bumphunter                              html  
    clusterMaker                            html  
    dummyData                               html  
    getSegments                             html  
    locfitByCluster                         html  
    loessByCluster                          html  
    matchGenes                              html  
    regionFinder                            html  
    runmedByCluster                         html  
    smoother                                html  
** building package indices
** installing vignettes
** testing if installed package can be loaded from temporary location
** testing if installed package can be loaded from final location
** testing if installed package keeps a record of temporary installation path

install for x64

* installing *source* package 'bumphunter' ...
** testing if installed package can be loaded
* MD5 sums
packaged installation of 'bumphunter' as bumphunter_1.36.0.zip
* DONE (bumphunter)
* installing to library 'C:/Users/biocbuild/bbs-3.14-bioc/R/library'
package 'bumphunter' successfully unpacked and MD5 sums checked