Back to Multiple platform build/check report for BioC 3.14
A[B]CDEFGHIJKLMNOPQRSTUVWXYZ

This page was generated on 2022-01-21 13:06:03 -0500 (Fri, 21 Jan 2022).

HostnameOSArch (*)R versionInstalled pkgs
nebbiolo2Linux (Ubuntu 20.04.4 LTS)x86_644.1.2 (2021-11-01) -- "Bird Hippie" 4329
tokay2Windows Server 2012 R2 Standardx644.1.2 (2021-11-01) -- "Bird Hippie" 4079
machv2macOS 10.14.6 Mojavex86_644.1.2 (2021-11-01) -- "Bird Hippie" 4140
Click on any hostname to see more info about the system (e.g. compilers)      (*) as reported by 'uname -p', except on Windows and Mac OS X

INSTALL results for bugsigdbr on tokay2


To the developers/maintainers of the bugsigdbr package:
- Please allow up to 24 hours (and sometimes 48 hours) for your latest push to git@git.bioconductor.org:packages/bugsigdbr.git to
reflect on this report. See How and When does the builder pull? When will my changes propagate? here for more information.
- Make sure to use the following settings in order to reproduce any error or warning you see on this page.

raw results

Package 225/2083HostnameOS / ArchINSTALLBUILDCHECKBUILD BIN
bugsigdbr 1.0.1  (landing page)
Ludwig Geistlinger
Snapshot Date: 2022-01-20 01:55:04 -0500 (Thu, 20 Jan 2022)
git_url: https://git.bioconductor.org/packages/bugsigdbr
git_branch: RELEASE_3_14
git_last_commit: 2f43bd1
git_last_commit_date: 2021-11-02 13:09:50 -0500 (Tue, 02 Nov 2021)
nebbiolo2Linux (Ubuntu 20.04.4 LTS) / x86_64  OK    OK    OK  UNNEEDED, same version is already published
tokay2Windows Server 2012 R2 Standard / x64  OK    OK    OK    OK  UNNEEDED, same version is already published
machv2macOS 10.14.6 Mojave / x86_64  OK    OK    OK    OK  UNNEEDED, same version is already published

Summary

Package: bugsigdbr
Version: 1.0.1
Command: C:\cygwin\bin\curl.exe -O http://155.52.207.166/BBS/3.14/bioc/src/contrib/bugsigdbr_1.0.1.tar.gz && rm -rf bugsigdbr.buildbin-libdir && mkdir bugsigdbr.buildbin-libdir && C:\Users\biocbuild\bbs-3.14-bioc\R\bin\R.exe CMD INSTALL --merge-multiarch --build --library=bugsigdbr.buildbin-libdir bugsigdbr_1.0.1.tar.gz && C:\Users\biocbuild\bbs-3.14-bioc\R\bin\R.exe CMD INSTALL bugsigdbr_1.0.1.zip && rm bugsigdbr_1.0.1.tar.gz bugsigdbr_1.0.1.zip
StartedAt: 2022-01-20 05:50:47 -0500 (Thu, 20 Jan 2022)
EndedAt: 2022-01-20 05:51:14 -0500 (Thu, 20 Jan 2022)
EllapsedTime: 27.3 seconds
RetCode: 0
Status:   OK  

Command output

##############################################################################
##############################################################################
###
### Running command:
###
###   C:\cygwin\bin\curl.exe -O http://155.52.207.166/BBS/3.14/bioc/src/contrib/bugsigdbr_1.0.1.tar.gz && rm -rf bugsigdbr.buildbin-libdir && mkdir bugsigdbr.buildbin-libdir && C:\Users\biocbuild\bbs-3.14-bioc\R\bin\R.exe CMD INSTALL --merge-multiarch --build --library=bugsigdbr.buildbin-libdir bugsigdbr_1.0.1.tar.gz && C:\Users\biocbuild\bbs-3.14-bioc\R\bin\R.exe CMD INSTALL bugsigdbr_1.0.1.zip && rm bugsigdbr_1.0.1.tar.gz bugsigdbr_1.0.1.zip
###
##############################################################################
##############################################################################


  % Total    % Received % Xferd  Average Speed   Time    Time     Time  Current
                                 Dload  Upload   Total   Spent    Left  Speed

  0     0    0     0    0     0      0      0 --:--:-- --:--:-- --:--:--     0
100 24776  100 24776    0     0   210k      0 --:--:-- --:--:-- --:--:--  212k

install for i386

* installing *source* package 'bugsigdbr' ...
** using staged installation
** R
** byte-compile and prepare package for lazy loading
** help
*** installing help indices
  converting help for package 'bugsigdbr'
    finding HTML links ... done
    browseSignature                         html  
    browseTaxon                             html  
    extractTaxLevel                         html  
    getSignatures                           html  
    importBugSigDB                          html  
    restrictTaxLevel                        html  
    writeGMT                                html  
** building package indices
** installing vignettes
** testing if installed package can be loaded from temporary location
** testing if installed package can be loaded from final location
** testing if installed package keeps a record of temporary installation path

install for x64

* installing *source* package 'bugsigdbr' ...
** testing if installed package can be loaded
* MD5 sums
packaged installation of 'bugsigdbr' as bugsigdbr_1.0.1.zip
* DONE (bugsigdbr)
* installing to library 'C:/Users/biocbuild/bbs-3.14-bioc/R/library'
package 'bugsigdbr' successfully unpacked and MD5 sums checked