Back to Multiple platform build/check report for BioC 3.14
A[B]CDEFGHIJKLMNOPQRSTUVWXYZ

This page was generated on 2021-11-29 15:04:22 -0500 (Mon, 29 Nov 2021).

All results for package bugsigdbr

To the developers/maintainers of the bugsigdbr package:
- Please allow up to 24 hours (and sometimes 48 hours) for your latest push to git@git.bioconductor.org:packages/bugsigdbr.git to
reflect on this report. See How and When does the builder pull? When will my changes propagate? here for more information.
- Make sure to use the following settings in order to reproduce any error or warning you see on this page.

raw results

Package 225/2083HostnameOS / ArchINSTALLBUILDCHECKBUILD BIN
bugsigdbr 1.0.1  (landing page)
Ludwig Geistlinger
Snapshot Date: 2021-11-28 04:15:06 -0500 (Sun, 28 Nov 2021)
git_url: https://git.bioconductor.org/packages/bugsigdbr
git_branch: RELEASE_3_14
git_last_commit: 2f43bd1
git_last_commit_date: 2021-11-02 13:09:50 -0500 (Tue, 02 Nov 2021)
nebbiolo2Linux (Ubuntu 20.04.3 LTS) / x86_64  OK    OK    OK  UNNEEDED, same version is already published
tokay2Windows Server 2012 R2 Standard / x64  OK    OK    OK    OK  UNNEEDED, same version is already published
machv2macOS 10.14.6 Mojave / x86_64  OK    OK    OK    OK  UNNEEDED, same version is already published