Back to Multiple platform build/check report for BioC 3.14
A[B]CDEFGHIJKLMNOPQRSTUVWXYZ

This page was generated on 2021-10-20 12:04:37 -0400 (Wed, 20 Oct 2021).

BUILD results for breakpointR on nebbiolo2

To the developers/maintainers of the breakpointR package:
- Please allow up to 24 hours (and sometimes 48 hours) for your latest push to git@git.bioconductor.org:packages/breakpointR.git to
reflect on this report. See How and When does the builder pull? When will my changes propagate? here for more information.
- Make sure to use the following settings in order to reproduce any error or warning you see on this page.

raw results

Package 212/2072HostnameOS / ArchINSTALLBUILDCHECKBUILD BIN
breakpointR 1.11.0  (landing page)
David Porubsky
Snapshot Date: 2021-10-19 14:50:04 -0400 (Tue, 19 Oct 2021)
git_url: https://git.bioconductor.org/packages/breakpointR
git_branch: master
git_last_commit: 5fe1388
git_last_commit_date: 2021-05-19 12:38:04 -0400 (Wed, 19 May 2021)
nebbiolo2Linux (Ubuntu 20.04.2 LTS) / x86_64  OK    OK    OK  UNNEEDED, same version is already published
riesling1Windows Server 2019 Standard / x64  OK    OK    OK    OK  UNNEEDED, same version is already published
merida1macOS 10.14.6 Mojave / x86_64  OK    OK    OK    OK  UNNEEDED, same version is already published

Summary

Package: breakpointR
Version: 1.11.0
Command: /home/biocbuild/bbs-3.14-bioc/R/bin/R CMD build --keep-empty-dirs --no-resave-data breakpointR
StartedAt: 2021-10-19 16:52:50 -0400 (Tue, 19 Oct 2021)
EndedAt: 2021-10-19 16:53:58 -0400 (Tue, 19 Oct 2021)
EllapsedTime: 68.4 seconds
RetCode: 0
Status:   OK  
PackageFile: breakpointR_1.11.0.tar.gz
PackageFileSize: 1.059 MiB

Command output

##############################################################################
##############################################################################
###
### Running command:
###
###   /home/biocbuild/bbs-3.14-bioc/R/bin/R CMD build --keep-empty-dirs --no-resave-data breakpointR
###
##############################################################################
##############################################################################


* checking for file ‘breakpointR/DESCRIPTION’ ... OK
* preparing ‘breakpointR’:
* checking DESCRIPTION meta-information ... OK
* installing the package to build vignettes
* creating vignettes ... OK
* checking for LF line-endings in source and make files and shell scripts
* checking for empty or unneeded directories
* building ‘breakpointR_1.11.0.tar.gz’