Back to Multiple platform build/check report for BioC 3.14
A[B]CDEFGHIJKLMNOPQRSTUVWXYZ

This page was generated on 2021-10-25 14:06:07 -0400 (Mon, 25 Oct 2021).

BUILD results for brainflowprobes on riesling1

To the developers/maintainers of the brainflowprobes package:
- Please allow up to 24 hours (and sometimes 48 hours) for your latest push to git@git.bioconductor.org:packages/brainflowprobes.git to
reflect on this report. See How and When does the builder pull? When will my changes propagate? here for more information.
- Make sure to use the following settings in order to reproduce any error or warning you see on this page.

raw results

Package 210/2083HostnameOS / ArchINSTALLBUILDCHECKBUILD BIN
brainflowprobes 1.7.1  (landing page)
Amanda Price
Snapshot Date: 2021-10-24 14:50:04 -0400 (Sun, 24 Oct 2021)
git_url: https://git.bioconductor.org/packages/brainflowprobes
git_branch: master
git_last_commit: 6f4c8d5
git_last_commit_date: 2021-08-09 20:15:14 -0400 (Mon, 09 Aug 2021)
nebbiolo2Linux (Ubuntu 20.04.2 LTS) / x86_64  OK    OK    OK  UNNEEDED, same version is already published
riesling1Windows Server 2019 Standard / x64  OK    OK    OK    OK  UNNEEDED, same version is already published
merida1macOS 10.14.6 Mojave / x86_64  OK    OK    OK    OK  UNNEEDED, same version is already published
machv2macOS 10.14.6 Mojave / x86_64  OK    OK    OK    OK  

Summary

Package: brainflowprobes
Version: 1.7.1
Command: chmod a+r brainflowprobes -R && D:\biocbuild\bbs-3.14-bioc\R\bin\R.exe CMD build --keep-empty-dirs --no-resave-data brainflowprobes
StartedAt: 2021-10-24 19:52:19 -0400 (Sun, 24 Oct 2021)
EndedAt: 2021-10-24 19:57:05 -0400 (Sun, 24 Oct 2021)
EllapsedTime: 285.8 seconds
RetCode: 0
Status:   OK  
PackageFile: brainflowprobes_1.7.1.tar.gz
PackageFileSize: 2.233 MiB

Command output

##############################################################################
##############################################################################
###
### Running command:
###
###   chmod a+r brainflowprobes -R && D:\biocbuild\bbs-3.14-bioc\R\bin\R.exe CMD build --keep-empty-dirs --no-resave-data brainflowprobes
###
##############################################################################
##############################################################################


* checking for file 'brainflowprobes/DESCRIPTION' ... OK
* preparing 'brainflowprobes':
* checking DESCRIPTION meta-information ... OK
* installing the package to build vignettes
* creating vignettes ... OK
* checking for LF line-endings in source and make files and shell scripts
* checking for empty or unneeded directories
* building 'brainflowprobes_1.7.1.tar.gz'