Back to Multiple platform build/check report for BioC 3.14
A[B]CDEFGHIJKLMNOPQRSTUVWXYZ

This page was generated on 2021-10-23 14:06:53 -0400 (Sat, 23 Oct 2021).

BUILD BIN results for brainflowprobes on merida1

To the developers/maintainers of the brainflowprobes package:
- Please allow up to 24 hours (and sometimes 48 hours) for your latest push to git@git.bioconductor.org:packages/brainflowprobes.git to
reflect on this report. See How and When does the builder pull? When will my changes propagate? here for more information.
- Make sure to use the following settings in order to reproduce any error or warning you see on this page.

raw results

Package 210/2083HostnameOS / ArchINSTALLBUILDCHECKBUILD BIN
brainflowprobes 1.7.1  (landing page)
Amanda Price
Snapshot Date: 2021-10-22 14:50:11 -0400 (Fri, 22 Oct 2021)
git_url: https://git.bioconductor.org/packages/brainflowprobes
git_branch: master
git_last_commit: 6f4c8d5
git_last_commit_date: 2021-08-09 20:15:14 -0400 (Mon, 09 Aug 2021)
nebbiolo2Linux (Ubuntu 20.04.2 LTS) / x86_64  OK    OK    OK  UNNEEDED, same version is already published
riesling1Windows Server 2019 Standard / x64  OK    OK    OK    OK  UNNEEDED, same version is already published
merida1macOS 10.14.6 Mojave / x86_64  OK    OK    OK    OK  UNNEEDED, same version is already published

Summary

Package: brainflowprobes
Version: 1.7.1
Command: rm -rf brainflowprobes.buildbin-libdir && mkdir brainflowprobes.buildbin-libdir && /Users/biocbuild/BBS/utils/build-universal.sh brainflowprobes_1.7.1.tar.gz /Library/Frameworks/R.framework/Resources/bin/R brainflowprobes.buildbin-libdir
StartedAt: 2021-10-23 11:16:27 -0400 (Sat, 23 Oct 2021)
EndedAt: 2021-10-23 11:17:24 -0400 (Sat, 23 Oct 2021)
EllapsedTime: 57.3 seconds
RetCode: 0
Status:   OK  
PackageFile: brainflowprobes_1.7.1.tgz
PackageFileSize: 1.757 MiB

Command output

##############################################################################
##############################################################################
###
### Running command:
###
###   rm -rf brainflowprobes.buildbin-libdir && mkdir brainflowprobes.buildbin-libdir && /Users/biocbuild/BBS/utils/build-universal.sh brainflowprobes_1.7.1.tar.gz /Library/Frameworks/R.framework/Resources/bin/R brainflowprobes.buildbin-libdir
###
##############################################################################
##############################################################################


>>>>>>> 
>>>>>>> INSTALLATION WITH 'R CMD INSTALL --preclean --no-multiarch --library=brainflowprobes.buildbin-libdir brainflowprobes_1.7.1.tar.gz'
>>>>>>> 

* installing *source* package ‘brainflowprobes’ ...
** using staged installation
** R
** data
*** moving datasets to lazyload DB
** inst
** byte-compile and prepare package for lazy loading
** help
*** installing help indices
** building package indices
** installing vignettes
** testing if installed package can be loaded from temporary location
** testing if installed package can be loaded from final location
** testing if installed package keeps a record of temporary installation path
* DONE (brainflowprobes)