Back to Multiple platform build/check report for BioC 3.14
A[B]CDEFGHIJKLMNOPQRSTUVWXYZ

This page was generated on 2021-10-19 12:04:48 -0400 (Tue, 19 Oct 2021).

INSTALL results for bnem on riesling1

To the developers/maintainers of the bnem package:
- Please allow up to 24 hours (and sometimes 48 hours) for your latest push to git@git.bioconductor.org:packages/bnem.git to
reflect on this report. See How and When does the builder pull? When will my changes propagate? here for more information.
- Make sure to use the following settings in order to reproduce any error or warning you see on this page.

raw results

Package 203/2060HostnameOS / ArchINSTALLBUILDCHECKBUILD BIN
bnem 1.1.3  (landing page)
Martin Pirkl
Snapshot Date: 2021-10-18 14:50:10 -0400 (Mon, 18 Oct 2021)
git_url: https://git.bioconductor.org/packages/bnem
git_branch: master
git_last_commit: 43cf9d2
git_last_commit_date: 2021-10-08 05:12:44 -0400 (Fri, 08 Oct 2021)
nebbiolo2Linux (Ubuntu 20.04.2 LTS) / x86_64  OK    OK    OK  UNNEEDED, same version is already published
riesling1Windows Server 2019 Standard / x64  OK    OK    OK    OK  UNNEEDED, same version is already published
merida1macOS 10.14.6 Mojave / x86_64  OK    OK    OK    OK  UNNEEDED, same version is already published

Summary

Package: bnem
Version: 1.1.3
Command: C:\cygwin\bin\curl.exe -O http://155.52.207.166/BBS/3.14/bioc/src/contrib/bnem_1.1.3.tar.gz && rm -rf bnem.buildbin-libdir && mkdir bnem.buildbin-libdir && D:\biocbuild\bbs-3.14-bioc\R\bin\R.exe CMD INSTALL --merge-multiarch --build --library=bnem.buildbin-libdir bnem_1.1.3.tar.gz && D:\biocbuild\bbs-3.14-bioc\R\bin\R.exe CMD INSTALL bnem_1.1.3.zip && rm bnem_1.1.3.tar.gz bnem_1.1.3.zip
StartedAt: 2021-10-18 19:23:00 -0400 (Mon, 18 Oct 2021)
EndedAt: 2021-10-18 19:25:53 -0400 (Mon, 18 Oct 2021)
EllapsedTime: 172.4 seconds
RetCode: 0
Status:   OK  

Command output

##############################################################################
##############################################################################
###
### Running command:
###
###   C:\cygwin\bin\curl.exe -O http://155.52.207.166/BBS/3.14/bioc/src/contrib/bnem_1.1.3.tar.gz && rm -rf bnem.buildbin-libdir && mkdir bnem.buildbin-libdir && D:\biocbuild\bbs-3.14-bioc\R\bin\R.exe CMD INSTALL --merge-multiarch --build --library=bnem.buildbin-libdir bnem_1.1.3.tar.gz && D:\biocbuild\bbs-3.14-bioc\R\bin\R.exe CMD INSTALL bnem_1.1.3.zip && rm bnem_1.1.3.tar.gz bnem_1.1.3.zip
###
##############################################################################
##############################################################################


  % Total    % Received % Xferd  Average Speed   Time    Time     Time  Current
                                 Dload  Upload   Total   Spent    Left  Speed

  0     0    0     0    0     0      0      0 --:--:-- --:--:-- --:--:--     0
100  633k  100  633k    0     0  2110k      0 --:--:-- --:--:-- --:--:-- 2110k

install for i386

* installing *source* package 'bnem' ...
** using staged installation
** R
** data
** inst
** byte-compile and prepare package for lazy loading
** help
*** installing help indices
  converting help for package 'bnem'
    finding HTML links ... done
    absorption                              html  
    absorptionII                            html  
    addNoise                                html  
    bcr                                     html  
    bnem                                    html  
    bnemBs                                  html  
    computeFc                               html  
    convertGraph                            html  
    dummyCNOlist                            html  
    epiNEM2Bg                               html  
    findResiduals                           html  
    plot.bnem                               html  
    plot.bnembs                             html  
    plot.bnemsim                            html  
    processDataBCR                          html  
    randomDnf                               html  
    reduceGraph                             html  
    scoreDnf                                html  
    simBoolGtn                              html  
    simulateStatesRecursive                 html  
    transClose                              html  
    transRed                                html  
    validateGraph                           html  
** building package indices
** installing vignettes
** testing if installed package can be loaded from temporary location
** testing if installed package can be loaded from final location
** testing if installed package keeps a record of temporary installation path

install for x64

* installing *source* package 'bnem' ...
** testing if installed package can be loaded
* MD5 sums
packaged installation of 'bnem' as bnem_1.1.3.zip
* DONE (bnem)
* installing to library 'D:/biocbuild/bbs-3.14-bioc/R/library'
package 'bnem' successfully unpacked and MD5 sums checked