Index of /checkResults/3.14/bioc-LATEST/bnem/raw-results/tokay2

[ICO]NameLast modifiedSizeDescription

[DIR]Parent Directory  -  
[TXT]buildbin-out.txt22-Jan-2022 03:06 2.4K 
[   ]buildbin-summary.dcf22-Jan-2022 03:06 518  
[TXT]buildsrc-out.txt22-Jan-2022 03:06 889  
[   ]buildsrc-summary.dcf22-Jan-2022 03:06 444  
[TXT]checksrc-out.txt22-Jan-2022 03:06 3.9K 
[   ]checksrc-summary.dcf22-Jan-2022 03:06 448  
[TXT]install-out.txt22-Jan-2022 03:06 3.1K 
[   ]install-summary.dcf22-Jan-2022 03:06 607