Index of /checkResults/3.14/bioc-LATEST/bnem/raw-results/nebbiolo2

[ICO]NameLast modifiedSizeDescription

[DIR]Parent Directory  -  
[TXT]buildsrc-out.txt15-Jan-2022 03:04 856  
[   ]buildsrc-summary.dcf15-Jan-2022 03:04 406  
[TXT]checksrc-out.txt15-Jan-2022 03:04 3.3K 
[   ]checksrc-summary.dcf15-Jan-2022 03:04 410  
[TXT]install-out.txt15-Jan-2022 03:04 946  
[   ]install-summary.dcf15-Jan-2022 03:04 252