Index of /checkResults/3.14/bioc-LATEST/bnem/raw-results/machv2

[ICO]NameLast modifiedSizeDescription

[DIR]Parent Directory  -  
[TXT]buildbin-out.txt15-Jan-2022 03:07 1.1K 
[   ]buildbin-summary.dcf15-Jan-2022 03:07 509  
[TXT]buildsrc-out.txt15-Jan-2022 03:07 866  
[   ]buildsrc-summary.dcf15-Jan-2022 03:07 417  
[TXT]checksrc-out.txt15-Jan-2022 03:07 3.3K 
[   ]checksrc-summary.dcf15-Jan-2022 03:07 430  
[TXT]install-out.txt15-Jan-2022 03:07 1.0K 
[   ]install-summary.dcf15-Jan-2022 03:07 262