Back to Multiple platform build/check report for BioC 3.14
A[B]CDEFGHIJKLMNOPQRSTUVWXYZ

This page was generated on 2021-10-27 13:53:36 -0400 (Wed, 27 Oct 2021).

BUILD BIN results for bnem on merida1

To the developers/maintainers of the bnem package:
- Please allow up to 24 hours (and sometimes 48 hours) for your latest push to git@git.bioconductor.org:packages/bnem.git to
reflect on this report. See How and When does the builder pull? When will my changes propagate? here for more information.
- Make sure to use the following settings in order to reproduce any error or warning you see on this page.

raw results

Package 207/2083HostnameOS / ArchINSTALLBUILDCHECKBUILD BIN
bnem 1.2.0  (landing page)
Martin Pirkl
Snapshot Date: 2021-10-26 14:50:08 -0400 (Tue, 26 Oct 2021)
git_url: https://git.bioconductor.org/packages/bnem
git_branch: RELEASE_3_14
git_last_commit: 7189a51
git_last_commit_date: 2021-10-26 13:05:36 -0400 (Tue, 26 Oct 2021)
nebbiolo2Linux (Ubuntu 20.04.2 LTS) / x86_64  OK    OK    OK  YES
riesling1Windows Server 2019 Standard / x64  OK    OK    OK    OK  YES
merida1macOS 10.14.6 Mojave / x86_64  OK    OK    OK    OK  YES
machv2macOS 10.14.6 Mojave / x86_64  OK    OK    OK    OK  

Summary

Package: bnem
Version: 1.2.0
Command: rm -rf bnem.buildbin-libdir && mkdir bnem.buildbin-libdir && /Users/biocbuild/BBS/utils/build-universal.sh bnem_1.2.0.tar.gz /Library/Frameworks/R.framework/Resources/bin/R bnem.buildbin-libdir
StartedAt: 2021-10-27 11:03:50 -0400 (Wed, 27 Oct 2021)
EndedAt: 2021-10-27 11:04:47 -0400 (Wed, 27 Oct 2021)
EllapsedTime: 57.0 seconds
RetCode: 0
Status:   OK  
PackageFile: bnem_1.2.0.tgz
PackageFileSize: 1.807 MiB

Command output

##############################################################################
##############################################################################
###
### Running command:
###
###   rm -rf bnem.buildbin-libdir && mkdir bnem.buildbin-libdir && /Users/biocbuild/BBS/utils/build-universal.sh bnem_1.2.0.tar.gz /Library/Frameworks/R.framework/Resources/bin/R bnem.buildbin-libdir
###
##############################################################################
##############################################################################


>>>>>>> 
>>>>>>> INSTALLATION WITH 'R CMD INSTALL --preclean --no-multiarch --library=bnem.buildbin-libdir bnem_1.2.0.tar.gz'
>>>>>>> 

* installing *source* package ‘bnem’ ...
** using staged installation
** R
** data
** inst
** byte-compile and prepare package for lazy loading
** help
*** installing help indices
** building package indices
** installing vignettes
** testing if installed package can be loaded from temporary location
** testing if installed package can be loaded from final location
** testing if installed package keeps a record of temporary installation path
* DONE (bnem)