Back to Multiple platform build/check report for BioC 3.14
A[B]CDEFGHIJKLMNOPQRSTUVWXYZ

This page was generated on 2021-11-29 15:05:48 -0500 (Mon, 29 Nov 2021).

BUILD results for bnbc on machv2

To the developers/maintainers of the bnbc package:
- Please allow up to 24 hours (and sometimes 48 hours) for your latest push to git@git.bioconductor.org:packages/bnbc.git to
reflect on this report. See How and When does the builder pull? When will my changes propagate? here for more information.
- Make sure to use the following settings in order to reproduce any error or warning you see on this page.

raw results

Package 206/2083HostnameOS / ArchINSTALLBUILDCHECKBUILD BIN
bnbc 1.16.0  (landing page)
Kipper Fletez-Brant
Snapshot Date: 2021-11-28 04:15:06 -0500 (Sun, 28 Nov 2021)
git_url: https://git.bioconductor.org/packages/bnbc
git_branch: RELEASE_3_14
git_last_commit: 26377da
git_last_commit_date: 2021-10-26 12:39:02 -0500 (Tue, 26 Oct 2021)
nebbiolo2Linux (Ubuntu 20.04.3 LTS) / x86_64  OK    OK    OK  UNNEEDED, same version is already published
tokay2Windows Server 2012 R2 Standard / x64  OK    OK    OK    OK  UNNEEDED, same version is already published
machv2macOS 10.14.6 Mojave / x86_64  OK    OK    OK    OK  UNNEEDED, same version is already published

Summary

Package: bnbc
Version: 1.16.0
Command: /Library/Frameworks/R.framework/Resources/bin/R CMD build --keep-empty-dirs --no-resave-data bnbc
StartedAt: 2021-11-28 07:56:01 -0500 (Sun, 28 Nov 2021)
EndedAt: 2021-11-28 07:58:09 -0500 (Sun, 28 Nov 2021)
EllapsedTime: 128.2 seconds
RetCode: 0
Status:   OK  
PackageFile: bnbc_1.16.0.tar.gz
PackageFileSize: 2.685 MiB

Command output

##############################################################################
##############################################################################
###
### Running command:
###
###   /Library/Frameworks/R.framework/Resources/bin/R CMD build --keep-empty-dirs --no-resave-data bnbc
###
##############################################################################
##############################################################################


* checking for file ‘bnbc/DESCRIPTION’ ... OK
* preparing ‘bnbc’:
* checking DESCRIPTION meta-information ... OK
* cleaning src
* installing the package to process help pages
* saving partial Rd database
* creating vignettes ... OK
* cleaning src
* checking for LF line-endings in source and make files and shell scripts
* checking for empty or unneeded directories
* looking to see if a ‘data/datalist’ file should be added
* building ‘bnbc_1.16.0.tar.gz’