Back to Multiple platform build/check report for BioC 3.14
A[B]CDEFGHIJKLMNOPQRSTUVWXYZ

This page was generated on 2021-10-19 12:04:48 -0400 (Tue, 19 Oct 2021).

CHECK results for bluster on riesling1

To the developers/maintainers of the bluster package:
- Please allow up to 24 hours (and sometimes 48 hours) for your latest push to git@git.bioconductor.org:packages/bluster.git to
reflect on this report. See How and When does the builder pull? When will my changes propagate? here for more information.
- Make sure to use the following settings in order to reproduce any error or warning you see on this page.

raw results

Package 201/2060HostnameOS / ArchINSTALLBUILDCHECKBUILD BIN
bluster 1.3.2  (landing page)
Aaron Lun
Snapshot Date: 2021-10-18 14:50:10 -0400 (Mon, 18 Oct 2021)
git_url: https://git.bioconductor.org/packages/bluster
git_branch: master
git_last_commit: 921a1a5
git_last_commit_date: 2021-08-30 01:26:39 -0400 (Mon, 30 Aug 2021)
nebbiolo2Linux (Ubuntu 20.04.2 LTS) / x86_64  OK    OK    OK  UNNEEDED, same version is already published
riesling1Windows Server 2019 Standard / x64  OK    OK    OK    OK  UNNEEDED, same version is already published
merida1macOS 10.14.6 Mojave / x86_64  OK    OK    OK    OK  UNNEEDED, same version is already published

Summary

Package: bluster
Version: 1.3.2
Command: D:\biocbuild\bbs-3.14-bioc\R\bin\R.exe CMD check --force-multiarch --install=check:bluster.install-out.txt --library=D:\biocbuild\bbs-3.14-bioc\R\library --no-vignettes --timings bluster_1.3.2.tar.gz
StartedAt: 2021-10-19 00:27:10 -0400 (Tue, 19 Oct 2021)
EndedAt: 2021-10-19 00:30:34 -0400 (Tue, 19 Oct 2021)
EllapsedTime: 203.3 seconds
RetCode: 0
Status:   OK  
CheckDir: bluster.Rcheck
Warnings: 0

Command output

##############################################################################
##############################################################################
###
### Running command:
###
###   D:\biocbuild\bbs-3.14-bioc\R\bin\R.exe CMD check --force-multiarch --install=check:bluster.install-out.txt --library=D:\biocbuild\bbs-3.14-bioc\R\library --no-vignettes --timings bluster_1.3.2.tar.gz
###
##############################################################################
##############################################################################


* using log directory 'D:/biocbuild/bbs-3.14-bioc/meat/bluster.Rcheck'
* using R version 4.1.1 (2021-08-10)
* using platform: x86_64-w64-mingw32 (64-bit)
* using session charset: ISO8859-1
* using option '--no-vignettes'
* checking for file 'bluster/DESCRIPTION' ... OK
* this is package 'bluster' version '1.3.2'
* checking package namespace information ... OK
* checking package dependencies ... OK
* checking if this is a source package ... OK
* checking if there is a namespace ... OK
* checking for hidden files and directories ... OK
* checking for portable file names ... OK
* checking whether package 'bluster' can be installed ... OK
* checking installed package size ... OK
* checking package directory ... OK
* checking 'build' directory ... OK
* checking DESCRIPTION meta-information ... OK
* checking top-level files ... OK
* checking for left-over files ... OK
* checking index information ... OK
* checking package subdirectories ... OK
* checking R files for non-ASCII characters ... OK
* checking R files for syntax errors ... OK
* loading checks for arch 'i386'
** checking whether the package can be loaded ... OK
** checking whether the package can be loaded with stated dependencies ... OK
** checking whether the package can be unloaded cleanly ... OK
** checking whether the namespace can be loaded with stated dependencies ... OK
** checking whether the namespace can be unloaded cleanly ... OK
* loading checks for arch 'x64'
** checking whether the package can be loaded ... OK
** checking whether the package can be loaded with stated dependencies ... OK
** checking whether the package can be unloaded cleanly ... OK
** checking whether the namespace can be loaded with stated dependencies ... OK
** checking whether the namespace can be unloaded cleanly ... OK
* checking dependencies in R code ... OK
* checking S3 generic/method consistency ... OK
* checking replacement functions ... OK
* checking foreign function calls ... OK
* checking R code for possible problems ... OK
* checking Rd files ... OK
* checking Rd metadata ... OK
* checking Rd cross-references ... OK
* checking for missing documentation entries ... OK
* checking for code/documentation mismatches ... OK
* checking Rd \usage sections ... OK
* checking Rd contents ... OK
* checking for unstated dependencies in examples ... OK
* checking line endings in C/C++/Fortran sources/headers ... OK
* checking compiled code ... NOTE
Note: information on .o files for i386 is not available
Note: information on .o files for x64 is not available
File 'D:/biocbuild/bbs-3.14-bioc/R/library/bluster/libs/i386/bluster.dll':
  Found 'abort', possibly from 'abort' (C), 'runtime' (Fortran)
  Found 'exit', possibly from 'exit' (C), 'stop' (Fortran)
  Found 'printf', possibly from 'printf' (C)
File 'D:/biocbuild/bbs-3.14-bioc/R/library/bluster/libs/x64/bluster.dll':
  Found 'abort', possibly from 'abort' (C), 'runtime' (Fortran)
  Found 'exit', possibly from 'exit' (C), 'stop' (Fortran)
  Found 'printf', possibly from 'printf' (C)

Compiled code should not call entry points which might terminate R nor
write to stdout/stderr instead of to the console, nor use Fortran I/O
nor system RNGs. The detected symbols are linked into the code but
might come from libraries and not actually be called.

See 'Writing portable packages' in the 'Writing R Extensions' manual.
* checking files in 'vignettes' ... OK
* checking examples ...
** running examples for arch 'i386' ... OK
** running examples for arch 'x64' ... OK
* checking for unstated dependencies in 'tests' ... OK
* checking tests ...
** running tests for arch 'i386' ...
  Running 'testthat.R'
 OK
** running tests for arch 'x64' ...
  Running 'testthat.R'
 OK
* checking for unstated dependencies in vignettes ... OK
* checking package vignettes in 'inst/doc' ... OK
* checking running R code from vignettes ... SKIPPED
* checking re-building of vignette outputs ... SKIPPED
* checking PDF version of manual ... OK
* DONE

Status: 1 NOTE
See
  'D:/biocbuild/bbs-3.14-bioc/meat/bluster.Rcheck/00check.log'
for details.



Installation output

bluster.Rcheck/00install.out

##############################################################################
##############################################################################
###
### Running command:
###
###   C:\cygwin\bin\curl.exe -O http://155.52.207.166/BBS/3.14/bioc/src/contrib/bluster_1.3.2.tar.gz && rm -rf bluster.buildbin-libdir && mkdir bluster.buildbin-libdir && D:\biocbuild\bbs-3.14-bioc\R\bin\R.exe CMD INSTALL --merge-multiarch --build --library=bluster.buildbin-libdir bluster_1.3.2.tar.gz && D:\biocbuild\bbs-3.14-bioc\R\bin\R.exe CMD INSTALL bluster_1.3.2.zip && rm bluster_1.3.2.tar.gz bluster_1.3.2.zip
###
##############################################################################
##############################################################################


  % Total    % Received % Xferd  Average Speed   Time    Time     Time  Current
                                 Dload  Upload   Total   Spent    Left  Speed

  0     0    0     0    0     0      0      0 --:--:-- --:--:-- --:--:--     0
100 80958  100 80958    0     0   503k      0 --:--:-- --:--:-- --:--:--  503k

install for i386

* installing *source* package 'bluster' ...
** using staged installation
** libs
"C:/rtools40/mingw32/bin/"g++  -std=gnu++11 -I"D:/biocbuild/bbs-3.14-bioc/R/include" -DNDEBUG  -I'D:/biocbuild/bbs-3.14-bioc/R/library/Rcpp/include'   -I"C:/extsoft/include"     -O2 -Wall  -mfpmath=sse -msse2 -mstackrealign  -c RcppExports.cpp -o RcppExports.o
"C:/rtools40/mingw32/bin/"g++  -std=gnu++11 -I"D:/biocbuild/bbs-3.14-bioc/R/include" -DNDEBUG  -I'D:/biocbuild/bbs-3.14-bioc/R/library/Rcpp/include'   -I"C:/extsoft/include"     -O2 -Wall  -mfpmath=sse -msse2 -mstackrealign  -c build_snn.cpp -o build_snn.o
"C:/rtools40/mingw32/bin/"g++  -std=gnu++11 -I"D:/biocbuild/bbs-3.14-bioc/R/include" -DNDEBUG  -I'D:/biocbuild/bbs-3.14-bioc/R/library/Rcpp/include'   -I"C:/extsoft/include"     -O2 -Wall  -mfpmath=sse -msse2 -mstackrealign  -c sum_neighbor_weights.cpp -o sum_neighbor_weights.o
C:/rtools40/mingw32/bin/g++ -shared -s -static-libgcc -o bluster.dll tmp.def RcppExports.o build_snn.o sum_neighbor_weights.o -LC:/extsoft/lib/i386 -LC:/extsoft/lib -LD:/biocbuild/bbs-3.14-bioc/R/bin/i386 -lR
installing to D:/biocbuild/bbs-3.14-bioc/meat/bluster.buildbin-libdir/00LOCK-bluster/00new/bluster/libs/i386
** R
** inst
** byte-compile and prepare package for lazy loading
** help
*** installing help indices
  converting help for package 'bluster'
    finding HTML links ... done
    AffinityParam-class                     html  
    AgnesParam-class                        html  
    BlusterParam-class                      html  
    ClaraParam-class                        html  
    DbscanParam-class                       html  
    finding level-2 HTML links ... done

    DianaParam-class                        html  
    FixedNumberParam-class                  html  
    HclustParam-class                       html  
    HierarchicalParam-class                 html  
    KmeansParam-class                       html  
    MbkmeansParam-class                     html  
    NNGraphParam-class                      html  
    PamParam-class                          html  
    SomParam-class                          html  
    TwoStepParam-class                      html  
    approxSilhouette                        html  
    bluster-package                         html  
    bootstrapStability                      html  
    clusterRMSD                             html  
    clusterRows                             html  
    clusterSweep                            html  
    compareClusterings                      html  
    defaultArguments                        html  
    linkClusters                            html  
    makeSNNGraph                            html  
    mergeCommunities                        html  
    neighborPurity                          html  
    nestedClusters                          html  
    pairwiseModularity                      html  
    pairwiseRand                            html  
** building package indices
** installing vignettes
** testing if installed package can be loaded from temporary location
** testing if installed package can be loaded from final location
** testing if installed package keeps a record of temporary installation path

install for x64

* installing *source* package 'bluster' ...
** libs
"C:/rtools40/mingw64/bin/"g++  -std=gnu++11 -I"D:/biocbuild/bbs-3.14-bioc/R/include" -DNDEBUG  -I'D:/biocbuild/bbs-3.14-bioc/R/library/Rcpp/include'   -I"C:/extsoft/include"     -O2 -Wall  -mfpmath=sse -msse2 -mstackrealign  -c RcppExports.cpp -o RcppExports.o
"C:/rtools40/mingw64/bin/"g++  -std=gnu++11 -I"D:/biocbuild/bbs-3.14-bioc/R/include" -DNDEBUG  -I'D:/biocbuild/bbs-3.14-bioc/R/library/Rcpp/include'   -I"C:/extsoft/include"     -O2 -Wall  -mfpmath=sse -msse2 -mstackrealign  -c build_snn.cpp -o build_snn.o
"C:/rtools40/mingw64/bin/"g++  -std=gnu++11 -I"D:/biocbuild/bbs-3.14-bioc/R/include" -DNDEBUG  -I'D:/biocbuild/bbs-3.14-bioc/R/library/Rcpp/include'   -I"C:/extsoft/include"     -O2 -Wall  -mfpmath=sse -msse2 -mstackrealign  -c sum_neighbor_weights.cpp -o sum_neighbor_weights.o
C:/rtools40/mingw64/bin/g++ -shared -s -static-libgcc -o bluster.dll tmp.def RcppExports.o build_snn.o sum_neighbor_weights.o -LC:/extsoft/lib/x64 -LC:/extsoft/lib -LD:/biocbuild/bbs-3.14-bioc/R/bin/x64 -lR
installing to D:/biocbuild/bbs-3.14-bioc/meat/bluster.buildbin-libdir/bluster/libs/x64
** testing if installed package can be loaded
* MD5 sums
packaged installation of 'bluster' as bluster_1.3.2.zip
* DONE (bluster)
* installing to library 'D:/biocbuild/bbs-3.14-bioc/R/library'
package 'bluster' successfully unpacked and MD5 sums checked

Tests output

bluster.Rcheck/tests_i386/testthat.Rout


R version 4.1.1 (2021-08-10) -- "Kick Things"
Copyright (C) 2021 The R Foundation for Statistical Computing
Platform: i386-w64-mingw32/i386 (32-bit)

R is free software and comes with ABSOLUTELY NO WARRANTY.
You are welcome to redistribute it under certain conditions.
Type 'license()' or 'licence()' for distribution details.

R is a collaborative project with many contributors.
Type 'contributors()' for more information and
'citation()' on how to cite R or R packages in publications.

Type 'demo()' for some demos, 'help()' for on-line help, or
'help.start()' for an HTML browser interface to help.
Type 'q()' to quit R.

> library(testthat)
> library(bluster)
> test_check("bluster")
[ FAIL 0 | WARN 1 | SKIP 0 | PASS 2228 ]
> 
> proc.time()
   user  system elapsed 
  21.90    0.62   22.51 

bluster.Rcheck/tests_x64/testthat.Rout


R version 4.1.1 (2021-08-10) -- "Kick Things"
Copyright (C) 2021 The R Foundation for Statistical Computing
Platform: x86_64-w64-mingw32/x64 (64-bit)

R is free software and comes with ABSOLUTELY NO WARRANTY.
You are welcome to redistribute it under certain conditions.
Type 'license()' or 'licence()' for distribution details.

R is a collaborative project with many contributors.
Type 'contributors()' for more information and
'citation()' on how to cite R or R packages in publications.

Type 'demo()' for some demos, 'help()' for on-line help, or
'help.start()' for an HTML browser interface to help.
Type 'q()' to quit R.

> library(testthat)
> library(bluster)
> test_check("bluster")
[ FAIL 0 | WARN 1 | SKIP 0 | PASS 2228 ]
> 
> proc.time()
   user  system elapsed 
  22.23    0.62   22.85 

Example timings

bluster.Rcheck/examples_i386/bluster-Ex.timings

nameusersystemelapsed
AffinityParam-class0.360.000.36
AgnesParam-class0.030.000.03
ClaraParam-class0.010.000.02
DbscanParam-class0.080.000.08
DianaParam-class0.020.000.01
HclustParam-class0.010.000.02
KmeansParam-class000
MbkmeansParam-class2.940.153.09
NNGraphParam-class0.030.000.03
PamParam-class0.020.000.02
SomParam-class0.030.000.03
TwoStepParam-class0.250.020.27
approxSilhouette0.030.010.04
bootstrapStability0.090.020.11
clusterRMSD0.020.000.02
clusterRows0.340.000.34
clusterSweep0.270.000.27
compareClusterings0.110.000.11
defaultArguments0.010.000.01
linkClusters0.030.000.03
makeSNNGraph0.660.000.66
mergeCommunities0.030.000.03
neighborPurity0.080.000.08
nestedClusters0.020.000.01
pairwiseModularity0.810.030.85
pairwiseRand0.000.020.01

bluster.Rcheck/examples_x64/bluster-Ex.timings

nameusersystemelapsed
AffinityParam-class0.380.040.42
AgnesParam-class0.030.000.03
ClaraParam-class0.020.000.02
DbscanParam-class0.090.000.09
DianaParam-class0.020.000.02
HclustParam-class0.010.000.01
KmeansParam-class000
MbkmeansParam-class3.720.143.86
NNGraphParam-class0.030.020.05
PamParam-class0.020.000.02
SomParam-class0.040.000.04
TwoStepParam-class0.270.000.27
approxSilhouette0.050.000.04
bootstrapStability0.120.000.13
clusterRMSD000
clusterRows0.490.010.50
clusterSweep0.310.000.32
compareClusterings0.560.000.56
defaultArguments000
linkClusters0.030.000.03
makeSNNGraph0.830.000.83
mergeCommunities0.030.000.03
neighborPurity0.060.000.06
nestedClusters0.020.020.03
pairwiseModularity0.620.020.64
pairwiseRand0.020.000.02