Back to Multiple platform build/check report for BioC 3.14
A[B]CDEFGHIJKLMNOPQRSTUVWXYZ

This page was generated on 2021-12-06 13:05:51 -0500 (Mon, 06 Dec 2021).

CHECK results for bluster on machv2

To the developers/maintainers of the bluster package:
- Please allow up to 24 hours (and sometimes 48 hours) for your latest push to git@git.bioconductor.org:packages/bluster.git to
reflect on this report. See How and When does the builder pull? When will my changes propagate? here for more information.
- Make sure to use the following settings in order to reproduce any error or warning you see on this page.

raw results

Package 205/2083HostnameOS / ArchINSTALLBUILDCHECKBUILD BIN
bluster 1.4.0  (landing page)
Aaron Lun
Snapshot Date: 2021-12-05 01:55:05 -0500 (Sun, 05 Dec 2021)
git_url: https://git.bioconductor.org/packages/bluster
git_branch: RELEASE_3_14
git_last_commit: 6f4b821
git_last_commit_date: 2021-10-26 13:01:06 -0500 (Tue, 26 Oct 2021)
nebbiolo2Linux (Ubuntu 20.04.3 LTS) / x86_64  OK    OK    OK  UNNEEDED, same version is already published
tokay2Windows Server 2012 R2 Standard / x64  OK    OK    OK    OK  UNNEEDED, same version is already published
machv2macOS 10.14.6 Mojave / x86_64  OK    OK    OK    OK  UNNEEDED, same version is already published

Summary

Package: bluster
Version: 1.4.0
Command: /Library/Frameworks/R.framework/Resources/bin/R CMD check --install=check:bluster.install-out.txt --library=/Library/Frameworks/R.framework/Resources/library --no-vignettes --timings bluster_1.4.0.tar.gz
StartedAt: 2021-12-05 12:23:48 -0500 (Sun, 05 Dec 2021)
EndedAt: 2021-12-05 12:26:35 -0500 (Sun, 05 Dec 2021)
EllapsedTime: 167.5 seconds
RetCode: 0
Status:   OK  
CheckDir: bluster.Rcheck
Warnings: 0

Command output

##############################################################################
##############################################################################
###
### Running command:
###
###   /Library/Frameworks/R.framework/Resources/bin/R CMD check --install=check:bluster.install-out.txt --library=/Library/Frameworks/R.framework/Resources/library --no-vignettes --timings bluster_1.4.0.tar.gz
###
##############################################################################
##############################################################################


* using log directory ‘/Users/biocbuild/bbs-3.14-bioc/meat/bluster.Rcheck’
* using R version 4.1.2 (2021-11-01)
* using platform: x86_64-apple-darwin17.0 (64-bit)
* using session charset: UTF-8
* using option ‘--no-vignettes’
* checking for file ‘bluster/DESCRIPTION’ ... OK
* this is package ‘bluster’ version ‘1.4.0’
* checking package namespace information ... OK
* checking package dependencies ... OK
* checking if this is a source package ... OK
* checking if there is a namespace ... OK
* checking for hidden files and directories ... OK
* checking for portable file names ... OK
* checking for sufficient/correct file permissions ... OK
* checking whether package ‘bluster’ can be installed ... OK
* checking installed package size ... OK
* checking package directory ... OK
* checking ‘build’ directory ... OK
* checking DESCRIPTION meta-information ... OK
* checking top-level files ... OK
* checking for left-over files ... OK
* checking index information ... OK
* checking package subdirectories ... OK
* checking R files for non-ASCII characters ... OK
* checking R files for syntax errors ... OK
* checking whether the package can be loaded ... OK
* checking whether the package can be loaded with stated dependencies ... OK
* checking whether the package can be unloaded cleanly ... OK
* checking whether the namespace can be loaded with stated dependencies ... OK
* checking whether the namespace can be unloaded cleanly ... OK
* checking dependencies in R code ... OK
* checking S3 generic/method consistency ... OK
* checking replacement functions ... OK
* checking foreign function calls ... OK
* checking R code for possible problems ... OK
* checking Rd files ... OK
* checking Rd metadata ... OK
* checking Rd cross-references ... OK
* checking for missing documentation entries ... OK
* checking for code/documentation mismatches ... OK
* checking Rd \usage sections ... OK
* checking Rd contents ... OK
* checking for unstated dependencies in examples ... OK
* checking line endings in C/C++/Fortran sources/headers ... OK
* checking compiled code ... NOTE
Note: information on .o files is not available
* checking files in ‘vignettes’ ... OK
* checking examples ... OK
Examples with CPU (user + system) or elapsed time > 5s
                     user system elapsed
MbkmeansParam-class 7.083  0.231   7.329
* checking for unstated dependencies in ‘tests’ ... OK
* checking tests ...
  Running ‘testthat.R’
 OK
* checking for unstated dependencies in vignettes ... OK
* checking package vignettes in ‘inst/doc’ ... OK
* checking running R code from vignettes ... SKIPPED
* checking re-building of vignette outputs ... SKIPPED
* checking PDF version of manual ... OK
* DONE

Status: 1 NOTE
See
  ‘/Users/biocbuild/bbs-3.14-bioc/meat/bluster.Rcheck/00check.log’
for details.



Installation output

bluster.Rcheck/00install.out

##############################################################################
##############################################################################
###
### Running command:
###
###   /Library/Frameworks/R.framework/Resources/bin/R CMD INSTALL bluster
###
##############################################################################
##############################################################################


* installing to library ‘/Library/Frameworks/R.framework/Versions/4.1/Resources/library’
* installing *source* package ‘bluster’ ...
** using staged installation
** libs
clang++ -mmacosx-version-min=10.13 -std=gnu++11 -I"/Library/Frameworks/R.framework/Resources/include" -DNDEBUG  -I'/Library/Frameworks/R.framework/Versions/4.1/Resources/library/Rcpp/include' -I/usr/local/include   -fPIC  -Wall -g -O2  -c RcppExports.cpp -o RcppExports.o
clang++ -mmacosx-version-min=10.13 -std=gnu++11 -I"/Library/Frameworks/R.framework/Resources/include" -DNDEBUG  -I'/Library/Frameworks/R.framework/Versions/4.1/Resources/library/Rcpp/include' -I/usr/local/include   -fPIC  -Wall -g -O2  -c build_snn.cpp -o build_snn.o
clang++ -mmacosx-version-min=10.13 -std=gnu++11 -I"/Library/Frameworks/R.framework/Resources/include" -DNDEBUG  -I'/Library/Frameworks/R.framework/Versions/4.1/Resources/library/Rcpp/include' -I/usr/local/include   -fPIC  -Wall -g -O2  -c sum_neighbor_weights.cpp -o sum_neighbor_weights.o
clang++ -mmacosx-version-min=10.13 -std=gnu++11 -dynamiclib -Wl,-headerpad_max_install_names -undefined dynamic_lookup -single_module -multiply_defined suppress -L/Library/Frameworks/R.framework/Resources/lib -L/usr/local/lib -o bluster.so RcppExports.o build_snn.o sum_neighbor_weights.o -F/Library/Frameworks/R.framework/.. -framework R -Wl,-framework -Wl,CoreFoundation
installing to /Library/Frameworks/R.framework/Versions/4.1/Resources/library/00LOCK-bluster/00new/bluster/libs
** R
** inst
** byte-compile and prepare package for lazy loading
** help
*** installing help indices
** building package indices
** installing vignettes
** testing if installed package can be loaded from temporary location
** checking absolute paths in shared objects and dynamic libraries
** testing if installed package can be loaded from final location
** testing if installed package keeps a record of temporary installation path
* DONE (bluster)

Tests output

bluster.Rcheck/tests/testthat.Rout


R version 4.1.2 (2021-11-01) -- "Bird Hippie"
Copyright (C) 2021 The R Foundation for Statistical Computing
Platform: x86_64-apple-darwin17.0 (64-bit)

R is free software and comes with ABSOLUTELY NO WARRANTY.
You are welcome to redistribute it under certain conditions.
Type 'license()' or 'licence()' for distribution details.

R is a collaborative project with many contributors.
Type 'contributors()' for more information and
'citation()' on how to cite R or R packages in publications.

Type 'demo()' for some demos, 'help()' for on-line help, or
'help.start()' for an HTML browser interface to help.
Type 'q()' to quit R.

> library(testthat)
> library(bluster)
> test_check("bluster")
[ FAIL 0 | WARN 1 | SKIP 0 | PASS 2228 ]
> 
> proc.time()
   user  system elapsed 
 47.008   1.633  48.686 

Example timings

bluster.Rcheck/bluster-Ex.timings

nameusersystemelapsed
AffinityParam-class1.0630.0821.147
AgnesParam-class0.0380.0020.040
ClaraParam-class0.0320.0030.036
DbscanParam-class0.1450.0030.149
DianaParam-class0.0290.0030.033
HclustParam-class0.0180.0040.022
KmeansParam-class0.0120.0050.016
MbkmeansParam-class7.0830.2317.329
NNGraphParam-class0.0600.0040.064
PamParam-class0.0280.0040.033
SomParam-class0.0720.0050.077
TwoStepParam-class0.3880.0020.390
approxSilhouette0.0800.0030.082
bootstrapStability0.3240.0090.334
clusterRMSD0.0080.0000.008
clusterRows0.6770.0380.717
clusterSweep0.6640.0170.681
compareClusterings0.7690.0180.786
defaultArguments0.0050.0000.005
linkClusters0.0810.0020.084
makeSNNGraph1.1010.0191.121
mergeCommunities0.0510.0020.052
neighborPurity0.1320.0020.135
nestedClusters0.0430.0020.045
pairwiseModularity0.8060.0210.828
pairwiseRand0.0140.0010.015