Index of /checkResults/3.14/bioc-LATEST/blacksheepr/raw-results/tokay2

[ICO]NameLast modifiedSizeDescription

[DIR]Parent Directory  -  
[TXT]buildbin-out.txt15-Jan-2022 03:06 2.0K 
[   ]buildbin-summary.dcf15-Jan-2022 03:06 560  
[TXT]buildsrc-out.txt15-Jan-2022 03:06 924  
[   ]buildsrc-summary.dcf15-Jan-2022 03:06 473  
[TXT]checksrc-out.txt15-Jan-2022 03:06 4.3K 
[   ]checksrc-summary.dcf15-Jan-2022 03:06 476  
[TXT]install-out.txt15-Jan-2022 03:06 2.8K 
[   ]install-summary.dcf15-Jan-2022 03:06 670