Index of /checkResults/3.14/bioc-LATEST/blacksheepr/raw-results/machv2

[ICO]NameLast modifiedSizeDescription

[DIR]Parent Directory  -  
[TXT]buildbin-out.txt15-Jan-2022 03:07 1.2K 
[   ]buildbin-summary.dcf15-Jan-2022 03:07 551  
[TXT]buildsrc-out.txt15-Jan-2022 03:07 894  
[   ]buildsrc-summary.dcf15-Jan-2022 03:07 438  
[TXT]checksrc-out.txt15-Jan-2022 03:07 3.5K 
[   ]checksrc-summary.dcf15-Jan-2022 03:07 458  
[TXT]install-out.txt15-Jan-2022 03:07 1.0K 
[   ]install-summary.dcf15-Jan-2022 03:07 276