Back to Multiple platform build/check report for BioC 3.14
A[B]CDEFGHIJKLMNOPQRSTUVWXYZ

This page was generated on 2021-10-23 14:06:53 -0400 (Sat, 23 Oct 2021).

INSTALL results for biscuiteer on merida1

To the developers/maintainers of the biscuiteer package:
- Please allow up to 24 hours (and sometimes 48 hours) for your latest push to git@git.bioconductor.org:packages/biscuiteer.git to
reflect on this report. See How and When does the builder pull? When will my changes propagate? here for more information.
- Make sure to use the following settings in order to reproduce any error or warning you see on this page.

raw results

Package 198/2083HostnameOS / ArchINSTALLBUILDCHECKBUILD BIN
biscuiteer 1.7.2  (landing page)
"Jacob Morrison"
Snapshot Date: 2021-10-22 14:50:11 -0400 (Fri, 22 Oct 2021)
git_url: https://git.bioconductor.org/packages/biscuiteer
git_branch: master
git_last_commit: 979bd5b
git_last_commit_date: 2021-06-30 15:03:49 -0400 (Wed, 30 Jun 2021)
nebbiolo2Linux (Ubuntu 20.04.2 LTS) / x86_64  OK    OK    WARNINGS  UNNEEDED, same version is already published
riesling1Windows Server 2019 Standard / x64  OK    OK    WARNINGS    OK  UNNEEDED, same version is already published
merida1macOS 10.14.6 Mojave / x86_64  OK    OK    WARNINGS    OK  UNNEEDED, same version is already published

Summary

Package: biscuiteer
Version: 1.7.2
Command: /Library/Frameworks/R.framework/Resources/bin/R CMD INSTALL biscuiteer
StartedAt: 2021-10-22 18:11:12 -0400 (Fri, 22 Oct 2021)
EndedAt: 2021-10-22 18:12:32 -0400 (Fri, 22 Oct 2021)
EllapsedTime: 79.6 seconds
RetCode: 0
Status:   OK  

Command output

##############################################################################
##############################################################################
###
### Running command:
###
###   /Library/Frameworks/R.framework/Resources/bin/R CMD INSTALL biscuiteer
###
##############################################################################
##############################################################################


* installing to library ‘/Library/Frameworks/R.framework/Versions/4.1/Resources/library’
* installing *source* package ‘biscuiteer’ ...
** using staged installation
** R
** data
** inst
** byte-compile and prepare package for lazy loading
Warning: replacing previous import ‘BiocParallel::bpstart’ by ‘QDNAseq::bpstart’ when loading ‘biscuiteer’
** help
*** installing help indices
** building package indices
** installing vignettes
   ‘biscuiteer.Rmd’ using ‘UTF-8’ 
** testing if installed package can be loaded from temporary location
Warning: replacing previous import ‘BiocParallel::bpstart’ by ‘QDNAseq::bpstart’ when loading ‘biscuiteer’
** testing if installed package can be loaded from final location
Warning: replacing previous import ‘BiocParallel::bpstart’ by ‘QDNAseq::bpstart’ when loading ‘biscuiteer’
** testing if installed package keeps a record of temporary installation path
* DONE (biscuiteer)