Back to Multiple platform build/check report for BioC 3.14
A[B]CDEFGHIJKLMNOPQRSTUVWXYZ

This page was generated on 2021-12-01 17:18:12 -0500 (Wed, 01 Dec 2021).

BUILD BIN results for biscuiteer on machv2

To the developers/maintainers of the biscuiteer package:
- Please allow up to 24 hours (and sometimes 48 hours) for your latest push to git@git.bioconductor.org:packages/biscuiteer.git to
reflect on this report. See How and When does the builder pull? When will my changes propagate? here for more information.
- Make sure to use the following settings in order to reproduce any error or warning you see on this page.

raw results

Package 198/2083HostnameOS / ArchINSTALLBUILDCHECKBUILD BIN
biscuiteer 1.8.0  (landing page)
"Jacob Morrison"
Snapshot Date: 2021-11-30 04:15:05 -0500 (Tue, 30 Nov 2021)
git_url: https://git.bioconductor.org/packages/biscuiteer
git_branch: RELEASE_3_14
git_last_commit: 2a5989a
git_last_commit_date: 2021-10-26 12:55:31 -0500 (Tue, 26 Oct 2021)
nebbiolo2Linux (Ubuntu 20.04.3 LTS) / x86_64  OK    OK    WARNINGS  UNNEEDED, same version is already published
tokay2Windows Server 2012 R2 Standard / x64  OK    OK    WARNINGS    OK  UNNEEDED, same version is already published
machv2macOS 10.14.6 Mojave / x86_64  OK    OK    WARNINGS    OK  UNNEEDED, same version is already published

Summary

Package: biscuiteer
Version: 1.8.0
Command: rm -rf biscuiteer.buildbin-libdir && mkdir biscuiteer.buildbin-libdir && /Users/biocbuild/BBS/utils/build-universal.sh biscuiteer_1.8.0.tar.gz /Library/Frameworks/R.framework/Resources/bin/R biscuiteer.buildbin-libdir
StartedAt: 2021-11-30 23:27:55 -0500 (Tue, 30 Nov 2021)
EndedAt: 2021-11-30 23:29:12 -0500 (Tue, 30 Nov 2021)
EllapsedTime: 76.7 seconds
RetCode: 0
Status:   OK  
PackageFile: biscuiteer_1.8.0.tgz
PackageFileSize: 5.141 MiB

Command output

##############################################################################
##############################################################################
###
### Running command:
###
###   rm -rf biscuiteer.buildbin-libdir && mkdir biscuiteer.buildbin-libdir && /Users/biocbuild/BBS/utils/build-universal.sh biscuiteer_1.8.0.tar.gz /Library/Frameworks/R.framework/Resources/bin/R biscuiteer.buildbin-libdir
###
##############################################################################
##############################################################################


>>>>>>> 
>>>>>>> INSTALLATION WITH 'R CMD INSTALL --preclean --no-multiarch --library=biscuiteer.buildbin-libdir biscuiteer_1.8.0.tar.gz'
>>>>>>> 

* installing *source* package ‘biscuiteer’ ...
** using staged installation
** R
** data
** inst
** byte-compile and prepare package for lazy loading
Warning: replacing previous import ‘BiocParallel::bpstart’ by ‘QDNAseq::bpstart’ when loading ‘biscuiteer’
** help
*** installing help indices
** building package indices
** installing vignettes
** testing if installed package can be loaded from temporary location
Warning: replacing previous import ‘BiocParallel::bpstart’ by ‘QDNAseq::bpstart’ when loading ‘biscuiteer’
** testing if installed package can be loaded from final location
Warning: replacing previous import ‘BiocParallel::bpstart’ by ‘QDNAseq::bpstart’ when loading ‘biscuiteer’
** testing if installed package keeps a record of temporary installation path
* DONE (biscuiteer)