Back to Multiple platform build/check report for BioC 3.14
A[B]CDEFGHIJKLMNOPQRSTUVWXYZ

This page was generated on 2021-10-18 12:04:27 -0400 (Mon, 18 Oct 2021).

BUILD results for biovizBase on merida1

To the developers/maintainers of the biovizBase package:
- Please allow up to 24 hours (and sometimes 48 hours) for your latest push to git@git.bioconductor.org:packages/biovizBase.git to
reflect on this report. See How and When does the builder pull? When will my changes propagate? here for more information.
- Make sure to use the following settings in order to reproduce any error or warning you see on this page.

raw results

Package 192/2060HostnameOS / ArchINSTALLBUILDCHECKBUILD BIN
biovizBase 1.41.0  (landing page)
Michael Lawrence
Snapshot Date: 2021-10-17 14:50:03 -0400 (Sun, 17 Oct 2021)
git_url: https://git.bioconductor.org/packages/biovizBase
git_branch: master
git_last_commit: 5360f11
git_last_commit_date: 2021-05-19 11:50:05 -0400 (Wed, 19 May 2021)
nebbiolo2Linux (Ubuntu 20.04.2 LTS) / x86_64  OK    OK    WARNINGS  UNNEEDED, same version is already published
riesling1Windows Server 2019 Standard / x64  OK    OK    WARNINGS    OK  UNNEEDED, same version is already published
merida1macOS 10.14.6 Mojave / x86_64  OK    OK    WARNINGS    OK  UNNEEDED, same version is already published

Summary

Package: biovizBase
Version: 1.41.0
Command: /Library/Frameworks/R.framework/Resources/bin/R CMD build --keep-empty-dirs --no-resave-data biovizBase
StartedAt: 2021-10-17 18:44:50 -0400 (Sun, 17 Oct 2021)
EndedAt: 2021-10-17 18:46:06 -0400 (Sun, 17 Oct 2021)
EllapsedTime: 76.8 seconds
RetCode: 0
Status:   OK  
PackageFile: biovizBase_1.41.0.tar.gz
PackageFileSize: 2.306 MiB

Command output

##############################################################################
##############################################################################
###
### Running command:
###
###   /Library/Frameworks/R.framework/Resources/bin/R CMD build --keep-empty-dirs --no-resave-data biovizBase
###
##############################################################################
##############################################################################


* checking for file ‘biovizBase/DESCRIPTION’ ... OK
* preparing ‘biovizBase’:
* checking DESCRIPTION meta-information ... OK
* cleaning src
* installing the package to build vignettes
* creating vignettes ... OK
* cleaning src
* checking for LF line-endings in source and make files and shell scripts
* checking for empty or unneeded directories
* building ‘biovizBase_1.41.0.tar.gz’