Back to Multiple platform build/check report for BioC 3.14
A[B]CDEFGHIJKLMNOPQRSTUVWXYZ

This page was generated on 2021-11-29 15:05:48 -0500 (Mon, 29 Nov 2021).

BUILD results for biovizBase on machv2

To the developers/maintainers of the biovizBase package:
- Please allow up to 24 hours (and sometimes 48 hours) for your latest push to git@git.bioconductor.org:packages/biovizBase.git to
reflect on this report. See How and When does the builder pull? When will my changes propagate? here for more information.
- Make sure to use the following settings in order to reproduce any error or warning you see on this page.

raw results

Package 196/2083HostnameOS / ArchINSTALLBUILDCHECKBUILD BIN
biovizBase 1.42.0  (landing page)
Michael Lawrence
Snapshot Date: 2021-11-28 04:15:06 -0500 (Sun, 28 Nov 2021)
git_url: https://git.bioconductor.org/packages/biovizBase
git_branch: RELEASE_3_14
git_last_commit: f1627b2
git_last_commit_date: 2021-10-26 12:00:34 -0500 (Tue, 26 Oct 2021)
nebbiolo2Linux (Ubuntu 20.04.3 LTS) / x86_64  OK    OK    WARNINGS  UNNEEDED, same version is already published
tokay2Windows Server 2012 R2 Standard / x64  OK    OK    WARNINGS    OK  UNNEEDED, same version is already published
machv2macOS 10.14.6 Mojave / x86_64  OK    OK    WARNINGS    OK  UNNEEDED, same version is already published

Summary

Package: biovizBase
Version: 1.42.0
Command: /Library/Frameworks/R.framework/Resources/bin/R CMD build --keep-empty-dirs --no-resave-data biovizBase
StartedAt: 2021-11-28 07:53:40 -0500 (Sun, 28 Nov 2021)
EndedAt: 2021-11-28 07:55:13 -0500 (Sun, 28 Nov 2021)
EllapsedTime: 92.7 seconds
RetCode: 0
Status:   OK  
PackageFile: biovizBase_1.42.0.tar.gz
PackageFileSize: 2.307 MiB

Command output

##############################################################################
##############################################################################
###
### Running command:
###
###   /Library/Frameworks/R.framework/Resources/bin/R CMD build --keep-empty-dirs --no-resave-data biovizBase
###
##############################################################################
##############################################################################


* checking for file ‘biovizBase/DESCRIPTION’ ... OK
* preparing ‘biovizBase’:
* checking DESCRIPTION meta-information ... OK
* cleaning src
* installing the package to build vignettes
* creating vignettes ... OK
* cleaning src
* checking for LF line-endings in source and make files and shell scripts
* checking for empty or unneeded directories
* building ‘biovizBase_1.42.0.tar.gz’