Back to Multiple platform build/check report for BioC 3.14
A[B]CDEFGHIJKLMNOPQRSTUVWXYZ

This page was generated on 2021-10-22 12:04:19 -0400 (Fri, 22 Oct 2021).

BUILD BIN results for biotmle on riesling1

To the developers/maintainers of the biotmle package:
- Please allow up to 24 hours (and sometimes 48 hours) for your latest push to git@git.bioconductor.org:packages/biotmle.git to
reflect on this report. See How and When does the builder pull? When will my changes propagate? here for more information.
- Make sure to use the following settings in order to reproduce any error or warning you see on this page.

raw results

Package 193/2075HostnameOS / ArchINSTALLBUILDCHECKBUILD BIN
biotmle 1.17.1  (landing page)
Nima Hejazi
Snapshot Date: 2021-10-21 14:50:08 -0400 (Thu, 21 Oct 2021)
git_url: https://git.bioconductor.org/packages/biotmle
git_branch: master
git_last_commit: 7d720af
git_last_commit_date: 2021-10-12 19:35:13 -0400 (Tue, 12 Oct 2021)
nebbiolo2Linux (Ubuntu 20.04.2 LTS) / x86_64  OK    OK    OK  UNNEEDED, same version is already published
riesling1Windows Server 2019 Standard / x64  OK    OK    OK    OK  UNNEEDED, same version is already published
merida1macOS 10.14.6 Mojave / x86_64  OK    OK    OK    OK  UNNEEDED, same version is already published

Summary

Package: biotmle
Version: 1.17.1
Command: rm -rf biotmle.buildbin-libdir && mkdir biotmle.buildbin-libdir && D:\biocbuild\bbs-3.14-bioc\R\bin\R.exe CMD INSTALL --merge-multiarch --build --library=biotmle.buildbin-libdir biotmle_1.17.1.tar.gz
StartedAt: 2021-10-22 04:36:47 -0400 (Fri, 22 Oct 2021)
EndedAt: 2021-10-22 04:40:53 -0400 (Fri, 22 Oct 2021)
EllapsedTime: 245.5 seconds
RetCode: 0
Status:   OK  
PackageFile: biotmle_1.17.1.zip
PackageFileSize: 342.5 KiB

Command output

##############################################################################
##############################################################################
###
### Running command:
###
###   rm -rf biotmle.buildbin-libdir && mkdir biotmle.buildbin-libdir && D:\biocbuild\bbs-3.14-bioc\R\bin\R.exe CMD INSTALL --merge-multiarch --build --library=biotmle.buildbin-libdir biotmle_1.17.1.tar.gz
###
##############################################################################
##############################################################################



install for i386

* installing *source* package 'biotmle' ...
** using staged installation
** R
** inst
** byte-compile and prepare package for lazy loading
** help
*** installing help indices
  converting help for package 'biotmle'
    finding HTML links ... done
    bioTMLE-class                           html  
    biomarkertmle                           html  
    data.frame_OR_EList-class               html  
    eif                                     html  
    exp_biomarkertmle                       html  
    heatmap_ic                              html  
    modtest_ic                              html  
    plot.bioTMLE                            html  
    rnaseq_ic                               html  
    toptable                                html  
    volcano_ic                              html  
** building package indices
** installing vignettes
** testing if installed package can be loaded from temporary location
** testing if installed package can be loaded from final location
** testing if installed package keeps a record of temporary installation path

install for x64

* installing *source* package 'biotmle' ...
** testing if installed package can be loaded
* MD5 sums
packaged installation of 'biotmle' as biotmle_1.17.1.zip
* DONE (biotmle)