Index of /checkResults/3.14/bioc-LATEST/biotmle/raw-results

[ICO]NameLast modifiedSizeDescription

[DIR]Parent Directory  -  
[   ]info.dcf27-Nov-2021 05:05 267  
[DIR]machv2/27-Nov-2021 05:05 -  
[DIR]nebbiolo2/27-Nov-2021 05:04 -  
[DIR]tokay2/27-Nov-2021 05:05 -