Back to Multiple platform build/check report for BioC 3.14
A[B]CDEFGHIJKLMNOPQRSTUVWXYZ

This page was generated on 2021-10-26 14:07:41 -0400 (Tue, 26 Oct 2021).

BUILD BIN results for biosigner on merida1

To the developers/maintainers of the biosigner package:
- Please allow up to 24 hours (and sometimes 48 hours) for your latest push to git@git.bioconductor.org:packages/biosigner.git to
reflect on this report. See How and When does the builder pull? When will my changes propagate? here for more information.
- Make sure to use the following settings in order to reproduce any error or warning you see on this page.

raw results

Package 192/2083HostnameOS / ArchINSTALLBUILDCHECKBUILD BIN
biosigner 1.21.0  (landing page)
Philippe Rinaudo , Etienne Thevenot
Snapshot Date: 2021-10-25 14:50:11 -0400 (Mon, 25 Oct 2021)
git_url: https://git.bioconductor.org/packages/biosigner
git_branch: master
git_last_commit: dc88de6
git_last_commit_date: 2021-05-19 12:18:29 -0400 (Wed, 19 May 2021)
nebbiolo2Linux (Ubuntu 20.04.2 LTS) / x86_64  OK    OK    OK  UNNEEDED, same version is already published
riesling1Windows Server 2019 Standard / x64  OK    OK    OK    OK  UNNEEDED, same version is already published
merida1macOS 10.14.6 Mojave / x86_64  OK    OK    OK    OK  UNNEEDED, same version is already published
machv2macOS 10.14.6 Mojave / x86_64  OK    OK    OK    OK  

Summary

Package: biosigner
Version: 1.21.0
Command: rm -rf biosigner.buildbin-libdir && mkdir biosigner.buildbin-libdir && /Users/biocbuild/BBS/utils/build-universal.sh biosigner_1.21.0.tar.gz /Library/Frameworks/R.framework/Resources/bin/R biosigner.buildbin-libdir
StartedAt: 2021-10-26 11:11:49 -0400 (Tue, 26 Oct 2021)
EndedAt: 2021-10-26 11:13:16 -0400 (Tue, 26 Oct 2021)
EllapsedTime: 87.2 seconds
RetCode: 0
Status:   OK  
PackageFile: biosigner_1.21.0.tgz
PackageFileSize: 4.308 MiB

Command output

##############################################################################
##############################################################################
###
### Running command:
###
###   rm -rf biosigner.buildbin-libdir && mkdir biosigner.buildbin-libdir && /Users/biocbuild/BBS/utils/build-universal.sh biosigner_1.21.0.tar.gz /Library/Frameworks/R.framework/Resources/bin/R biosigner.buildbin-libdir
###
##############################################################################
##############################################################################


>>>>>>> 
>>>>>>> INSTALLATION WITH 'R CMD INSTALL --preclean --no-multiarch --library=biosigner.buildbin-libdir biosigner_1.21.0.tar.gz'
>>>>>>> 

* installing *source* package ‘biosigner’ ...
** using staged installation
** R
** data
** inst
** byte-compile and prepare package for lazy loading
in method for ‘biosign’ with signature ‘x="MultiDataSet"’: no definition for class “MultiDataSet”
** help
*** installing help indices
** building package indices
** installing vignettes
** testing if installed package can be loaded from temporary location
** testing if installed package can be loaded from final location
** testing if installed package keeps a record of temporary installation path
* DONE (biosigner)