Back to Multiple platform build/check report for BioC 3.14
A[B]CDEFGHIJKLMNOPQRSTUVWXYZ

This page was generated on 2021-10-19 12:04:24 -0400 (Tue, 19 Oct 2021).

BUILD results for biomvRCNS on nebbiolo2

To the developers/maintainers of the biomvRCNS package:
- Please allow up to 24 hours (and sometimes 48 hours) for your latest push to git@git.bioconductor.org:packages/biomvRCNS.git to
reflect on this report. See How and When does the builder pull? When will my changes propagate? here for more information.
- Make sure to use the following settings in order to reproduce any error or warning you see on this page.

raw results

Package 182/2060HostnameOS / ArchINSTALLBUILDCHECKBUILD BIN
biomvRCNS 1.33.0  (landing page)
Yang Du
Snapshot Date: 2021-10-18 14:50:10 -0400 (Mon, 18 Oct 2021)
git_url: https://git.bioconductor.org/packages/biomvRCNS
git_branch: master
git_last_commit: 36b2359
git_last_commit_date: 2021-05-19 11:57:38 -0400 (Wed, 19 May 2021)
nebbiolo2Linux (Ubuntu 20.04.2 LTS) / x86_64  OK    OK    OK  UNNEEDED, same version is already published
riesling1Windows Server 2019 Standard / x64  OK    OK    OK    OK  UNNEEDED, same version is already published
merida1macOS 10.14.6 Mojave / x86_64  OK    OK    OK    OK  UNNEEDED, same version is already published

Summary

Package: biomvRCNS
Version: 1.33.0
Command: /home/biocbuild/bbs-3.14-bioc/R/bin/R CMD build --keep-empty-dirs --no-resave-data biomvRCNS
StartedAt: 2021-10-18 16:51:20 -0400 (Mon, 18 Oct 2021)
EndedAt: 2021-10-18 16:53:01 -0400 (Mon, 18 Oct 2021)
EllapsedTime: 100.8 seconds
RetCode: 0
Status:   OK  
PackageFile: biomvRCNS_1.33.0.tar.gz
PackageFileSize: 647.8 KiB

Command output

##############################################################################
##############################################################################
###
### Running command:
###
###   /home/biocbuild/bbs-3.14-bioc/R/bin/R CMD build --keep-empty-dirs --no-resave-data biomvRCNS
###
##############################################################################
##############################################################################


* checking for file ‘biomvRCNS/DESCRIPTION’ ... OK
* preparing ‘biomvRCNS’:
* checking DESCRIPTION meta-information ... OK
* cleaning src
* installing the package to build vignettes
* creating vignettes ... OK
* cleaning src
* checking for LF line-endings in source and make files and shell scripts
* checking for empty or unneeded directories
* looking to see if a ‘data/datalist’ file should be added
* building ‘biomvRCNS_1.33.0.tar.gz’