Back to Multiple platform build/check report for BioC 3.14
A[B]CDEFGHIJKLMNOPQRSTUVWXYZ

This page was generated on 2021-10-19 12:04:24 -0400 (Tue, 19 Oct 2021).

INSTALL results for biomformat on nebbiolo2

To the developers/maintainers of the biomformat package:
- Please allow up to 24 hours (and sometimes 48 hours) for your latest push to git@git.bioconductor.org:packages/biomformat.git to
reflect on this report. See How and When does the builder pull? When will my changes propagate? here for more information.
- Make sure to use the following settings in order to reproduce any error or warning you see on this page.

raw results

Package 179/2060HostnameOS / ArchINSTALLBUILDCHECKBUILD BIN
biomformat 1.21.0  (landing page)
Paul J. McMurdie
Snapshot Date: 2021-10-18 14:50:10 -0400 (Mon, 18 Oct 2021)
git_url: https://git.bioconductor.org/packages/biomformat
git_branch: master
git_last_commit: 544a7b9
git_last_commit_date: 2021-05-19 12:16:57 -0400 (Wed, 19 May 2021)
nebbiolo2Linux (Ubuntu 20.04.2 LTS) / x86_64  OK    OK    WARNINGS  UNNEEDED, same version is already published
riesling1Windows Server 2019 Standard / x64  OK    OK    WARNINGS    OK  UNNEEDED, same version is already published
merida1macOS 10.14.6 Mojave / x86_64  OK    OK    WARNINGS    OK  UNNEEDED, same version is already published

Summary

Package: biomformat
Version: 1.21.0
Command: /home/biocbuild/bbs-3.14-bioc/R/bin/R CMD INSTALL biomformat
StartedAt: 2021-10-18 16:08:23 -0400 (Mon, 18 Oct 2021)
EndedAt: 2021-10-18 16:08:31 -0400 (Mon, 18 Oct 2021)
EllapsedTime: 8.4 seconds
RetCode: 0
Status:   OK  

Command output

##############################################################################
##############################################################################
###
### Running command:
###
###   /home/biocbuild/bbs-3.14-bioc/R/bin/R CMD INSTALL biomformat
###
##############################################################################
##############################################################################


* installing to library ‘/home/biocbuild/bbs-3.14-bioc/R/library’
* installing *source* package ‘biomformat’ ...
** using staged installation
** R
** inst
** byte-compile and prepare package for lazy loading
Creating a generic function for ‘nrow’ from package ‘base’ in package ‘biomformat’
Creating a generic function for ‘ncol’ from package ‘base’ in package ‘biomformat’
Creating a generic function for ‘rownames’ from package ‘base’ in package ‘biomformat’
Creating a generic function for ‘colnames’ from package ‘base’ in package ‘biomformat’
** help
*** installing help indices
** building package indices
** installing vignettes
** testing if installed package can be loaded from temporary location
** testing if installed package can be loaded from final location
** testing if installed package keeps a record of temporary installation path
* DONE (biomformat)