Back to Multiple platform build/check report for BioC 3.14
A[B]CDEFGHIJKLMNOPQRSTUVWXYZ

This page was generated on 2022-01-24 13:07:20 -0500 (Mon, 24 Jan 2022).

HostnameOSArch (*)R versionInstalled pkgs
nebbiolo2Linux (Ubuntu 20.04.4 LTS)x86_644.1.2 (2021-11-01) -- "Bird Hippie" 4329
tokay2Windows Server 2012 R2 Standardx644.1.2 (2021-11-01) -- "Bird Hippie" 4080
machv2macOS 10.14.6 Mojavex86_644.1.2 (2021-11-01) -- "Bird Hippie" 4141
Click on any hostname to see more info about the system (e.g. compilers)      (*) as reported by 'uname -p', except on Windows and Mac OS X

INSTALL results for biomformat on machv2


To the developers/maintainers of the biomformat package:
- Please allow up to 24 hours (and sometimes 48 hours) for your latest push to git@git.bioconductor.org:packages/biomformat.git to
reflect on this report. See How and When does the builder pull? When will my changes propagate? here for more information.
- Make sure to use the following settings in order to reproduce any error or warning you see on this page.

raw results

Package 183/2083HostnameOS / ArchINSTALLBUILDCHECKBUILD BIN
biomformat 1.22.0  (landing page)
Paul J. McMurdie
Snapshot Date: 2022-01-23 01:55:04 -0500 (Sun, 23 Jan 2022)
git_url: https://git.bioconductor.org/packages/biomformat
git_branch: RELEASE_3_14
git_last_commit: ab7c641
git_last_commit_date: 2021-10-26 12:24:06 -0500 (Tue, 26 Oct 2021)
nebbiolo2Linux (Ubuntu 20.04.4 LTS) / x86_64  OK    OK    WARNINGS  UNNEEDED, same version is already published
tokay2Windows Server 2012 R2 Standard / x64  OK    OK    WARNINGS    OK  UNNEEDED, same version is already published
machv2macOS 10.14.6 Mojave / x86_64  OK    OK    WARNINGS    OK  UNNEEDED, same version is already published

Summary

Package: biomformat
Version: 1.22.0
Command: /Library/Frameworks/R.framework/Resources/bin/R CMD INSTALL biomformat
StartedAt: 2022-01-23 03:19:20 -0500 (Sun, 23 Jan 2022)
EndedAt: 2022-01-23 03:19:38 -0500 (Sun, 23 Jan 2022)
EllapsedTime: 18.4 seconds
RetCode: 0
Status:   OK  

Command output

##############################################################################
##############################################################################
###
### Running command:
###
###   /Library/Frameworks/R.framework/Resources/bin/R CMD INSTALL biomformat
###
##############################################################################
##############################################################################


* installing to library ‘/Library/Frameworks/R.framework/Versions/4.1/Resources/library’
* installing *source* package ‘biomformat’ ...
** using staged installation
** R
** inst
** byte-compile and prepare package for lazy loading
Creating a generic function for ‘nrow’ from package ‘base’ in package ‘biomformat’
Creating a generic function for ‘ncol’ from package ‘base’ in package ‘biomformat’
Creating a generic function for ‘rownames’ from package ‘base’ in package ‘biomformat’
Creating a generic function for ‘colnames’ from package ‘base’ in package ‘biomformat’
** help
*** installing help indices
** building package indices
** installing vignettes
** testing if installed package can be loaded from temporary location
** testing if installed package can be loaded from final location
** testing if installed package keeps a record of temporary installation path
* DONE (biomformat)