Back to Multiple platform build/check report for BioC 3.14
A[B]CDEFGHIJKLMNOPQRSTUVWXYZ

This page was generated on 2021-10-22 12:03:29 -0400 (Fri, 22 Oct 2021).

All results for package biomformat

To the developers/maintainers of the biomformat package:
- Please allow up to 24 hours (and sometimes 48 hours) for your latest push to git@git.bioconductor.org:packages/biomformat.git to
reflect on this report. See How and When does the builder pull? When will my changes propagate? here for more information.
- Make sure to use the following settings in order to reproduce any error or warning you see on this page.

raw results

Package 181/2075HostnameOS / ArchINSTALLBUILDCHECKBUILD BIN
biomformat 1.21.0  (landing page)
Paul J. McMurdie
Snapshot Date: 2021-10-21 14:50:08 -0400 (Thu, 21 Oct 2021)
git_url: https://git.bioconductor.org/packages/biomformat
git_branch: master
git_last_commit: 544a7b9
git_last_commit_date: 2021-05-19 12:16:57 -0400 (Wed, 19 May 2021)
nebbiolo2Linux (Ubuntu 20.04.2 LTS) / x86_64  OK    OK    WARNINGS  UNNEEDED, same version is already published
riesling1Windows Server 2019 Standard / x64  OK    OK    WARNINGS    OK  UNNEEDED, same version is already published
merida1macOS 10.14.6 Mojave / x86_64  OK    OK    WARNINGS    OK  UNNEEDED, same version is already published

Results for Bioconductor software packages that depend directly on package biomformat

QUICK STATSOS / ArchINSTALLBUILDCHECKBUILD BIN
nebbiolo2Linux (Ubuntu 20.04.2 LTS) / x86_64
004
004
0004
riesling1Windows Server 2019 Standard / x64
004
004
0103
004
merida1macOS 10.14.6 Mojave / x86_64
004
004
0004
001
Package 1/4HostnameOS / ArchINSTALLBUILDCHECKBUILD BIN
animalcules 1.9.3  (landing page)
Yue Zhao
git_last_commit: b1ebe5f
git_last_commit_date: 2021-10-19 16:07:00 -0400
nebbiolo2Linux (Ubuntu 20.04.2 LTS) / x86_64  OK    OK    OK  UNNEEDED, same version is already published
riesling1Windows Server 2019 Standard / x64  OK    OK    ERROR    OK  
merida1macOS 10.14.6 Mojave / x86_64  OK    OK    OK    OK  YES
Package 2/4HostnameOS / ArchINSTALLBUILDCHECKBUILD BIN
microbiomeExplorer 1.3.0  (landing page)
Janina Reeder
git_last_commit: a6823a7
git_last_commit_date: 2021-05-19 12:56:30 -0400
nebbiolo2Linux (Ubuntu 20.04.2 LTS) / x86_64  OK    OK    OK  UNNEEDED, same version is already published
riesling1Windows Server 2019 Standard / x64  OK    OK    OK    OK  UNNEEDED, same version is already published
merida1macOS 10.14.6 Mojave / x86_64  OK    OK    OK    NA  
Package 3/4HostnameOS / ArchINSTALLBUILDCHECKBUILD BIN
microbiomeMarker 0.99.1  (landing page)
Yang Cao
git_last_commit: 0d5f556
git_last_commit_date: 2021-10-10 22:25:26 -0400
nebbiolo2Linux (Ubuntu 20.04.2 LTS) / x86_64  OK    OK    OK  UNNEEDED, same version is already published
riesling1Windows Server 2019 Standard / x64  OK    OK    OK    OK  UNNEEDED, same version is already published
merida1macOS 10.14.6 Mojave / x86_64  OK    OK    OK    NA  
Package 4/4HostnameOS / ArchINSTALLBUILDCHECKBUILD BIN
phyloseq 1.37.0  (landing page)
Paul J. McMurdie
git_last_commit: 1c74d85
git_last_commit_date: 2021-05-19 11:51:21 -0400
nebbiolo2Linux (Ubuntu 20.04.2 LTS) / x86_64  OK    OK    OK  UNNEEDED, same version is already published
riesling1Windows Server 2019 Standard / x64  OK    OK    OK    OK  UNNEEDED, same version is already published
merida1macOS 10.14.6 Mojave / x86_64  OK    OK    OK    NA