Back to Multiple platform build/check report for BioC 3.14
A[B]CDEFGHIJKLMNOPQRSTUVWXYZ

This page was generated on 2021-10-25 14:06:07 -0400 (Mon, 25 Oct 2021).

CHECK results for biomaRt on riesling1

To the developers/maintainers of the biomaRt package:
- Please allow up to 24 hours (and sometimes 48 hours) for your latest push to git@git.bioconductor.org:packages/biomaRt.git to
reflect on this report. See How and When does the builder pull? When will my changes propagate? here for more information.
- Make sure to use the following settings in order to reproduce any error or warning you see on this page.

raw results

Package 182/2083HostnameOS / ArchINSTALLBUILDCHECKBUILD BIN
biomaRt 2.49.7  (landing page)
Mike Smith
Snapshot Date: 2021-10-24 14:50:04 -0400 (Sun, 24 Oct 2021)
git_url: https://git.bioconductor.org/packages/biomaRt
git_branch: master
git_last_commit: e0b0a39
git_last_commit_date: 2021-10-19 08:54:33 -0400 (Tue, 19 Oct 2021)
nebbiolo2Linux (Ubuntu 20.04.2 LTS) / x86_64  OK    OK    OK  UNNEEDED, same version is already published
riesling1Windows Server 2019 Standard / x64  OK    OK    OK    OK  UNNEEDED, same version is already published
merida1macOS 10.14.6 Mojave / x86_64  OK    OK    OK    OK  UNNEEDED, same version is already published
machv2macOS 10.14.6 Mojave / x86_64  OK    OK    OK    OK  

Summary

Package: biomaRt
Version: 2.49.7
Command: D:\biocbuild\bbs-3.14-bioc\R\bin\R.exe CMD check --force-multiarch --install=check:biomaRt.install-out.txt --library=D:\biocbuild\bbs-3.14-bioc\R\library --no-vignettes --timings biomaRt_2.49.7.tar.gz
StartedAt: 2021-10-25 00:07:29 -0400 (Mon, 25 Oct 2021)
EndedAt: 2021-10-25 00:13:26 -0400 (Mon, 25 Oct 2021)
EllapsedTime: 356.9 seconds
RetCode: 0
Status:   OK  
CheckDir: biomaRt.Rcheck
Warnings: 0

Command output

##############################################################################
##############################################################################
###
### Running command:
###
###   D:\biocbuild\bbs-3.14-bioc\R\bin\R.exe CMD check --force-multiarch --install=check:biomaRt.install-out.txt --library=D:\biocbuild\bbs-3.14-bioc\R\library --no-vignettes --timings biomaRt_2.49.7.tar.gz
###
##############################################################################
##############################################################################


* using log directory 'D:/biocbuild/bbs-3.14-bioc/meat/biomaRt.Rcheck'
* using R version 4.1.1 (2021-08-10)
* using platform: x86_64-w64-mingw32 (64-bit)
* using session charset: ISO8859-1
* using option '--no-vignettes'
* checking for file 'biomaRt/DESCRIPTION' ... OK
* this is package 'biomaRt' version '2.49.7'
* package encoding: UTF-8
* checking package namespace information ... OK
* checking package dependencies ... OK
* checking if this is a source package ... OK
* checking if there is a namespace ... OK
* checking for hidden files and directories ... OK
* checking for portable file names ... OK
* checking whether package 'biomaRt' can be installed ... OK
* checking installed package size ... OK
* checking package directory ... OK
* checking 'build' directory ... OK
* checking DESCRIPTION meta-information ... OK
* checking top-level files ... OK
* checking for left-over files ... OK
* checking index information ... OK
* checking package subdirectories ... OK
* checking R files for non-ASCII characters ... OK
* checking R files for syntax errors ... OK
* loading checks for arch 'i386'
** checking whether the package can be loaded ... OK
** checking whether the package can be loaded with stated dependencies ... OK
** checking whether the package can be unloaded cleanly ... OK
** checking whether the namespace can be loaded with stated dependencies ... OK
** checking whether the namespace can be unloaded cleanly ... OK
* loading checks for arch 'x64'
** checking whether the package can be loaded ... OK
** checking whether the package can be loaded with stated dependencies ... OK
** checking whether the package can be unloaded cleanly ... OK
** checking whether the namespace can be loaded with stated dependencies ... OK
** checking whether the namespace can be unloaded cleanly ... OK
* checking dependencies in R code ... NOTE
Unexported object imported by a ':::' call: 'AnnotationDbi:::smartKeys'
  See the note in ?`:::` about the use of this operator.
* checking S3 generic/method consistency ... OK
* checking replacement functions ... OK
* checking foreign function calls ... OK
* checking R code for possible problems ... OK
* checking Rd files ... OK
* checking Rd metadata ... OK
* checking Rd cross-references ... OK
* checking for missing documentation entries ... OK
* checking for code/documentation mismatches ... OK
* checking Rd \usage sections ... OK
* checking Rd contents ... OK
* checking for unstated dependencies in examples ... OK
* checking files in 'vignettes' ... OK
* checking examples ...
** running examples for arch 'i386' ... OK
** running examples for arch 'x64' ... OK
* checking for unstated dependencies in 'tests' ... OK
* checking tests ...
** running tests for arch 'i386' ...
  Running 'testthat.R'
 OK
** running tests for arch 'x64' ...
  Running 'testthat.R'
 OK
* checking for unstated dependencies in vignettes ... OK
* checking package vignettes in 'inst/doc' ... OK
* checking running R code from vignettes ... SKIPPED
* checking re-building of vignette outputs ... SKIPPED
* checking PDF version of manual ... OK
* DONE

Status: 1 NOTE
See
  'D:/biocbuild/bbs-3.14-bioc/meat/biomaRt.Rcheck/00check.log'
for details.



Installation output

biomaRt.Rcheck/00install.out

##############################################################################
##############################################################################
###
### Running command:
###
###   C:\cygwin\bin\curl.exe -O http://155.52.207.166/BBS/3.14/bioc/src/contrib/biomaRt_2.49.7.tar.gz && rm -rf biomaRt.buildbin-libdir && mkdir biomaRt.buildbin-libdir && D:\biocbuild\bbs-3.14-bioc\R\bin\R.exe CMD INSTALL --merge-multiarch --build --library=biomaRt.buildbin-libdir biomaRt_2.49.7.tar.gz && D:\biocbuild\bbs-3.14-bioc\R\bin\R.exe CMD INSTALL biomaRt_2.49.7.zip && rm biomaRt_2.49.7.tar.gz biomaRt_2.49.7.zip
###
##############################################################################
##############################################################################


  % Total    % Received % Xferd  Average Speed   Time    Time     Time  Current
                                 Dload  Upload   Total   Spent    Left  Speed

  0     0    0     0    0     0      0      0 --:--:-- --:--:-- --:--:--     0
 76  120k   76 94527    0     0   488k      0 --:--:-- --:--:-- --:--:--  488k
100  120k  100  120k    0     0   256k      0 --:--:-- --:--:-- --:--:--  256k

install for i386

* installing *source* package 'biomaRt' ...
** using staged installation
** R
** inst
** byte-compile and prepare package for lazy loading
** help
*** installing help indices
  converting help for package 'biomaRt'
    finding HTML links ... done
    Mart-class                              html  
    NP2009code                              html  
    attributePages                          html  
    biomaRt-deprecated                      html  
    biomartCache                            html  
    exportFASTA                             html  
    filterType                              html  
    getBM                                   html  
    getGene                                 html  
    getLDS                                  html  
    getSequence                             html  
    listAttributes                          html  
    listDatasets                            html  
    listEnsembl                             html  
    listEnsemblArchives                     html  
    listFilterValues                        html  
    listFilters                             html  
    listMarts                               html  
    select                                  html  
    useDataset                              html  
    useEnsembl                              html  
    useMart                                 html  
** building package indices
** installing vignettes
** testing if installed package can be loaded from temporary location
** testing if installed package can be loaded from final location
** testing if installed package keeps a record of temporary installation path

install for x64

* installing *source* package 'biomaRt' ...
** testing if installed package can be loaded
* MD5 sums
packaged installation of 'biomaRt' as biomaRt_2.49.7.zip
* DONE (biomaRt)
* installing to library 'D:/biocbuild/bbs-3.14-bioc/R/library'
package 'biomaRt' successfully unpacked and MD5 sums checked

Tests output

biomaRt.Rcheck/tests_i386/testthat.Rout


R version 4.1.1 (2021-08-10) -- "Kick Things"
Copyright (C) 2021 The R Foundation for Statistical Computing
Platform: i386-w64-mingw32/i386 (32-bit)

R is free software and comes with ABSOLUTELY NO WARRANTY.
You are welcome to redistribute it under certain conditions.
Type 'license()' or 'licence()' for distribution details.

R is a collaborative project with many contributors.
Type 'contributors()' for more information and
'citation()' on how to cite R or R packages in publications.

Type 'demo()' for some demos, 'help()' for on-line help, or
'help.start()' for an HTML browser interface to help.
Type 'q()' to quit R.

> library(testthat)
> library(mockery)
> library(biomaRt)
> 
> test_check("biomaRt", encoding = "UTF-8")
[ FAIL 0 | WARN 5 | SKIP 0 | PASS 141 ]
> 
> proc.time()
   user  system elapsed 
  16.20    0.54   57.98 

biomaRt.Rcheck/tests_x64/testthat.Rout


R version 4.1.1 (2021-08-10) -- "Kick Things"
Copyright (C) 2021 The R Foundation for Statistical Computing
Platform: x86_64-w64-mingw32/x64 (64-bit)

R is free software and comes with ABSOLUTELY NO WARRANTY.
You are welcome to redistribute it under certain conditions.
Type 'license()' or 'licence()' for distribution details.

R is a collaborative project with many contributors.
Type 'contributors()' for more information and
'citation()' on how to cite R or R packages in publications.

Type 'demo()' for some demos, 'help()' for on-line help, or
'help.start()' for an HTML browser interface to help.
Type 'q()' to quit R.

> library(testthat)
> library(mockery)
> library(biomaRt)
> 
> test_check("biomaRt", encoding = "UTF-8")
[ FAIL 0 | WARN 5 | SKIP 0 | PASS 141 ]
> 
> proc.time()
   user  system elapsed 
  15.48    0.64  149.48 

Example timings

biomaRt.Rcheck/examples_i386/biomaRt-Ex.timings

nameusersystemelapsed
NP2009code000
attributePages000
exportFASTA000
filterType000
getBM000
getGene000
getLDS000
getSequence000
listAttributes000
listDatasets000
listEnsembl000
listEnsemblArchives0.110.010.56
listFilterValues000
listFilters000
listMarts000
select000
useDataset000
useEnsembl000
useMart000

biomaRt.Rcheck/examples_x64/biomaRt-Ex.timings

nameusersystemelapsed
NP2009code000
attributePages000
exportFASTA000
filterType000
getBM000
getGene000
getLDS000
getSequence000
listAttributes000
listDatasets000
listEnsembl000
listEnsemblArchives0.080.000.52
listFilterValues000
listFilters000
listMarts000
select000
useDataset000
useEnsembl000
useMart000