Back to Multiple platform build/check report for BioC 3.14
A[B]CDEFGHIJKLMNOPQRSTUVWXYZ

This page was generated on 2021-10-23 14:06:19 -0400 (Sat, 23 Oct 2021).

BUILD BIN results for biomaRt on riesling1

To the developers/maintainers of the biomaRt package:
- Please allow up to 24 hours (and sometimes 48 hours) for your latest push to git@git.bioconductor.org:packages/biomaRt.git to
reflect on this report. See How and When does the builder pull? When will my changes propagate? here for more information.
- Make sure to use the following settings in order to reproduce any error or warning you see on this page.

raw results

Package 182/2083HostnameOS / ArchINSTALLBUILDCHECKBUILD BIN
biomaRt 2.49.7  (landing page)
Mike Smith
Snapshot Date: 2021-10-22 14:50:11 -0400 (Fri, 22 Oct 2021)
git_url: https://git.bioconductor.org/packages/biomaRt
git_branch: master
git_last_commit: e0b0a39
git_last_commit_date: 2021-10-19 08:54:33 -0400 (Tue, 19 Oct 2021)
nebbiolo2Linux (Ubuntu 20.04.2 LTS) / x86_64  OK    OK    OK  UNNEEDED, same version is already published
riesling1Windows Server 2019 Standard / x64  OK    OK    OK    OK  UNNEEDED, same version is already published
merida1macOS 10.14.6 Mojave / x86_64  OK    OK    OK    OK  UNNEEDED, same version is already published

Summary

Package: biomaRt
Version: 2.49.7
Command: rm -rf biomaRt.buildbin-libdir && mkdir biomaRt.buildbin-libdir && D:\biocbuild\bbs-3.14-bioc\R\bin\R.exe CMD INSTALL --merge-multiarch --build --library=biomaRt.buildbin-libdir biomaRt_2.49.7.tar.gz
StartedAt: 2021-10-23 09:49:35 -0400 (Sat, 23 Oct 2021)
EndedAt: 2021-10-23 09:53:47 -0400 (Sat, 23 Oct 2021)
EllapsedTime: 251.2 seconds
RetCode: 0
Status:   OK  
PackageFile: biomaRt_2.49.7.zip
PackageFileSize: 954.2 KiB

Command output

##############################################################################
##############################################################################
###
### Running command:
###
###   rm -rf biomaRt.buildbin-libdir && mkdir biomaRt.buildbin-libdir && D:\biocbuild\bbs-3.14-bioc\R\bin\R.exe CMD INSTALL --merge-multiarch --build --library=biomaRt.buildbin-libdir biomaRt_2.49.7.tar.gz
###
##############################################################################
##############################################################################



install for i386

* installing *source* package 'biomaRt' ...
** using staged installation
** R
** inst
** byte-compile and prepare package for lazy loading
** help
*** installing help indices
  converting help for package 'biomaRt'
    finding HTML links ... done
    Mart-class                              html  
    NP2009code                              html  
    attributePages                          html  
    biomaRt-deprecated                      html  
    biomartCache                            html  
    exportFASTA                             html  
    filterType                              html  
    getBM                                   html  
    getGene                                 html  
    getLDS                                  html  
    getSequence                             html  
    listAttributes                          html  
    listDatasets                            html  
    listEnsembl                             html  
    listEnsemblArchives                     html  
    listFilterValues                        html  
    listFilters                             html  
    listMarts                               html  
    select                                  html  
    useDataset                              html  
    useEnsembl                              html  
    useMart                                 html  
** building package indices
** installing vignettes
** testing if installed package can be loaded from temporary location
** testing if installed package can be loaded from final location
** testing if installed package keeps a record of temporary installation path

install for x64

* installing *source* package 'biomaRt' ...
** testing if installed package can be loaded
* MD5 sums
packaged installation of 'biomaRt' as biomaRt_2.49.7.zip
* DONE (biomaRt)